Workbook

Sheet Chart
O1: Goal Seek Drag | P1: EFFR | Q1: Year
E2: Start | F2: 44197 | G2: Earliest Date Available is | J2: =Calc!Q7 -> 41444.562 | O2: 0.019039437 | P2: =AVERAGEIF(Calc!$P$7:$P$10000,Chart!$Q2,Calc!$W$7:$W$10000)/100 -> 0.01695498 | Q2: 2022
E3: End | F3: 44927 | G3: Lastest Date Available is | J3: =Calc!Q2426 -> 44953.604 | O3: 0.005628716 | P3: =AVERAGEIF(Calc!$P$7:$P$10000,Chart!$Q3,Calc!$W$7:$W$10000)/100 -> 0.00078809524 | Q3: 2021
E4: Effective Drag Annualized | F4: 0.024603345 | O4: 0.011309068 | P4: =AVERAGEIF(Calc!$P$7:$P$10000,Chart!$Q4,Calc!$W$7:$W$10000)/100 -> 0.0036280632 | Q4: 2020
E5: Return | O5: 0.056203476 | P5: =AVERAGEIF(Calc!$P$7:$P$10000,Chart!$Q5,Calc!$W$7:$W$10000)/100 -> 0.021581746 | Q5: 2019
O6: 0.014898169 | P6: =AVERAGEIF(Calc!$P$7:$P$10000,Chart!$Q6,Calc!$W$7:$W$10000)/100 -> 0.018330279 | Q6: 2018
O7: 0.010328537 | P7: =AVERAGEIF(Calc!$P$7:$P$10000,Chart!$Q7,Calc!$W$7:$W$10000)/100 -> 0.0013428571 | Q7: 2015

Sheet Calc
Y1: Leverage | Z1: 3
A6: time | B6: SPY ADJ close | C6: FEDFUNDS, FRED: Close | D6: SOFR | E6: UPRO, CBOE BZX: Close | F6: ES1!, CME_MINI: Close | G6: ES2!, CME_MINI: Close | H6: S&P 500 Dividend | I6: (1+ES2!/ES1!)^4-1+Dividend | J6: Date | K6: Days | L6: Goal Seek Daily | M6: EFFR Daily | N6: Futures/Dividend Calc Daily Fee | O6: SPY | P6: Year | Q6: Date | R6: UPRO ADJ Close | S6: 3X SPY ADJ Daily No Fee/Cost | T6: ="3X SPY ADJ daily return minus " & ROUND((1+Chart!$F$4)^(1/(365))-1,5)*100&"%" & " per calendar day." -> 3X SPY ADJ daily return minus 0.007% per calendar day. | U6: ="3X SPY ADJ daily return minus EFFR rate X2" -> 3X SPY ADJ daily return minus EFFR rate X2 | V6: ="3X SPY ADJ daily return minus 2*(ES2/ES1^4-1+Dividen) fee calc." -> 3X SPY ADJ daily return minus 2*(ES2/ES1^4-1+Dividen) fee calc. | W6: Fed Funds Most Recent | Y6: Date | Z6: UPRO ADJ Close | AA6: 3X SPY ADJ Daily No Additional Fee/Cost Subtracted | AB6: 3X SPY ADJ daily return with Goal Seek Drag | AC6: 3X SPY ADJ daily return minus daily EFFR rate X2 | AD6: 3X SPY ADJ daily return minus 2*(ES2/ES1^4-1+Dividend) fee calc. | AE6: (1+ES2!/ES1!)^4-1+S&P 500 Dividend | AF6: S&P 500 Dividend | AG6: Fed Funds
A7: 1371648600 | B7: =INDEX('Daily Data ADJ'!$1:$1048576,MATCH(Calc!$A7,'Daily Data ADJ'!$A:$A,0),MATCH("SPY, CBOE BZX: Close",'Daily Data ADJ'!$1:$1,0)) -> 136.35456 | C7: =INDEX('Daily Data ADJ'!$1:$1048576,MATCH(Calc!$A7,'Daily Data ADJ'!$A:$A,0),MATCH("EFFR, FRED: Close",'Daily Data ADJ'!$1:$1,0)) -> 0.1 | D7: =INDEX('Daily Data ADJ'!$1:$1048576,MATCH(Calc!$A7,'Daily Data ADJ'!$A:$A,1),MATCH("SOFR, FRED: Close",'Daily Data ADJ'!$1:$1,0)) -> NaN | E7: =INDEX('Daily Data ADJ'!$1:$1048576,MATCH(Calc!$A7,'Daily Data ADJ'!$A:$A,0),MATCH("UPRO, CBOE BZX: Close",'Daily Data ADJ'!$1:$1,0)) -> 5.3308093 | F7: =INDEX('Daily Data ADJ'!$1:$1048576,MATCH(Calc!$A7,'Daily Data ADJ'!$A:$A,0),MATCH("ES1!, CME_MINI: Close",'Daily Data ADJ'!$1:$1,0)) -> 1623.75 | G7: =INDEX('Daily Data ADJ'!$1:$1048576,MATCH(Calc!$A7,'Daily Data ADJ'!$A:$A,0),MATCH("ES2!, CME_MINI: Close",'Daily Data ADJ'!$1:$1,0)) -> 1617.25 | H7: =INDEX('QUANDL MULTPL SP500_DIV_YIELD_M'!$A:$G,MATCH(Calc!$A7,'QUANDL MULTPL SP500_DIV_YIELD_M'!$A:$A,1),MATCH('QUANDL MULTPL SP500_DIV_YIELD_M'!$E$1,'QUANDL MULTPL SP500_DIV_YIELD_M'!$A$1:$G$1,0)) -> 2.01 | I7: =(G7/F7)^4-1+H7/100 -> 0.0041835744 | J7: =A7/24/60/60+DATE(1970,1,1) -> 41444.562 | O7: =B7 -> 136.35456 | P7: =YEAR(Q7) -> 2013 | Q7: =J7 -> 41444.562 | R7: =IF(B8="",R6,IF(Q7>=Chart!$F$2,E7,0)) -> 0 | S7: =IF(B8="",S6,IFERROR(IF(AND(R7>0,R6=0),R7,(1+(B8/B7-1)*Calc!$Z$1)*S6),0)) -> 0 | T7: =IF(B8="",T6,IFERROR(IF(AND(R7>0,R6=0),R7,(1+(B8/B7-1)*Calc!$Z$1-L8)*T6),0)) -> 0 | U7: =IF(B8="",U6,IFERROR(IF(AND(R7>0,R6=0),R7,(1+(B8/B7-1)*Calc!$Z$1-M8*2)*U6),0)) -> 0 | V7: =IF(B8="",V6,IFERROR(IF(AND(R7>0,R6=0),R7,(1+(B8/B7-1)*Calc!$Z$1-N8*2)*V6),0)) -> 0 | W7: 0.09 | Y7: =IF(AND(Q7>=Chart!$F$2,Q7<=Chart!$F$3),Q7,#N/A) -> #N/A | Z7: =IF(AND(Q7>=Chart!$F$2,Q7<=Chart!$F$3),R7,#N/A) -> #N/A | AA7: =IF(AND(Q7>=Chart!$F$2,Q7<=Chart!$F$3),S7,#N/A) -> #N/A | AB7: =IF(AND(Q7>=Chart!$F$2,Q7<=Chart!$F$3),T7,#N/A) -> #N/A | AC7: =IF(AND(Q7>=Chart!$F$2,Q7<=Chart!$F$3),U7,#N/A) -> #N/A | AD7: =IF(AND(Q7>=Chart!$F$2,Q7<=Chart!$F$3),V7,#N/A) -> #N/A | AE7: =IF(AND(Q7>=Chart!$F$2,Q7<=Chart!$F$3),I7,#N/A) -> #N/A | AF7: =IF(AND(Q7>=Chart!$F$2,Q7<=Chart!$F$3),H7/100,#N/A) -> #N/A | AG7: =IF(AND(Q7>=Chart!$F$2,Q7<=Chart!$F$3),W7/100,#N/A) -> #N/A
A8: 1371735000 | B8: =INDEX('Daily Data ADJ'!$1:$1048576,MATCH(Calc!$A8,'Daily Data ADJ'!$A:$A,0),MATCH("SPY, CBOE BZX: Close",'Daily Data ADJ'!$1:$1,0)) -> 132.97593 | C8: =INDEX('Daily Data ADJ'!$1:$1048576,MATCH(Calc!$A8,'Daily Data ADJ'!$A:$A,0),MATCH("EFFR, FRED: Close",'Daily Data ADJ'!$1:$1,0)) -> 0.1 | D8: =INDEX('Daily Data ADJ'!$1:$1048576,MATCH(Calc!$A8,'Daily Data ADJ'!$A:$A,1),MATCH("SOFR, FRED: Close",'Daily Data ADJ'!$1:$1,0)) -> NaN | E8: =INDEX('Daily Data ADJ'!$1:$1048576,MATCH(Calc!$A8,'Daily Data ADJ'!$A:$A,0),MATCH("UPRO, CBOE BZX: Close",'Daily Data ADJ'!$1:$1,0)) -> 4.9292318 | F8: =INDEX('Daily Data ADJ'!$1:$1048576,MATCH(Calc!$A8,'Daily Data ADJ'!$A:$A,0),MATCH("ES1!, CME_MINI: Close",'Daily Data ADJ'!$1:$1,0)) -> 1584 | G8: =INDEX('Daily Data ADJ'!$1:$1048576,MATCH(Calc!$A8,'Daily Data ADJ'!$A:$A,0),MATCH("ES2!, CME_MINI: Close",'Daily Data ADJ'!$1:$1,0)) -> 1577.5 | H8: =INDEX('QUANDL MULTPL SP500_DIV_YIELD_M'!$A:$G,MATCH(Calc!$A8,'QUANDL MULTPL SP500_DIV_YIELD_M'!$A:$A,1),MATCH('QUANDL MULTPL SP500_DIV_YIELD_M'!$E$1,'QUANDL MULTPL SP500_DIV_YIELD_M'!$A$1:$G$1,0)) -> 2.01 | I8: =(G8/F8)^4-1+H8/100 -> 0.0037866165 | J8: =A8/24/60/60+DATE(1970,1,1) -> 41445.562 | K8: =J8-J7 -> 1 | L8: =(1+Chart!$F$4)^(1/(365/K8))-1 -> 6.6592785e-05 | M8: =IFERROR((1+C8/100)^(1/(365/K8))-1,M7) -> 2.7383608e-06 | N8: =(1+I8)^(1/(365/K8))-1 -> 1.0354753e-05 | O8: =O7*(B8/B7) -> 132.97593 | P8: =YEAR(Q8) -> 2013 | Q8: =J8 -> 41445.562 | R8: =IF(B9="",R7,IF(Q8>=Chart!$F$2,E8,0)) -> 0 | S8: =IF(B9="",S7,IFERROR(IF(AND(R8>0,R7=0),R8,(1+(B9/B8-1)*Calc!$Z$1)*S7),0)) -> 0 | T8: =IF(B9="",T7,IFERROR(IF(AND(R8>0,R7=0),R8,(1+(B9/B8-1)*Calc!$Z$1-L9)*T7),0)) -> 0 | U8: =IF(B9="",U7,IFERROR(IF(AND(R8>0,R7=0),R8,(1+(B9/B8-1)*Calc!$Z$1-M9*2)*U7),0)) -> 0 | V8: =IF(B9="",V7,IFERROR(IF(AND(R8>0,R7=0),R8,(1+(B9/B8-1)*Calc!$Z$1-N9*2)*V7),0)) -> 0 | W8: =IF(ISNUMBER(C8),C8,W7) -> 0.1 | Y8: =IF(AND(Q8>=Chart!$F$2,Q8<=Chart!$F$3),Q8,#N/A) -> #N/A | Z8: =IF(AND(Q8>=Chart!$F$2,Q8<=Chart!$F$3),R8,#N/A) -> #N/A | AA8: =IF(AND(Q8>=Chart!$F$2,Q8<=Chart!$F$3),S8,#N/A) -> #N/A | AB8: =IF(AND(Q8>=Chart!$F$2,Q8<=Chart!$F$3),T8,#N/A) -> #N/A | AC8: =IF(AND(Q8>=Chart!$F$2,Q8<=Chart!$F$3),U8,#N/A) -> #N/A | AD8: =IF(AND(Q8>=Chart!$F$2,Q8<=Chart!$F$3),V8,#N/A) -> #N/A | AE8: =IF(AND(Q8>=Chart!$F$2,Q8<=Chart!$F$3),I8,#N/A) -> #N/A | AF8: =IF(AND(Q8>=Chart!$F$2,Q8<=Chart!$F$3),H8/100,#N/A) -> #N/A | AG8: =IF(AND(Q8>=Chart!$F$2,Q8<=Chart!$F$3),W8/100,#N/A) -> #N/A
A9: 1371821400 | B9: =INDEX('Daily Data ADJ'!$1:$1048576,MATCH(Calc!$A9,'Daily Data ADJ'!$A:$A,0),MATCH("SPY, CBOE BZX: Close",'Daily Data ADJ'!$1:$1,0)) -> 133.40291 | C9: =INDEX('Daily Data ADJ'!$1:$1048576,MATCH(Calc!$A9,'Daily Data ADJ'!$A:$A,0),MATCH("EFFR, FRED: Close",'Daily Data ADJ'!$1:$1,0)) -> 0.1 | D9: =INDEX('Daily Data ADJ'!$1:$1048576,MATCH(Calc!$A9,'Daily Data ADJ'!$A:$A,1),MATCH("SOFR, FRED: Close",'Daily Data ADJ'!$1:$1,0)) -> NaN | E9: =INDEX('Daily Data ADJ'!$1:$1048576,MATCH(Calc!$A9,'Daily Data ADJ'!$A:$A,0),MATCH("UPRO, CBOE BZX: Close",'Daily Data ADJ'!$1:$1,0)) -> 4.9697954 | F9: =INDEX('Daily Data ADJ'!$1:$1048576,MATCH(Calc!$A9,'Daily Data ADJ'!$A:$A,0),MATCH("ES1!, CME_MINI: Close",'Daily Data ADJ'!$1:$1,0)) -> 1584 | G9: =INDEX('Daily Data ADJ'!$1:$1048576,MATCH(Calc!$A9,'Daily Data ADJ'!$A:$A,0),MATCH("ES2!, CME_MINI: Close",'Daily Data ADJ'!$1:$1,0)) -> 1577.5 | H9: =INDEX('QUANDL MULTPL SP500_DIV_YIELD_M'!$A:$G,MATCH(Calc!$A9,'QUANDL MULTPL SP500_DIV_YIELD_M'!$A:$A,1),MATCH('QUANDL MULTPL SP500_DIV_YIELD_M'!$E$1,'QUANDL MULTPL SP500_DIV_YIELD_M'!$A$1:$G$1,0)) -> 2.01 | I9: =(G9/F9)^4-1+H9/100 -> 0.0037866165 | J9: =A9/24/60/60+DATE(1970,1,1) -> 41446.562 | K9: =J9-J8 -> 1 | L9: =(1+Chart!$F$4)^(1/(365/K9))-1 -> 6.6592785e-05 | M9: =IFERROR((1+C9/100)^(1/(365/K9))-1,M8) -> 2.7383608e-06 | N9: =(1+I9)^(1/(365/K9))-1 -> 1.0354753e-05 | O9: =O8*(B9/B8) -> 133.40291 | P9: =YEAR(Q9) -> 2013 | Q9: =J9 -> 41446.562 | R9: =IF(B10="",R8,IF(Q9>=Chart!$F$2,E9,0)) -> 0 | S9: =IF(B10="",S8,IFERROR(IF(AND(R9>0,R8=0),R9,(1+(B10/B9-1)*Calc!$Z$1)*S8),0)) -> 0 | T9: =IF(B10="",T8,IFERROR(IF(AND(R9>0,R8=0),R9,(1+(B10/B9-1)*Calc!$Z$1-L10)*T8),0)) -> 0 | U9: =IF(B10="",U8,IFERROR(IF(AND(R9>0,R8=0),R9,(1+(B10/B9-1)*Calc!$Z$1-M10*2)*U8),0)) -> 0 | V9: =IF(B10="",V8,IFERROR(IF(AND(R9>0,R8=0),R9,(1+(B10/B9-1)*Calc!$Z$1-N10*2)*V8),0)) -> 0 | W9: =IF(ISNUMBER(C9),C9,W8) -> 0.1 | Y9: =IF(AND(Q9>=Chart!$F$2,Q9<=Chart!$F$3),Q9,#N/A) -> #N/A | Z9: =IF(AND(Q9>=Chart!$F$2,Q9<=Chart!$F$3),R9,#N/A) -> #N/A | AA9: =IF(AND(Q9>=Chart!$F$2,Q9<=Chart!$F$3),S9,#N/A) -> #N/A | AB9: =IF(AND(Q9>=Chart!$F$2,Q9<=Chart!$F$3),T9,#N/A) -> #N/A | AC9: =IF(AND(Q9>=Chart!$F$2,Q9<=Chart!$F$3),U9,#N/A) -> #N/A | AD9: =IF(AND(Q9>=Chart!$F$2,Q9<=Chart!$F$3),V9,#N/A) -> #N/A | AE9: =IF(AND(Q9>=Chart!$F$2,Q9<=Chart!$F$3),I9,#N/A) -> #N/A | AF9: =IF(AND(Q9>=Chart!$F$2,Q9<=Chart!$F$3),H9/100,#N/A) -> #N/A | AG9: =IF(AND(Q9>=Chart!$F$2,Q9<=Chart!$F$3),W9/100,#N/A) -> #N/A
A10: 1372080600 | B10: =INDEX('Daily Data ADJ'!$1:$1048576,MATCH(Calc!$A10,'Daily Data ADJ'!$A:$A,0),MATCH("SPY, CBOE BZX: Close",'Daily Data ADJ'!$1:$1,0)) -> 131.71723 | C10: =INDEX('Daily Data ADJ'!$1:$1048576,MATCH(Calc!$A10,'Daily Data ADJ'!$A:$A,0),MATCH("EFFR, FRED: Close",'Daily Data ADJ'!$1:$1,0)) -> 0.1 | D10: =INDEX('Daily Data ADJ'!$1:$1048576,MATCH(Calc!$A10,'Daily Data ADJ'!$A:$A,1),MATCH("SOFR, FRED: Close",'Daily Data ADJ'!$1:$1,0)) -> NaN | E10: =INDEX('Daily Data ADJ'!$1:$1048576,MATCH(Calc!$A10,'Daily Data ADJ'!$A:$A,0),MATCH("UPRO, CBOE BZX: Close",'Daily Data ADJ'!$1:$1,0)) -> 4.7832063 | F10: =INDEX('Daily Data ADJ'!$1:$1048576,MATCH(Calc!$A10,'Daily Data ADJ'!$A:$A,0),MATCH("ES1!, CME_MINI: Close",'Daily Data ADJ'!$1:$1,0)) -> 1566.25 | G10: =INDEX('Daily Data ADJ'!$1:$1048576,MATCH(Calc!$A10,'Daily Data ADJ'!$A:$A,0),MATCH("ES2!, CME_MINI: Close",'Daily Data ADJ'!$1:$1,0)) -> 1559.75 | H10: =INDEX('QUANDL MULTPL SP500_DIV_YIELD_M'!$A:$G,MATCH(Calc!$A10,'QUANDL MULTPL SP500_DIV_YIELD_M'!$A:$A,1),MATCH('QUANDL MULTPL SP500_DIV_YIELD_M'!$E$1,'QUANDL MULTPL SP500_DIV_YIELD_M'!$A$1:$G$1,0)) -> 2.01 | I10: =(G10/F10)^4-1+H10/100 -> 0.0036028918 | J10: =A10/24/60/60+DATE(1970,1,1) -> 41449.562 | K10: =J10-J9 -> 3 | L10: =(1+Chart!$F$4)^(1/(365/K10))-1 -> 0.00019979166 | M10: =IFERROR((1+C10/100)^(1/(365/K10))-1,M9) -> 8.215105e-06 | N10: =(1+I10)^(1/(365/K10))-1 -> 2.9560028e-05 | O10: =O9*(B10/B9) -> 131.71723 | P10: =YEAR(Q10) -> 2013 | Q10: =J10 -> 41449.562 | R10: =IF(B11="",R9,IF(Q10>=Chart!$F$2,E10,0)) -> 0 | S10: =IF(B11="",S9,IFERROR(IF(AND(R10>0,R9=0),R10,(1+(B11/B10-1)*Calc!$Z$1)*S9),0)) -> 0 | T10: =IF(B11="",T9,IFERROR(IF(AND(R10>0,R9=0),R10,(1+(B11/B10-1)*Calc!$Z$1-L11)*T9),0)) -> 0 | U10: =IF(B11="",U9,IFERROR(IF(AND(R10>0,R9=0),R10,(1+(B11/B10-1)*Calc!$Z$1-M11*2)*U9),0)) -> 0 | V10: =IF(B11="",V9,IFERROR(IF(AND(R10>0,R9=0),R10,(1+(B11/B10-1)*Calc!$Z$1-N11*2)*V9),0)) -> 0 | W10: =IF(ISNUMBER(C10),C10,W9) -> 0.1 | Y10: =IF(AND(Q10>=Chart!$F$2,Q10<=Chart!$F$3),Q10,#N/A) -> #N/A | Z10: =IF(AND(Q10>=Chart!$F$2,Q10<=Chart!$F$3),R10,#N/A) -> #N/A | AA10: =IF(AND(Q10>=Chart!$F$2,Q10<=Chart!$F$3),S10,#N/A) -> #N/A | AB10: =IF(AND(Q10>=Chart!$F$2,Q10<=Chart!$F$3),T10,#N/A) -> #N/A | AC10: =IF(AND(Q10>=Chart!$F$2,Q10<=Chart!$F$3),U10,#N/A) -> #N/A | AD10: =IF(AND(Q10>=Chart!$F$2,Q10<=Chart!$F$3),V10,#N/A) -> #N/A | AE10: =IF(AND(Q10>=Chart!$F$2,Q10<=Chart!$F$3),I10,#N/A) -> #N/A | AF10: =IF(AND(Q10>=Chart!$F$2,Q10<=Chart!$F$3),H10/100,#N/A) -> #N/A | AG10: =IF(AND(Q10>=Chart!$F$2,Q10<=Chart!$F$3),W10/100,#N/A) -> #N/A
A11: 1372167000 | B11: =INDEX('Daily Data ADJ'!$1:$1048576,MATCH(Calc!$A11,'Daily Data ADJ'!$A:$A,0),MATCH("SPY, CBOE BZX: Close",'Daily Data ADJ'!$1:$1,0)) -> 132.98778 | C11: =INDEX('Daily Data ADJ'!$1:$1048576,MATCH(Calc!$A11,'Daily Data ADJ'!$A:$A,0),MATCH("EFFR, FRED: Close",'Daily Data ADJ'!$1:$1,0)) -> 0.09 | D11: =INDEX('Daily Data ADJ'!$1:$1048576,MATCH(Calc!$A11,'Daily Data ADJ'!$A:$A,1),MATCH("SOFR, FRED: Close",'Daily Data ADJ'!$1:$1,0)) -> NaN | E11: =INDEX('Daily Data ADJ'!$1:$1048576,MATCH(Calc!$A11,'Daily Data ADJ'!$A:$A,0),MATCH("UPRO, CBOE BZX: Close",'Daily Data ADJ'!$1:$1,0)) -> 4.9266774 | F11: =INDEX('Daily Data ADJ'!$1:$1048576,MATCH(Calc!$A11,'Daily Data ADJ'!$A:$A,0),MATCH("ES1!, CME_MINI: Close",'Daily Data ADJ'!$1:$1,0)) -> 1581.5 | G11: =INDEX('Daily Data ADJ'!$1:$1048576,MATCH(Calc!$A11,'Daily Data ADJ'!$A:$A,0),MATCH("ES2!, CME_MINI: Close",'Daily Data ADJ'!$1:$1,0)) -> 1575 | H11: =INDEX('QUANDL MULTPL SP500_DIV_YIELD_M'!$A:$G,MATCH(Calc!$A11,'QUANDL MULTPL SP500_DIV_YIELD_M'!$A:$A,1),MATCH('QUANDL MULTPL SP500_DIV_YIELD_M'!$E$1,'QUANDL MULTPL SP500_DIV_YIELD_M'!$A$1:$G$1,0)) -> 2.01 | I11: =(G11/F11)^4-1+H11/100 -> 0.0037609877 | J11: =A11/24/60/60+DATE(1970,1,1) -> 41450.562 | K11: =J11-J10 -> 1 | L11: =(1+Chart!$F$4)^(1/(365/K11))-1 -> 6.6592785e-05 | M11: =IFERROR((1+C11/100)^(1/(365/K11))-1,M10) -> 2.4646475e-06 | N11: =(1+I11)^(1/(365/K11))-1 -> 1.0284801e-05 | O11: =O10*(B11/B10) -> 132.98778 | P11: =YEAR(Q11) -> 2013 | Q11: =J11 -> 41450.562 | R11: =IF(B12="",R10,IF(Q11>=Chart!$F$2,E11,0)) -> 0 | S11: =IF(B12="",S10,IFERROR(IF(AND(R11>0,R10=0),R11,(1+(B12/B11-1)*Calc!$Z$1)*S10),0)) -> 0 | T11: =IF(B12="",T10,IFERROR(IF(AND(R11>0,R10=0),R11,(1+(B12/B11-1)*Calc!$Z$1-L12)*T10),0)) -> 0 | U11: =IF(B12="",U10,IFERROR(IF(AND(R11>0,R10=0),R11,(1+(B12/B11-1)*Calc!$Z$1-M12*2)*U10),0)) -> 0 | V11: =IF(B12="",V10,IFERROR(IF(AND(R11>0,R10=0),R11,(1+(B12/B11-1)*Calc!$Z$1-N12*2)*V10),0)) -> 0 | W11: =IF(ISNUMBER(C11),C11,W10) -> 0.09 | Y11: =IF(AND(Q11>=Chart!$F$2,Q11<=Chart!$F$3),Q11,#N/A) -> #N/A | Z11: =IF(AND(Q11>=Chart!$F$2,Q11<=Chart!$F$3),R11,#N/A) -> #N/A | AA11: =IF(AND(Q11>=Chart!$F$2,Q11<=Chart!$F$3),S11,#N/A) -> #N/A | AB11: =IF(AND(Q11>=Chart!$F$2,Q11<=Chart!$F$3),T11,#N/A) -> #N/A | AC11: =IF(AND(Q11>=Chart!$F$2,Q11<=Chart!$F$3),U11,#N/A) -> #N/A | AD11: =IF(AND(Q11>=Chart!$F$2,Q11<=Chart!$F$3),V11,#N/A) -> #N/A | AE11: =IF(AND(Q11>=Chart!$F$2,Q11<=Chart!$F$3),I11,#N/A) -> #N/A | AF11: =IF(AND(Q11>=Chart!$F$2,Q11<=Chart!$F$3),H11/100,#N/A) -> #N/A | AG11: =IF(AND(Q11>=Chart!$F$2,Q11<=Chart!$F$3),W11/100,#N/A) -> #N/A
A12: 1372253400 | B12: =INDEX('Daily Data ADJ'!$1:$1048576,MATCH(Calc!$A12,'Daily Data ADJ'!$A:$A,0),MATCH("SPY, CBOE BZX: Close",'Daily Data ADJ'!$1:$1,0)) -> 134.30025 | C12: =INDEX('Daily Data ADJ'!$1:$1048576,MATCH(Calc!$A12,'Daily Data ADJ'!$A:$A,0),MATCH("EFFR, FRED: Close",'Daily Data ADJ'!$1:$1,0)) -> 0.09 | D12: =INDEX('Daily Data ADJ'!$1:$1048576,MATCH(Calc!$A12,'Daily Data ADJ'!$A:$A,1),MATCH("SOFR, FRED: Close",'Daily Data ADJ'!$1:$1,0)) -> NaN | E12: =INDEX('Daily Data ADJ'!$1:$1048576,MATCH(Calc!$A12,'Daily Data ADJ'!$A:$A,0),MATCH("UPRO, CBOE BZX: Close",'Daily Data ADJ'!$1:$1,0)) -> 5.0659621 | F12: =INDEX('Daily Data ADJ'!$1:$1048576,MATCH(Calc!$A12,'Daily Data ADJ'!$A:$A,0),MATCH("ES1!, CME_MINI: Close",'Daily Data ADJ'!$1:$1,0)) -> 1595.5 | G12: =INDEX('Daily Data ADJ'!$1:$1048576,MATCH(Calc!$A12,'Daily Data ADJ'!$A:$A,0),MATCH("ES2!, CME_MINI: Close",'Daily Data ADJ'!$1:$1,0)) -> 1589.25 | H12: =INDEX('QUANDL MULTPL SP500_DIV_YIELD_M'!$A:$G,MATCH(Calc!$A12,'QUANDL MULTPL SP500_DIV_YIELD_M'!$A:$A,1),MATCH('QUANDL MULTPL SP500_DIV_YIELD_M'!$E$1,'QUANDL MULTPL SP500_DIV_YIELD_M'!$A$1:$G$1,0)) -> 2.01 | I12: =(G12/F12)^4-1+H12/100 -> 0.0045227604 | J12: =A12/24/60/60+DATE(1970,1,1) -> 41451.562 | K12: =J12-J11 -> 1 | L12: =(1+Chart!$F$4)^(1/(365/K12))-1 -> 6.6592785e-05 | M12: =IFERROR((1+C12/100)^(1/(365/K12))-1,M11) -> 2.4646475e-06 | N12: =(1+I12)^(1/(365/K12))-1 -> 1.2363264e-05 | O12: =O11*(B12/B11) -> 134.30025 | P12: =YEAR(Q12) -> 2013 | Q12: =J12 -> 41451.562 | R12: =IF(B13="",R11,IF(Q12>=Chart!$F$2,E12,0)) -> 0 | S12: =IF(B13="",S11,IFERROR(IF(AND(R12>0,R11=0),R12,(1+(B13/B12-1)*Calc!$Z$1)*S11),0)) -> 0 | T12: =IF(B13="",T11,IFERROR(IF(AND(R12>0,R11=0),R12,(1+(B13/B12-1)*Calc!$Z$1-L13)*T11),0)) -> 0 | U12: =IF(B13="",U11,IFERROR(IF(AND(R12>0,R11=0),R12,(1+(B13/B12-1)*Calc!$Z$1-M13*2)*U11),0)) -> 0 | V12: =IF(B13="",V11,IFERROR(IF(AND(R12>0,R11=0),R12,(1+(B13/B12-1)*Calc!$Z$1-N13*2)*V11),0)) -> 0 | W12: =IF(ISNUMBER(C12),C12,W11) -> 0.09 | Y12: =IF(AND(Q12>=Chart!$F$2,Q12<=Chart!$F$3),Q12,#N/A) -> #N/A | Z12: =IF(AND(Q12>=Chart!$F$2,Q12<=Chart!$F$3),R12,#N/A) -> #N/A | AA12: =IF(AND(Q12>=Chart!$F$2,Q12<=Chart!$F$3),S12,#N/A) -> #N/A | AB12: =IF(AND(Q12>=Chart!$F$2,Q12<=Chart!$F$3),T12,#N/A) -> #N/A | AC12: =IF(AND(Q12>=Chart!$F$2,Q12<=Chart!$F$3),U12,#N/A) -> #N/A | AD12: =IF(AND(Q12>=Chart!$F$2,Q12<=Chart!$F$3),V12,#N/A) -> #N/A | AE12: =IF(AND(Q12>=Chart!$F$2,Q12<=Chart!$F$3),I12,#N/A) -> #N/A | AF12: =IF(AND(Q12>=Chart!$F$2,Q12<=Chart!$F$3),H12/100,#N/A) -> #N/A | AG12: =IF(AND(Q12>=Chart!$F$2,Q12<=Chart!$F$3),W12/100,#N/A) -> #N/A
A13: 1372339800 | B13: =INDEX('Daily Data ADJ'!$1:$1048576,MATCH(Calc!$A13,'Daily Data ADJ'!$A:$A,0),MATCH("SPY, CBOE BZX: Close",'Daily Data ADJ'!$1:$1,0)) -> 135.08858 | C13: =INDEX('Daily Data ADJ'!$1:$1048576,MATCH(Calc!$A13,'Daily Data ADJ'!$A:$A,0),MATCH("EFFR, FRED: Close",'Daily Data ADJ'!$1:$1,0)) -> 0.09 | D13: =INDEX('Daily Data ADJ'!$1:$1048576,MATCH(Calc!$A13,'Daily Data ADJ'!$A:$A,1),MATCH("SOFR, FRED: Close",'Daily Data ADJ'!$1:$1,0)) -> NaN | E13: =INDEX('Daily Data ADJ'!$1:$1048576,MATCH(Calc!$A13,'Daily Data ADJ'!$A:$A,0),MATCH("UPRO, CBOE BZX: Close",'Daily Data ADJ'!$1:$1,0)) -> 5.162542 | F13: =INDEX('Daily Data ADJ'!$1:$1048576,MATCH(Calc!$A13,'Daily Data ADJ'!$A:$A,0),MATCH("ES1!, CME_MINI: Close",'Daily Data ADJ'!$1:$1,0)) -> 1606.5 | G13: =INDEX('Daily Data ADJ'!$1:$1048576,MATCH(Calc!$A13,'Daily Data ADJ'!$A:$A,0),MATCH("ES2!, CME_MINI: Close",'Daily Data ADJ'!$1:$1,0)) -> 1600.25 | H13: =INDEX('QUANDL MULTPL SP500_DIV_YIELD_M'!$A:$G,MATCH(Calc!$A13,'QUANDL MULTPL SP500_DIV_YIELD_M'!$A:$A,1),MATCH('QUANDL MULTPL SP500_DIV_YIELD_M'!$E$1,'QUANDL MULTPL SP500_DIV_YIELD_M'!$A$1:$G$1,0)) -> 2.01 | I13: =(G13/F13)^4-1+H13/100 -> 0.0046287978 | J13: =A13/24/60/60+DATE(1970,1,1) -> 41452.562 | K13: =J13-J12 -> 1 | L13: =(1+Chart!$F$4)^(1/(365/K13))-1 -> 6.6592785e-05 | M13: =IFERROR((1+C13/100)^(1/(365/K13))-1,M12) -> 2.4646475e-06 | N13: =(1+I13)^(1/(365/K13))-1 -> 1.2652458e-05 | O13: =O12*(B13/B12) -> 135.08858 | P13: =YEAR(Q13) -> 2013 | Q13: =J13 -> 41452.562 | R13: =IF(B14="",R12,IF(Q13>=Chart!$F$2,E13,0)) -> 0 | S13: =IF(B14="",S12,IFERROR(IF(AND(R13>0,R12=0),R13,(1+(B14/B13-1)*Calc!$Z$1)*S12),0)) -> 0 | T13: =IF(B14="",T12,IFERROR(IF(AND(R13>0,R12=0),R13,(1+(B14/B13-1)*Calc!$Z$1-L14)*T12),0)) -> 0 | U13: =IF(B14="",U12,IFERROR(IF(AND(R13>0,R12=0),R13,(1+(B14/B13-1)*Calc!$Z$1-M14*2)*U12),0)) -> 0 | V13: =IF(B14="",V12,IFERROR(IF(AND(R13>0,R12=0),R13,(1+(B14/B13-1)*Calc!$Z$1-N14*2)*V12),0)) -> 0 | W13: =IF(ISNUMBER(C13),C13,W12) -> 0.09 | Y13: =IF(AND(Q13>=Chart!$F$2,Q13<=Chart!$F$3),Q13,#N/A) -> #N/A | Z13: =IF(AND(Q13>=Chart!$F$2,Q13<=Chart!$F$3),R13,#N/A) -> #N/A | AA13: =IF(AND(Q13>=Chart!$F$2,Q13<=Chart!$F$3),S13,#N/A) -> #N/A | AB13: =IF(AND(Q13>=Chart!$F$2,Q13<=Chart!$F$3),T13,#N/A) -> #N/A | AC13: =IF(AND(Q13>=Chart!$F$2,Q13<=Chart!$F$3),U13,#N/A) -> #N/A | AD13: =IF(AND(Q13>=Chart!$F$2,Q13<=Chart!$F$3),V13,#N/A) -> #N/A | AE13: =IF(AND(Q13>=Chart!$F$2,Q13<=Chart!$F$3),I13,#N/A) -> #N/A | AF13: =IF(AND(Q13>=Chart!$F$2,Q13<=Chart!$F$3),H13/100,#N/A) -> #N/A | AG13: =IF(AND(Q13>=Chart!$F$2,Q13<=Chart!$F$3),W13/100,#N/A) -> #N/A
A14: 1372426200 | B14: =INDEX('Daily Data ADJ'!$1:$1048576,MATCH(Calc!$A14,'Daily Data ADJ'!$A:$A,0),MATCH("SPY, CBOE BZX: Close",'Daily Data ADJ'!$1:$1,0)) -> 134.53507 | C14: =INDEX('Daily Data ADJ'!$1:$1048576,MATCH(Calc!$A14,'Daily Data ADJ'!$A:$A,0),MATCH("EFFR, FRED: Close",'Daily Data ADJ'!$1:$1,0)) -> 0.07 | D14: =INDEX('Daily Data ADJ'!$1:$1048576,MATCH(Calc!$A14,'Daily Data ADJ'!$A:$A,1),MATCH("SOFR, FRED: Close",'Daily Data ADJ'!$1:$1,0)) -> NaN | E14: =INDEX('Daily Data ADJ'!$1:$1048576,MATCH(Calc!$A14,'Daily Data ADJ'!$A:$A,0),MATCH("UPRO, CBOE BZX: Close",'Daily Data ADJ'!$1:$1,0)) -> 5.0692101 | F14: =INDEX('Daily Data ADJ'!$1:$1048576,MATCH(Calc!$A14,'Daily Data ADJ'!$A:$A,0),MATCH("ES1!, CME_MINI: Close",'Daily Data ADJ'!$1:$1,0)) -> 1599.25 | G14: =INDEX('Daily Data ADJ'!$1:$1048576,MATCH(Calc!$A14,'Daily Data ADJ'!$A:$A,0),MATCH("ES2!, CME_MINI: Close",'Daily Data ADJ'!$1:$1,0)) -> 1593 | H14: =INDEX('QUANDL MULTPL SP500_DIV_YIELD_M'!$A:$G,MATCH(Calc!$A14,'QUANDL MULTPL SP500_DIV_YIELD_M'!$A:$A,1),MATCH('QUANDL MULTPL SP500_DIV_YIELD_M'!$E$1,'QUANDL MULTPL SP500_DIV_YIELD_M'!$A$1:$G$1,0)) -> 2.01 | I14: =(G14/F14)^4-1+H14/100 -> 0.0045590725 | J14: =A14/24/60/60+DATE(1970,1,1) -> 41453.562 | K14: =J14-J13 -> 1 | L14: =(1+Chart!$F$4)^(1/(365/K14))-1 -> 6.6592785e-05 | M14: =IFERROR((1+C14/100)^(1/(365/K14))-1,M13) -> 1.9171391e-06 | N14: =(1+I14)^(1/(365/K14))-1 -> 1.2462301e-05 | O14: =O13*(B14/B13) -> 134.53507 | P14: =YEAR(Q14) -> 2013 | Q14: =J14 -> 41453.562 | R14: =IF(B15="",R13,IF(Q14>=Chart!$F$2,E14,0)) -> 0 | S14: =IF(B15="",S13,IFERROR(IF(AND(R14>0,R13=0),R14,(1+(B15/B14-1)*Calc!$Z$1)*S13),0)) -> 0 | T14: =IF(B15="",T13,IFERROR(IF(AND(R14>0,R13=0),R14,(1+(B15/B14-1)*Calc!$Z$1-L15)*T13),0)) -> 0 | U14: =IF(B15="",U13,IFERROR(IF(AND(R14>0,R13=0),R14,(1+(B15/B14-1)*Calc!$Z$1-M15*2)*U13),0)) -> 0 | V14: =IF(B15="",V13,IFERROR(IF(AND(R14>0,R13=0),R14,(1+(B15/B14-1)*Calc!$Z$1-N15*2)*V13),0)) -> 0 | W14: =IF(ISNUMBER(C14),C14,W13) -> 0.07 | Y14: =IF(AND(Q14>=Chart!$F$2,Q14<=Chart!$F$3),Q14,#N/A) -> #N/A | Z14: =IF(AND(Q14>=Chart!$F$2,Q14<=Chart!$F$3),R14,#N/A) -> #N/A | AA14: =IF(AND(Q14>=Chart!$F$2,Q14<=Chart!$F$3),S14,#N/A) -> #N/A | AB14: =IF(AND(Q14>=Chart!$F$2,Q14<=Chart!$F$3),T14,#N/A) -> #N/A | AC14: =IF(AND(Q14>=Chart!$F$2,Q14<=Chart!$F$3),U14,#N/A) -> #N/A | AD14: =IF(AND(Q14>=Chart!$F$2,Q14<=Chart!$F$3),V14,#N/A) -> #N/A | AE14: =IF(AND(Q14>=Chart!$F$2,Q14<=Chart!$F$3),I14,#N/A) -> #N/A | AF14: =IF(AND(Q14>=Chart!$F$2,Q14<=Chart!$F$3),H14/100,#N/A) -> #N/A | AG14: =IF(AND(Q14>=Chart!$F$2,Q14<=Chart!$F$3),W14/100,#N/A) -> #N/A
A15: 1372685400 | B15: =INDEX('Daily Data ADJ'!$1:$1048576,MATCH(Calc!$A15,'Daily Data ADJ'!$A:$A,0),MATCH("SPY, CBOE BZX: Close",'Daily Data ADJ'!$1:$1,0)) -> 135.3234 | C15: =INDEX('Daily Data ADJ'!$1:$1048576,MATCH(Calc!$A15,'Daily Data ADJ'!$A:$A,0),MATCH("EFFR, FRED: Close",'Daily Data ADJ'!$1:$1,0)) -> 0.1 | D15: =INDEX('Daily Data ADJ'!$1:$1048576,MATCH(Calc!$A15,'Daily Data ADJ'!$A:$A,1),MATCH("SOFR, FRED: Close",'Daily Data ADJ'!$1:$1,0)) -> NaN | E15: =INDEX('Daily Data ADJ'!$1:$1048576,MATCH(Calc!$A15,'Daily Data ADJ'!$A:$A,0),MATCH("UPRO, CBOE BZX: Close",'Daily Data ADJ'!$1:$1,0)) -> 5.1844551 | F15: =INDEX('Daily Data ADJ'!$1:$1048576,MATCH(Calc!$A15,'Daily Data ADJ'!$A:$A,0),MATCH("ES1!, CME_MINI: Close",'Daily Data ADJ'!$1:$1,0)) -> 1606.75 | G15: =INDEX('Daily Data ADJ'!$1:$1048576,MATCH(Calc!$A15,'Daily Data ADJ'!$A:$A,0),MATCH("ES2!, CME_MINI: Close",'Daily Data ADJ'!$1:$1,0)) -> 1600.5 | H15: =INDEX('QUANDL MULTPL SP500_DIV_YIELD_M'!$A:$G,MATCH(Calc!$A15,'QUANDL MULTPL SP500_DIV_YIELD_M'!$A:$A,1),MATCH('QUANDL MULTPL SP500_DIV_YIELD_M'!$E$1,'QUANDL MULTPL SP500_DIV_YIELD_M'!$A$1:$G$1,0)) -> 2.06 | I15: =(G15/F15)^4-1+H15/100 -> 0.005131191 | J15: =A15/24/60/60+DATE(1970,1,1) -> 41456.562 | K15: =J15-J14 -> 3 | L15: =(1+Chart!$F$4)^(1/(365/K15))-1 -> 0.00019979166 | M15: =IFERROR((1+C15/100)^(1/(365/K15))-1,M14) -> 8.215105e-06 | N15: =(1+I15)^(1/(365/K15))-1 -> 4.2067224e-05 | O15: =O14*(B15/B14) -> 135.3234 | P15: =YEAR(Q15) -> 2013 | Q15: =J15 -> 41456.562 | R15: =IF(B16="",R14,IF(Q15>=Chart!$F$2,E15,0)) -> 0 | S15: =IF(B16="",S14,IFERROR(IF(AND(R15>0,R14=0),R15,(1+(B16/B15-1)*Calc!$Z$1)*S14),0)) -> 0 | T15: =IF(B16="",T14,IFERROR(IF(AND(R15>0,R14=0),R15,(1+(B16/B15-1)*Calc!$Z$1-L16)*T14),0)) -> 0 | U15: =IF(B16="",U14,IFERROR(IF(AND(R15>0,R14=0),R15,(1+(B16/B15-1)*Calc!$Z$1-M16*2)*U14),0)) -> 0 | V15: =IF(B16="",V14,IFERROR(IF(AND(R15>0,R14=0),R15,(1+(B16/B15-1)*Calc!$Z$1-N16*2)*V14),0)) -> 0 | W15: =IF(ISNUMBER(C15),C15,W14) -> 0.1 | Y15: =IF(AND(Q15>=Chart!$F$2,Q15<=Chart!$F$3),Q15,#N/A) -> #N/A | Z15: =IF(AND(Q15>=Chart!$F$2,Q15<=Chart!$F$3),R15,#N/A) -> #N/A | AA15: =IF(AND(Q15>=Chart!$F$2,Q15<=Chart!$F$3),S15,#N/A) -> #N/A | AB15: =IF(AND(Q15>=Chart!$F$2,Q15<=Chart!$F$3),T15,#N/A) -> #N/A | AC15: =IF(AND(Q15>=Chart!$F$2,Q15<=Chart!$F$3),U15,#N/A) -> #N/A | AD15: =IF(AND(Q15>=Chart!$F$2,Q15<=Chart!$F$3),V15,#N/A) -> #N/A | AE15: =IF(AND(Q15>=Chart!$F$2,Q15<=Chart!$F$3),I15,#N/A) -> #N/A | AF15: =IF(AND(Q15>=Chart!$F$2,Q15<=Chart!$F$3),H15/100,#N/A) -> #N/A | AG15: =IF(AND(Q15>=Chart!$F$2,Q15<=Chart!$F$3),W15/100,#N/A) -> #N/A
A16: 1372771800 | B16: =INDEX('Daily Data ADJ'!$1:$1048576,MATCH(Calc!$A16,'Daily Data ADJ'!$A:$A,0),MATCH("SPY, CBOE BZX: Close",'Daily Data ADJ'!$1:$1,0)) -> 135.19761 | C16: =INDEX('Daily Data ADJ'!$1:$1048576,MATCH(Calc!$A16,'Daily Data ADJ'!$A:$A,0),MATCH("EFFR, FRED: Close",'Daily Data ADJ'!$1:$1,0)) -> 0.1 | D16: =INDEX('Daily Data ADJ'!$1:$1048576,MATCH(Calc!$A16,'Daily Data ADJ'!$A:$A,1),MATCH("SOFR, FRED: Close",'Daily Data ADJ'!$1:$1,0)) -> NaN | E16: =INDEX('Daily Data ADJ'!$1:$1048576,MATCH(Calc!$A16,'Daily Data ADJ'!$A:$A,0),MATCH("UPRO, CBOE BZX: Close",'Daily Data ADJ'!$1:$1,0)) -> 5.1641655 | F16: =INDEX('Daily Data ADJ'!$1:$1048576,MATCH(Calc!$A16,'Daily Data ADJ'!$A:$A,0),MATCH("ES1!, CME_MINI: Close",'Daily Data ADJ'!$1:$1,0)) -> 1607.25 | G16: =INDEX('Daily Data ADJ'!$1:$1048576,MATCH(Calc!$A16,'Daily Data ADJ'!$A:$A,0),MATCH("ES2!, CME_MINI: Close",'Daily Data ADJ'!$1:$1,0)) -> 1601 | H16: =INDEX('QUANDL MULTPL SP500_DIV_YIELD_M'!$A:$G,MATCH(Calc!$A16,'QUANDL MULTPL SP500_DIV_YIELD_M'!$A:$A,1),MATCH('QUANDL MULTPL SP500_DIV_YIELD_M'!$E$1,'QUANDL MULTPL SP500_DIV_YIELD_M'!$A$1:$G$1,0)) -> 2.06 | I16: =(G16/F16)^4-1+H16/100 -> 0.0051359751 | J16: =A16/24/60/60+DATE(1970,1,1) -> 41457.562 | K16: =J16-J15 -> 1 | L16: =(1+Chart!$F$4)^(1/(365/K16))-1 -> 6.6592785e-05 | M16: =IFERROR((1+C16/100)^(1/(365/K16))-1,M15) -> 2.7383608e-06 | N16: =(1+I16)^(1/(365/K16))-1 -> 1.4035252e-05 | O16: =O15*(B16/B15) -> 135.19761 | P16: =YEAR(Q16) -> 2013 | Q16: =J16 -> 41457.562 | R16: =IF(B17="",R15,IF(Q16>=Chart!$F$2,E16,0)) -> 0 | S16: =IF(B17="",S15,IFERROR(IF(AND(R16>0,R15=0),R16,(1+(B17/B16-1)*Calc!$Z$1)*S15),0)) -> 0 | T16: =IF(B17="",T15,IFERROR(IF(AND(R16>0,R15=0),R16,(1+(B17/B16-1)*Calc!$Z$1-L17)*T15),0)) -> 0 | U16: =IF(B17="",U15,IFERROR(IF(AND(R16>0,R15=0),R16,(1+(B17/B16-1)*Calc!$Z$1-M17*2)*U15),0)) -> 0 | V16: =IF(B17="",V15,IFERROR(IF(AND(R16>0,R15=0),R16,(1+(B17/B16-1)*Calc!$Z$1-N17*2)*V15),0)) -> 0 | W16: =IF(ISNUMBER(C16),C16,W15) -> 0.1 | Y16: =IF(AND(Q16>=Chart!$F$2,Q16<=Chart!$F$3),Q16,#N/A) -> #N/A | Z16: =IF(AND(Q16>=Chart!$F$2,Q16<=Chart!$F$3),R16,#N/A) -> #N/A | AA16: =IF(AND(Q16>=Chart!$F$2,Q16<=Chart!$F$3),S16,#N/A) -> #N/A | AB16: =IF(AND(Q16>=Chart!$F$2,Q16<=Chart!$F$3),T16,#N/A) -> #N/A | AC16: =IF(AND(Q16>=Chart!$F$2,Q16<=Chart!$F$3),U16,#N/A) -> #N/A | AD16: =IF(AND(Q16>=Chart!$F$2,Q16<=Chart!$F$3),V16,#N/A) -> #N/A | AE16: =IF(AND(Q16>=Chart!$F$2,Q16<=Chart!$F$3),I16,#N/A) -> #N/A | AF16: =IF(AND(Q16>=Chart!$F$2,Q16<=Chart!$F$3),H16/100,#N/A) -> #N/A | AG16: =IF(AND(Q16>=Chart!$F$2,Q16<=Chart!$F$3),W16/100,#N/A) -> #N/A
A17: 1372858200 | B17: =INDEX('Daily Data ADJ'!$1:$1048576,MATCH(Calc!$A17,'Daily Data ADJ'!$A:$A,0),MATCH("SPY, CBOE BZX: Close",'Daily Data ADJ'!$1:$1,0)) -> 135.2563 | C17: =INDEX('Daily Data ADJ'!$1:$1048576,MATCH(Calc!$A17,'Daily Data ADJ'!$A:$A,0),MATCH("EFFR, FRED: Close",'Daily Data ADJ'!$1:$1,0)) -> 0.1 | D17: =INDEX('Daily Data ADJ'!$1:$1048576,MATCH(Calc!$A17,'Daily Data ADJ'!$A:$A,1),MATCH("SOFR, FRED: Close",'Daily Data ADJ'!$1:$1,0)) -> NaN | E17: =INDEX('Daily Data ADJ'!$1:$1048576,MATCH(Calc!$A17,'Daily Data ADJ'!$A:$A,0),MATCH("UPRO, CBOE BZX: Close",'Daily Data ADJ'!$1:$1,0)) -> 5.1803968 | F17: =INDEX('Daily Data ADJ'!$1:$1048576,MATCH(Calc!$A17,'Daily Data ADJ'!$A:$A,0),MATCH("ES1!, CME_MINI: Close",'Daily Data ADJ'!$1:$1,0)) -> 1609 | G17: =INDEX('Daily Data ADJ'!$1:$1048576,MATCH(Calc!$A17,'Daily Data ADJ'!$A:$A,0),MATCH("ES2!, CME_MINI: Close",'Daily Data ADJ'!$1:$1,0)) -> 1602.75 | H17: =INDEX('QUANDL MULTPL SP500_DIV_YIELD_M'!$A:$G,MATCH(Calc!$A17,'QUANDL MULTPL SP500_DIV_YIELD_M'!$A:$A,1),MATCH('QUANDL MULTPL SP500_DIV_YIELD_M'!$E$1,'QUANDL MULTPL SP500_DIV_YIELD_M'!$A$1:$G$1,0)) -> 2.06 | I17: =(G17/F17)^4-1+H17/100 -> 0.0051526962 | J17: =A17/24/60/60+DATE(1970,1,1) -> 41458.562 | K17: =J17-J16 -> 1 | L17: =(1+Chart!$F$4)^(1/(365/K17))-1 -> 6.6592785e-05 | M17: =IFERROR((1+C17/100)^(1/(365/K17))-1,M16) -> 2.7383608e-06 | N17: =(1+I17)^(1/(365/K17))-1 -> 1.4080829e-05 | O17: =O16*(B17/B16) -> 135.2563 | P17: =YEAR(Q17) -> 2013 | Q17: =J17 -> 41458.562 | R17: =IF(B18="",R16,IF(Q17>=Chart!$F$2,E17,0)) -> 0 | S17: =IF(B18="",S16,IFERROR(IF(AND(R17>0,R16=0),R17,(1+(B18/B17-1)*Calc!$Z$1)*S16),0)) -> 0 | T17: =IF(B18="",T16,IFERROR(IF(AND(R17>0,R16=0),R17,(1+(B18/B17-1)*Calc!$Z$1-L18)*T16),0)) -> 0 | U17: =IF(B18="",U16,IFERROR(IF(AND(R17>0,R16=0),R17,(1+(B18/B17-1)*Calc!$Z$1-M18*2)*U16),0)) -> 0 | V17: =IF(B18="",V16,IFERROR(IF(AND(R17>0,R16=0),R17,(1+(B18/B17-1)*Calc!$Z$1-N18*2)*V16),0)) -> 0 | W17: =IF(ISNUMBER(C17),C17,W16) -> 0.1 | Y17: =IF(AND(Q17>=Chart!$F$2,Q17<=Chart!$F$3),Q17,#N/A) -> #N/A | Z17: =IF(AND(Q17>=Chart!$F$2,Q17<=Chart!$F$3),R17,#N/A) -> #N/A | AA17: =IF(AND(Q17>=Chart!$F$2,Q17<=Chart!$F$3),S17,#N/A) -> #N/A | AB17: =IF(AND(Q17>=Chart!$F$2,Q17<=Chart!$F$3),T17,#N/A) -> #N/A | AC17: =IF(AND(Q17>=Chart!$F$2,Q17<=Chart!$F$3),U17,#N/A) -> #N/A | AD17: =IF(AND(Q17>=Chart!$F$2,Q17<=Chart!$F$3),V17,#N/A) -> #N/A | AE17: =IF(AND(Q17>=Chart!$F$2,Q17<=Chart!$F$3),I17,#N/A) -> #N/A | AF17: =IF(AND(Q17>=Chart!$F$2,Q17<=Chart!$F$3),H17/100,#N/A) -> #N/A | AG17: =IF(AND(Q17>=Chart!$F$2,Q17<=Chart!$F$3),W17/100,#N/A) -> #N/A
A18: 1373031000 | B18: =INDEX('Daily Data ADJ'!$1:$1048576,MATCH(Calc!$A18,'Daily Data ADJ'!$A:$A,0),MATCH("SPY, CBOE BZX: Close",'Daily Data ADJ'!$1:$1,0)) -> 136.71554 | C18: =INDEX('Daily Data ADJ'!$1:$1048576,MATCH(Calc!$A18,'Daily Data ADJ'!$A:$A,0),MATCH("EFFR, FRED: Close",'Daily Data ADJ'!$1:$1,0)) -> 0.1 | D18: =INDEX('Daily Data ADJ'!$1:$1048576,MATCH(Calc!$A18,'Daily Data ADJ'!$A:$A,1),MATCH("SOFR, FRED: Close",'Daily Data ADJ'!$1:$1,0)) -> NaN | E18: =INDEX('Daily Data ADJ'!$1:$1048576,MATCH(Calc!$A18,'Daily Data ADJ'!$A:$A,0),MATCH("UPRO, CBOE BZX: Close",'Daily Data ADJ'!$1:$1,0)) -> 5.3419046 | F18: =INDEX('Daily Data ADJ'!$1:$1048576,MATCH(Calc!$A18,'Daily Data ADJ'!$A:$A,0),MATCH("ES1!, CME_MINI: Close",'Daily Data ADJ'!$1:$1,0)) -> 1627.25 | G18: =INDEX('Daily Data ADJ'!$1:$1048576,MATCH(Calc!$A18,'Daily Data ADJ'!$A:$A,0),MATCH("ES2!, CME_MINI: Close",'Daily Data ADJ'!$1:$1,0)) -> 1621 | H18: =INDEX('QUANDL MULTPL SP500_DIV_YIELD_M'!$A:$G,MATCH(Calc!$A18,'QUANDL MULTPL SP500_DIV_YIELD_M'!$A:$A,1),MATCH('QUANDL MULTPL SP500_DIV_YIELD_M'!$E$1,'QUANDL MULTPL SP500_DIV_YIELD_M'!$A$1:$G$1,0)) -> 2.06 | I18: =(G18/F18)^4-1+H18/100 -> 0.0053249426 | J18: =A18/24/60/60+DATE(1970,1,1) -> 41460.562 | K18: =J18-J17 -> 2 | L18: =(1+Chart!$F$4)^(1/(365/K18))-1 -> 0.00013319 | M18: =IFERROR((1+C18/100)^(1/(365/K18))-1,M17) -> 5.4767292e-06 | N18: =(1+I18)^(1/(365/K18))-1 -> 2.9100781e-05 | O18: =O17*(B18/B17) -> 136.71554 | P18: =YEAR(Q18) -> 2013 | Q18: =J18 -> 41460.562 | R18: =IF(B19="",R17,IF(Q18>=Chart!$F$2,E18,0)) -> 0 | S18: =IF(B19="",S17,IFERROR(IF(AND(R18>0,R17=0),R18,(1+(B19/B18-1)*Calc!$Z$1)*S17),0)) -> 0 | T18: =IF(B19="",T17,IFERROR(IF(AND(R18>0,R17=0),R18,(1+(B19/B18-1)*Calc!$Z$1-L19)*T17),0)) -> 0 | U18: =IF(B19="",U17,IFERROR(IF(AND(R18>0,R17=0),R18,(1+(B19/B18-1)*Calc!$Z$1-M19*2)*U17),0)) -> 0 | V18: =IF(B19="",V17,IFERROR(IF(AND(R18>0,R17=0),R18,(1+(B19/B18-1)*Calc!$Z$1-N19*2)*V17),0)) -> 0 | W18: =IF(ISNUMBER(C18),C18,W17) -> 0.1 | Y18: =IF(AND(Q18>=Chart!$F$2,Q18<=Chart!$F$3),Q18,#N/A) -> #N/A | Z18: =IF(AND(Q18>=Chart!$F$2,Q18<=Chart!$F$3),R18,#N/A) -> #N/A | AA18: =IF(AND(Q18>=Chart!$F$2,Q18<=Chart!$F$3),S18,#N/A) -> #N/A | AB18: =IF(AND(Q18>=Chart!$F$2,Q18<=Chart!$F$3),T18,#N/A) -> #N/A | AC18: =IF(AND(Q18>=Chart!$F$2,Q18<=Chart!$F$3),U18,#N/A) -> #N/A | AD18: =IF(AND(Q18>=Chart!$F$2,Q18<=Chart!$F$3),V18,#N/A) -> #N/A | AE18: =IF(AND(Q18>=Chart!$F$2,Q18<=Chart!$F$3),I18,#N/A) -> #N/A | AF18: =IF(AND(Q18>=Chart!$F$2,Q18<=Chart!$F$3),H18/100,#N/A) -> #N/A | AG18: =IF(AND(Q18>=Chart!$F$2,Q18<=Chart!$F$3),W18/100,#N/A) -> #N/A
A19: 1373290200 | B19: =INDEX('Daily Data ADJ'!$1:$1048576,MATCH(Calc!$A19,'Daily Data ADJ'!$A:$A,0),MATCH("SPY, CBOE BZX: Close",'Daily Data ADJ'!$1:$1,0)) -> 137.4913 | C19: =INDEX('Daily Data ADJ'!$1:$1048576,MATCH(Calc!$A19,'Daily Data ADJ'!$A:$A,0),MATCH("EFFR, FRED: Close",'Daily Data ADJ'!$1:$1,0)) -> 0.1 | D19: =INDEX('Daily Data ADJ'!$1:$1048576,MATCH(Calc!$A19,'Daily Data ADJ'!$A:$A,1),MATCH("SOFR, FRED: Close",'Daily Data ADJ'!$1:$1,0)) -> NaN | E19: =INDEX('Daily Data ADJ'!$1:$1048576,MATCH(Calc!$A19,'Daily Data ADJ'!$A:$A,0),MATCH("UPRO, CBOE BZX: Close",'Daily Data ADJ'!$1:$1,0)) -> 5.4319905 | F19: =INDEX('Daily Data ADJ'!$1:$1048576,MATCH(Calc!$A19,'Daily Data ADJ'!$A:$A,0),MATCH("ES1!, CME_MINI: Close",'Daily Data ADJ'!$1:$1,0)) -> 1635.5 | G19: =INDEX('Daily Data ADJ'!$1:$1048576,MATCH(Calc!$A19,'Daily Data ADJ'!$A:$A,0),MATCH("ES2!, CME_MINI: Close",'Daily Data ADJ'!$1:$1,0)) -> 1629 | H19: =INDEX('QUANDL MULTPL SP500_DIV_YIELD_M'!$A:$G,MATCH(Calc!$A19,'QUANDL MULTPL SP500_DIV_YIELD_M'!$A:$A,1),MATCH('QUANDL MULTPL SP500_DIV_YIELD_M'!$E$1,'QUANDL MULTPL SP500_DIV_YIELD_M'!$A$1:$G$1,0)) -> 2.06 | I19: =(G19/F19)^4-1+H19/100 -> 0.0047972413 | J19: =A19/24/60/60+DATE(1970,1,1) -> 41463.562 | K19: =J19-J18 -> 3 | L19: =(1+Chart!$F$4)^(1/(365/K19))-1 -> 0.00019979166 | M19: =IFERROR((1+C19/100)^(1/(365/K19))-1,M18) -> 8.215105e-06 | N19: =(1+I19)^(1/(365/K19))-1 -> 3.933588e-05 | O19: =O18*(B19/B18) -> 137.4913 | P19: =YEAR(Q19) -> 2013 | Q19: =J19 -> 41463.562 | R19: =IF(B20="",R18,IF(Q19>=Chart!$F$2,E19,0)) -> 0 | S19: =IF(B20="",S18,IFERROR(IF(AND(R19>0,R18=0),R19,(1+(B20/B19-1)*Calc!$Z$1)*S18),0)) -> 0 | T19: =IF(B20="",T18,IFERROR(IF(AND(R19>0,R18=0),R19,(1+(B20/B19-1)*Calc!$Z$1-L20)*T18),0)) -> 0 | U19: =IF(B20="",U18,IFERROR(IF(AND(R19>0,R18=0),R19,(1+(B20/B19-1)*Calc!$Z$1-M20*2)*U18),0)) -> 0 | V19: =IF(B20="",V18,IFERROR(IF(AND(R19>0,R18=0),R19,(1+(B20/B19-1)*Calc!$Z$1-N20*2)*V18),0)) -> 0 | W19: =IF(ISNUMBER(C19),C19,W18) -> 0.1 | Y19: =IF(AND(Q19>=Chart!$F$2,Q19<=Chart!$F$3),Q19,#N/A) -> #N/A | Z19: =IF(AND(Q19>=Chart!$F$2,Q19<=Chart!$F$3),R19,#N/A) -> #N/A | AA19: =IF(AND(Q19>=Chart!$F$2,Q19<=Chart!$F$3),S19,#N/A) -> #N/A | AB19: =IF(AND(Q19>=Chart!$F$2,Q19<=Chart!$F$3),T19,#N/A) -> #N/A | AC19: =IF(AND(Q19>=Chart!$F$2,Q19<=Chart!$F$3),U19,#N/A) -> #N/A | AD19: =IF(AND(Q19>=Chart!$F$2,Q19<=Chart!$F$3),V19,#N/A) -> #N/A | AE19: =IF(AND(Q19>=Chart!$F$2,Q19<=Chart!$F$3),I19,#N/A) -> #N/A | AF19: =IF(AND(Q19>=Chart!$F$2,Q19<=Chart!$F$3),H19/100,#N/A) -> #N/A | AG19: =IF(AND(Q19>=Chart!$F$2,Q19<=Chart!$F$3),W19/100,#N/A) -> #N/A
... A2426: 1674829800 | B2426: =INDEX('Daily Data ADJ'!$1:$1048576,MATCH(Calc!$A2426,'Daily Data ADJ'!$A:$A,0),MATCH("SPY, CBOE BZX: Close",'Daily Data ADJ'!$1:$1,0)) -> 405.68 | C2426: =INDEX('Daily Data ADJ'!$1:$1048576,MATCH(Calc!$A2426,'Daily Data ADJ'!$A:$A,0),MATCH("EFFR, FRED: Close",'Daily Data ADJ'!$1:$1,0)) -> NaN | D2426: =INDEX('Daily Data ADJ'!$1:$1048576,MATCH(Calc!$A2426,'Daily Data ADJ'!$A:$A,1),MATCH("SOFR, FRED: Close",'Daily Data ADJ'!$1:$1,0)) -> NaN | E2426: =INDEX('Daily Data ADJ'!$1:$1048576,MATCH(Calc!$A2426,'Daily Data ADJ'!$A:$A,0),MATCH("UPRO, CBOE BZX: Close",'Daily Data ADJ'!$1:$1,0)) -> 38.55 | F2426: =INDEX('Daily Data ADJ'!$1:$1048576,MATCH(Calc!$A2426,'Daily Data ADJ'!$A:$A,0),MATCH("ES1!, CME_MINI: Close",'Daily Data ADJ'!$1:$1,0)) -> 4084.25 | G2426: =INDEX('Daily Data ADJ'!$1:$1048576,MATCH(Calc!$A2426,'Daily Data ADJ'!$A:$A,0),MATCH("ES2!, CME_MINI: Close",'Daily Data ADJ'!$1:$1,0)) -> 4120 | H2426: =INDEX('QUANDL MULTPL SP500_DIV_YIELD_M'!$A:$G,MATCH(Calc!$A2426,'QUANDL MULTPL SP500_DIV_YIELD_M'!$A:$A,1),MATCH('QUANDL MULTPL SP500_DIV_YIELD_M'!$E$1,'QUANDL MULTPL SP500_DIV_YIELD_M'!$A$1:$G$1,0)) -> 1.71 | I2426: =(G2426/F2426)^4-1+H2426/100 -> 0.052574941 | J2426: =A2426/24/60/60+DATE(1970,1,1) -> 44953.604 | K2426: =J2426-J2425 -> 1 | L2426: =(1+Chart!$F$4)^(1/(365/K2426))-1 -> 6.6592785e-05 | M2426: =IFERROR((1+C2426/100)^(1/(365/K2426))-1,M2425) -> 0.00011614035 | N2426: =(1+I2426)^(1/(365/K2426))-1 -> 0.00014039201 | O2426: =O2425*(B2426/B2425) -> 405.68 | P2426: =YEAR(Q2426) -> 2023 | Q2426: =J2426 -> 44953.604 | R2426: =IF(B2427="",R2425,IF(Q2426>=Chart!$F$2,E2426,0)) -> 38.27 | S2426: =IF(B2427="",S2425,IFERROR(IF(AND(R2426>0,R2425=0),R2426,(1+(B2427/B2426-1)*Calc!$Z$1)*S2425),0)) -> 41.35818 | T2426: =IF(B2427="",T2425,IFERROR(IF(AND(R2426>0,R2425=0),R2426,(1+(B2427/B2426-1)*Calc!$Z$1-L2427)*T2425),0)) -> 39.336128 | U2426: =IF(B2427="",U2425,IFERROR(IF(AND(R2426>0,R2425=0),R2426,(1+(B2427/B2426-1)*Calc!$Z$1-M2427*2)*U2425),0)) -> 39.700066 | V2426: =IF(B2427="",V2425,IFERROR(IF(AND(R2426>0,R2425=0),R2426,(1+(B2427/B2426-1)*Calc!$Z$1-N2427*2)*V2425),0)) -> 38.327773 | W2426: =IF(ISNUMBER(C2426),C2426,W2425) -> 4.33 | Y2426: =IF(AND(Q2426>=Chart!$F$2,Q2426<=Chart!$F$3),Q2426,#N/A) -> #N/A | Z2426: =IF(AND(Q2426>=Chart!$F$2,Q2426<=Chart!$F$3),R2426,#N/A) -> #N/A | AA2426: =IF(AND(Q2426>=Chart!$F$2,Q2426<=Chart!$F$3),S2426,#N/A) -> #N/A | AB2426: =IF(AND(Q2426>=Chart!$F$2,Q2426<=Chart!$F$3),T2426,#N/A) -> #N/A | AC2426: =IF(AND(Q2426>=Chart!$F$2,Q2426<=Chart!$F$3),U2426,#N/A) -> #N/A | AD2426: =IF(AND(Q2426>=Chart!$F$2,Q2426<=Chart!$F$3),V2426,#N/A) -> #N/A | AE2426: =IF(AND(Q2426>=Chart!$F$2,Q2426<=Chart!$F$3),I2426,#N/A) -> #N/A | AF2426: =IF(AND(Q2426>=Chart!$F$2,Q2426<=Chart!$F$3),H2426/100,#N/A) -> #N/A | AG2426: =IF(AND(Q2426>=Chart!$F$2,Q2426<=Chart!$F$3),W2426/100,#N/A) -> #N/A

Sheet Daily Data ADJ
A1: time | B1: open | C1: high | D1: low | E1: close | F1: UPRO, CBOE BZX: Open | G1: UPRO, CBOE BZX: High | H1: UPRO, CBOE BZX: Low | I1: UPRO, CBOE BZX: Close | J1: ES2!, CME_MINI: Open | K1: ES2!, CME_MINI: High | L1: ES2!, CME_MINI: Low | M1: ES2!, CME_MINI: Close | N1: ES1!, CME_MINI: Open | O1: ES1!, CME_MINI: High | P1: ES1!, CME_MINI: Low | Q1: ES1!, CME_MINI: Close | R1: SPX, SP: Open | S1: SPX, SP: High | T1: SPX, SP: Low | U1: SPX, SP: Close | V1: EFFR, FRED: Open | W1: EFFR, FRED: High | X1: EFFR, FRED: Low | Y1: EFFR, FRED: Close | Z1: SOFR, FRED: Open | AA1: SOFR, FRED: High | AB1: SOFR, FRED: Low | AC1: SOFR, FRED: Close | AD1: SPY, CBOE BZX: Open | AE1: SPY, CBOE BZX: High | AF1: SPY, CBOE BZX: Low | AG1: SPY, CBOE BZX: Close | AH1: Volume | AI1: Volume MA
A2: 1245936600 | B2: 1.0911143 | C2: 1.1726545 | D2: 1.0911143 | E2: 1.167945 | F2: 1.0911143 | G2: 1.1726545 | H2: 1.0911143 | I2: 1.167945 | J2: 893.25 | K2: 913.25 | L2: 886.5 | M2: 912.5 | N2: 898 | O2: 917.75 | P2: 891 | Q2: 916.5 | R2: 899.45 | S2: 921.42 | T2: 896.27 | U2: 920.26 | V2: 0.19 | W2: 0.19 | X2: 0.19 | Y2: 0.19 | Z2: NaN | AA2: NaN | AB2: NaN | AC2: NaN | AD2: 69.2818 | AE2: 71.213376 | AF2: 69.204544 | AG2: 71.14384 | AH2: NaN | AI2: NaN
A3: 1246023000 | B3: 1.1579886 | C3: 1.1752111 | D3: 1.1406303 | E3: 1.1618909 | F3: 1.1579886 | G3: 1.1752111 | H3: 1.1406303 | I3: 1.1618909 | J3: 912 | K3: 914.5 | L3: 904.5 | M3: 909.75 | N3: 917 | O3: 919 | P3: 908.5 | Q3: 914 | R3: 918.84 | S3: 922 | T3: 913.03 | U3: 918.9 | V3: 0.18 | W3: 0.18 | X3: 0.18 | Y3: 0.18 | Z3: NaN | AA3: NaN | AB3: NaN | AC3: NaN | AD3: 70.904324 | AE3: 71.267468 | AF3: 70.518009 | AG3: 70.958408 | AH3: NaN | AI3: NaN
A4: 1246282200 | B4: 1.1706364 | C4: 1.1975481 | D4: 1.1542208 | E4: 1.1948568 | F4: 1.1706364 | G4: 1.1975481 | H4: 1.1542208 | I4: 1.1948568 | J4: 908.5 | K4: 920 | L4: 903 | M4: 917 | N4: 913 | O4: 924 | P4: 907.25 | Q4: 921.25 | R4: 919.86 | S4: 927.99 | T4: 916.18 | U4: 927.23 | V4: 0.17 | W4: 0.17 | X4: 0.17 | Y4: 0.17 | Z4: NaN | AA4: NaN | AB4: NaN | AC4: NaN | AD4: 71.167019 | AE4: 71.715594 | AF4: 70.772985 | AG4: 71.622871 | AH4: NaN | AI4: NaN
A5: 1246368600 | B5: 1.1948568 | C5: 1.2045449 | D5: 1.1396886 | E5: 1.166331 | F5: 1.1948568 | G5: 1.2045449 | H5: 1.1396886 | I5: 1.166331 | J5: 917.25 | K5: 921.75 | L5: 904.5 | M5: 911.25 | N5: 921.5 | O5: 926.25 | P5: 908.25 | Q5: 915.5 | R5: 927.15 | S5: 930.01 | T5: 912.86 | U5: 919.32 | V5: 0.22 | W5: 0.22 | X5: 0.22 | Y5: 0.22 | Z5: NaN | AA5: NaN | AB5: NaN | AC5: NaN | AD5: 71.638323 | AE5: 71.901018 | AF5: 70.518009 | AG5: 71.043398 | AH5: NaN | AI5: NaN
A6: 1246455000 | B6: 1.1804592 | C6: 1.213829 | D6: 1.1757498 | E6: 1.1788442 | F6: 1.1804592 | G6: 1.213829 | H6: 1.1757498 | I6: 1.1788442 | J6: 911 | K6: 924 | L6: 909.75 | M6: 915 | N6: 915.5 | O6: 928.25 | P6: 913.5 | Q6: 919.25 | R6: 920.82 | S6: 931.92 | T6: 920.82 | U6: 923.33 | V6: 0.2 | W6: 0.2 | X6: 0.2 | Y6: 0.2 | Z6: NaN | AA6: NaN | AB6: NaN | AC6: NaN | AD6: 71.344724 | AE6: 72.032365 | AF6: 71.244289 | AG6: 71.336997 | AH6: NaN | AI6: NaN
A7: 1246541400 | B7: 1.1328265 | C7: 1.1333642 | D7: 1.0811568 | E7: 1.0815608 | F7: 1.1328265 | G7: 1.1333642 | H7: 1.0811568 | I7: 1.0815608 | J7: 914.5 | K7: 915.25 | L7: 889 | M7: 889 | N7: 919.25 | O7: 919.75 | P7: 892.75 | Q7: 893.25 | R7: 921.24 | S7: 921.24 | T7: 896.42 | U7: 896.42 | V7: 0.17 | W7: 0.17 | X7: 0.17 | Y7: 0.17 | Z7: NaN | AA7: NaN | AB7: NaN | AC7: NaN | AD7: 70.40984 | AE7: 71.362031 | AF7: 69.351329 | AG7: 69.389968 | AH7: NaN | AI7: NaN
A8: 1246887000 | B8: 1.0516894 | C8: 1.0857316 | D8: 1.0408435 | E8: 1.0845205 | F8: 1.0516894 | G8: 1.0857316 | H8: 1.0408435 | I8: 1.0845205 | J8: 886.25 | K8: 892 | L8: 877.75 | M8: 891 | N8: 892 | O8: 896.25 | P8: 882 | Q8: 895.5 | R8: 894.27 | S8: 898.72 | T8: 886.36 | U8: 898.72 | V8: 0.18 | W8: 0.18 | X8: 0.18 | Y8: 0.18 | Z8: NaN | AA8: NaN | AB8: NaN | AC8: NaN | AD8: 68.717779 | AE8: 69.482676 | AF8: 68.501442 | AG8: 69.382242 | AH8: NaN | AI8: NaN
A9: 1246973400 | B9: 1.0792735 | C9: 1.0819638 | D9: 1.0169739 | E9: 1.0169739 | F9: 1.0792735 | G9: 1.0819638 | H9: 1.0169739 | I9: 1.0169739 | J9: 891.25 | K9: 893.75 | L9: 871 | M9: 875 | N9: 895.75 | O9: 898.25 | P9: 875.25 | Q9: 879.25 | R9: 898.6 | S9: 898.6 | T9: 879.93 | U9: 881.03 | V9: 0.18 | W9: 0.18 | X9: 0.18 | Y9: 0.18 | Z9: NaN | AA9: NaN | AB9: NaN | AC9: NaN | AD9: 69.312713 | AE9: 69.397702 | AF9: 67.991506 | AG9: 68.037864 | AH9: NaN | AI9: NaN
A10: 1247059800 | B10: 1.0367532 | C10: 1.042943 | D10: 0.98225843 | E10: 1.0181849 | F10: 1.0367532 | G10: 1.042943 | H10: 0.98225843 | I10: 1.0181849 | J10: 874.75 | K10: 878.75 | L10: 861.25 | M10: 869.25 | N10: 879.5 | O10: 883.5 | P10: 865.25 | Q10: 873.75 | R10: 881.9 | S10: 886.8 | T10: 869.32 | U10: 879.56 | V10: 0.16 | W10: 0.16 | X10: 0.16 | Y10: 0.16 | Z10: NaN | AA10: NaN | AB10: NaN | AC10: NaN | AD10: 68.447358 | AE10: 68.609611 | AF10: 67.218875 | AG10: 67.991506 | AH10: NaN | AI10: NaN
A11: 1247146200 | B11: 1.0360809 | C11: 1.0479217 | D11: 1.0136092 | E11: 1.0245084 | F11: 1.0360809 | G11: 1.0479217 | H11: 1.0136092 | I11: 1.0245084 | J11: 869.25 | K11: 879.75 | L11: 869.25 | M11: 874.5 | N11: 874 | O11: 884.5 | P11: 873.75 | Q11: 879 | R11: 881.28 | S11: 887.86 | T11: 878.45 | U11: 882.68 | V11: 0.15 | W11: 0.15 | X11: 0.15 | Y11: 0.15 | Z11: NaN | AA11: NaN | AB11: NaN | AC11: NaN | AD11: 68.462811 | AE11: 68.686866 | AF11: 67.921969 | AG11: 68.122853 | AH11: NaN | AI11: NaN
A12: 1247232600 | B12: 1.0062094 | C12: 1.0324478 | D12: 0.99436763 | E12: 1.0146865 | F12: 1.0062094 | G12: 1.0324478 | H12: 0.99436763 | I12: 1.0146865 | J12: 874 | K12: 875.5 | L12: 864.75 | M12: 869.75 | N12: 878.75 | O12: 880.25 | P12: 868.75 | Q12: 874.25 | R12: 880.03 | S12: 883.57 | T12: 872.81 | U12: 879.13 | V12: 0.15 | W12: 0.15 | X12: 0.15 | Y12: 0.15 | Z12: NaN | AA12: NaN | AB12: NaN | AC12: NaN | AD12: 67.759717 | AE12: 68.370103 | AF12: 67.489304 | AG12: 67.960609 | AH12: NaN | AI12: NaN
A13: 1247491800 | B13: 1.0269304 | C13: 1.0905756 | D13: 1.0027372 | E13: 1.0888269 | F13: 1.0269304 | G13: 1.0905756 | H13: 1.0027372 | I13: 1.0888269 | J13: 871.5 | K13: 893 | L13: 861.5 | M13: 891.25 | N13: 874.75 | O13: 897.75 | P13: 865.5 | Q13: 895.5 | R13: 879.57 | S13: 901.05 | T13: 875.32 | U13: 901.05 | V13: 0.13 | W13: 0.13 | X13: 0.13 | Y13: 0.13 | Z13: NaN | AA13: NaN | AB13: NaN | AC13: NaN | AD13: 68.231022 | AE13: 69.668115 | AF13: 67.674728 | AG13: 69.615584 | AH13: NaN | AI13: NaN
... A76: 1255095000 | B76: 1.7892414 | C76: 1.8191271 | D76: 1.7756443 | E76: 1.8187229 | F76: 1.7892414 | G76: 1.8191271 | H76: 1.7756443 | I76: 1.8187229 | J76: 1059.5 | K76: 1064 | L76: 1054.25 | M76: 1063.5 | N76: 1063.25 | O76: 1068.5 | P76: 1058.5 | Q76: 1068 | R76: 1065.28 | S76: 1071.51 | T76: 1063 | U76: 1071.49 | V76: 0.12 | W76: 0.12 | X76: 0.12 | Y76: 0.12 | Z76: NaN | AA76: NaN | AB76: NaN | AC76: NaN | AD76: 82.786052 | AE76: 83.267358 | AF76: 82.568684 | AG76: 83.267358 | AH76: NaN | AI76: NaN
A77: 1255354200 | B77: 1.8465897 | C77: 1.8611289 | D77: 1.8206082 | E77: 1.8421475 | F77: 1.8465897 | G77: 1.8611289 | H77: 1.8206082 | I77: 1.8421475 | J77: 1064 | K77: 1071.75 | L77: 1063.25 | M77: 1067 | N77: 1067.75 | O77: 1076.75 | P77: 1067 | Q77: 1071.5 | R77: 1071.63 | S77: 1079.46 | T77: 1071.63 | U77: 1076.19 | V77: NaN | W77: NaN | X77: NaN | Y77: NaN | Z77: NaN | AA77: NaN | AB77: NaN | AC77: NaN | AD77: 83.655515 | AE77: 83.911706 | AF77: 83.282892 | AG77: 83.59341 | AH77: NaN | AI77: NaN
A78: 1255440600 | B78: 1.8255893 | C78: 1.8390506 | D78: 1.7935489 | E78: 1.83232 | F78: 1.8255893 | G78: 1.8390506 | H78: 1.7935489 | I78: 1.83232 | J78: 1064.75 | K78: 1069.5 | L78: 1058.75 | M78: 1064.25 | N78: 1071 | O78: 1074.25 | P78: 1063 | Q78: 1068.75 | R78: 1074.96 | S78: 1075.3 | T78: 1066.71 | U78: 1073.19 | V78: 0.12 | W78: 0.12 | X78: 0.12 | Y78: 0.12 | Z78: NaN | AA78: NaN | AB78: NaN | AC78: NaN | AD78: 83.368287 | AE78: 83.619191 | AF78: 82.879202 | AG78: 83.422636 | AH78: NaN | AI78: NaN
A79: 1255527000 | B79: 1.8935726 | C79: 1.9297848 | D79: 1.870148 | E79: 1.9254773 | F79: 1.8935726 | G79: 1.9297848 | H79: 1.870148 | I79: 1.9254773 | J79: 1069 | K79: 1085 | L79: 1068.75 | M79: 1083 | N79: 1072.75 | O79: 1089.75 | P79: 1072.75 | Q79: 1087.75 | R79: 1078.68 | S79: 1093.17 | T79: 1078.68 | U79: 1092.02 | V79: 0.12 | W79: 0.12 | X79: 0.12 | Y79: 0.12 | Z79: NaN | AA79: NaN | AB79: NaN | AC79: NaN | AD79: 84.400784 | AE79: 84.944203 | AF79: 83.389558 | AG79: 84.858808 | AH79: NaN | AI79: NaN
A80: 1255613400 | B80: 1.8970726 | C80: 1.9440545 | D80: 1.8933031 | E80: 1.9428439 | F80: 1.8970726 | G80: 1.9440545 | H80: 1.8933031 | I80: 1.9428439 | J80: 1083.25 | K80: 1088.25 | L80: 1076.25 | M80: 1085 | N80: 1087.5 | O80: 1093.25 | P80: 1080.5 | Q80: 1089.75 | R80: 1090.36 | S80: 1096.56 | T80: 1086.41 | U80: 1096.56 | V80: 0.13 | W80: 0.13 | X80: 0.13 | Y80: 0.13 | Z80: NaN | AA80: NaN | AB80: NaN | AC80: NaN | AD80: 84.447362 | AE80: 85.169341 | AF80: 84.408547 | AG80: 85.169341 | AH80: NaN | AI80: NaN
A81: 1255699800 | B81: 1.8972064 | C81: 1.9204962 | D81: 1.8657058 | E81: 1.9012454 | F81: 1.8972064 | G81: 1.9204962 | H81: 1.8657058 | I81: 1.9012454 | J81: 1085.25 | K81: 1090.25 | L81: 1073 | M81: 1077.25 | N81: 1090.25 | O81: 1095.5 | P81: 1077.5 | Q81: 1082 | R81: 1094.67 | S81: 1094.67 | T81: 1081.53 | U81: 1087.68 | V81: 0.12 | W81: 0.12 | X81: 0.12 | Y81: 0.12 | Z81: NaN | AA81: NaN | AB81: NaN | AC81: NaN | AD81: 84.462889 | AE81: 84.827756 | AF81: 84.02039 | AG81: 84.532757 | AH81: NaN | AI81: NaN
A82: 1255959000 | B82: 1.9102655 | C82: 1.9654591 | D82: 1.8937073 | E82: 1.9482282 | F82: 1.9102655 | G82: 1.9654591 | H82: 1.8937073 | I82: 1.9482282 | J82: 1075.25 | K82: 1092 | L82: 1072 | M82: 1086.5 | N82: 1080.25 | O82: 1096.75 | P82: 1076.25 | Q82: 1091 | R82: 1088.22 | S82: 1100.17 | T82: 1086.48 | U82: 1097.91 | V82: 0.12 | W82: 0.12 | X82: 0.12 | Y82: 0.12 | Z82: NaN | AA82: NaN | AB82: NaN | AC82: NaN | AD82: 84.672501 | AE82: 85.495385 | AF82: 84.408547 | AG82: 85.231431 | AH82: NaN | AI82: NaN
A83: 1256045400 | B83: 1.9576516 | C83: 1.9576516 | D83: 1.8888609 | E83: 1.9192846 | F83: 1.9576516 | G83: 1.9576516 | H83: 1.8888609 | I83: 1.9192846 | J83: 1089.5 | K83: 1093.75 | L83: 1077.75 | M83: 1084.75 | N83: 1089.75 | O83: 1099 | P83: 1082 | Q83: 1089.5 | R83: 1098.64 | S83: 1098.64 | T83: 1086.16 | U83: 1091.06 | V83: 0.12 | W83: 0.12 | X83: 0.12 | Y83: 0.12 | Z83: NaN | AA83: NaN | AB83: NaN | AC83: NaN | AD83: 85.355649 | AE83: 85.38282 | AF83: 84.369723 | AG83: 84.781953 | AH83: NaN | AI83: NaN
A84: 1256131800 | B84: 1.9056876 | C84: 1.9738056 | D84: 1.8613983 | E84: 1.8667827 | F84: 1.9056876 | G84: 1.9738056 | H84: 1.8613983 | I84: 1.8667827 | J84: 1083 | K84: 1093.5 | L84: 1068.25 | M84: 1073.25 | N84: 1089 | O84: 1098.5 | P84: 1072.5 | Q84: 1078 | R84: 1090.36 | S84: 1101.36 | T84: 1080.77 | U84: 1081.4 | V84: 0.11 | W84: 0.11 | X84: 0.11 | Y84: 0.11 | Z84: NaN | AA84: NaN | AB84: NaN | AC84: NaN | AD84: 84.649196 | AE84: 85.635122 | AF84: 83.958277 | AG84: 84.02039 | AH84: NaN | AI84: NaN
A85: 1256218200 | B85: 1.8631479 | C85: 1.9385355 | D85: 1.8267999 | E85: 1.920092 | F85: 1.8631479 | G85: 1.9385355 | H85: 1.8267999 | I85: 1.920092 | J85: 1072.5 | K85: 1087.25 | L85: 1066 | M85: 1086 | N85: 1076.5 | O85: 1092.25 | P85: 1070.25 | Q85: 1090.75 | R85: 1080.96 | S85: 1095.21 | T85: 1074.31 | U85: 1092.91 | V85: 0.11 | W85: 0.11 | X85: 0.11 | Y85: 0.11 | Z85: NaN | AA85: NaN | AB85: NaN | AC85: NaN | AD85: 83.989337 | AE85: 85.146037 | AF85: 83.453681 | AG85: 84.874335 | AH85: NaN | AI85: NaN
A86: 1256304600 | B86: 1.9413628 | C86: 1.9427092 | D86: 1.8319158 | E86: 1.8562825 | F86: 1.9413628 | G86: 1.9427092 | H86: 1.8319158 | I86: 1.8562825 | J86: 1086 | K86: 1090.25 | L86: 1067 | M86: 1072 | N86: 1090.5 | O86: 1095.25 | P86: 1071.5 | Q86: 1077 | R86: 1095.62 | S86: 1095.83 | T86: 1075.49 | U86: 1079.6 | V86: 0.11 | W86: 0.11 | X86: 0.11 | Y86: 0.11 | Z86: NaN | AA86: NaN | AB86: NaN | AC86: NaN | AD86: 85.153807 | AE86: 85.208142 | AF86: 83.554602 | AG86: 83.903943 | AH86: NaN | AI86: NaN
A87: 1256563800 | B87: 1.8608594 | C87: 1.9179296 | D87: 1.7792791 | E87: 1.7908572 | F87: 1.8608594 | G87: 1.9179296 | H87: 1.7792791 | I87: 1.7908572 | J87: 1070.75 | K87: 1083.5 | L87: 1056.75 | M87: 1061.5 | N87: 1076.5 | O87: 1088.5 | P87: 1061.25 | Q87: 1066.5 | R87: 1080.36 | S87: 1091.75 | T87: 1065.23 | U87: 1066.95 | V87: 0.11 | W87: 0.11 | X87: 0.11 | Y87: 0.11 | Z87: NaN | AA87: NaN | AB87: NaN | AC87: NaN | AD87: 83.997101 | AE87: 84.858808 | AF87: 82.762762 | AG87: 82.995656 | AH87: NaN | AI87: NaN
A88: 1256650200 | B88: 1.8018953 | C88: 1.8185882 | D88: 1.7577398 | E88: 1.7690484 | F88: 1.8018953 | G88: 1.8185882 | H88: 1.7577398 | I88: 1.7690484 | J88: 1060.75 | K88: 1064.5 | L88: 1052.5 | M88: 1055.5 | N88: 1066.25 | O88: 1069.75 | P88: 1057 | Q88: 1060.5 | R88: 1067.54 | S88: 1072.48 | T88: 1060.62 | U88: 1063.41 | V88: 0.11 | W88: 0.11 | X88: 0.11 | Y88: 0.11 | Z88: NaN | AA88: NaN | AB88: NaN | AC88: NaN | AD88: 83.088814 | AE88: 83.368287 | AF88: 82.413421 | AG88: 82.615263 | AH88: NaN | AI88: NaN
A89: 1256736600 | B89: 1.7562597 | C89: 1.7706632 | D89: 1.6659288 | E89: 1.6698331 | F89: 1.7562597 | G89: 1.7706632 | H89: 1.6659288 | I89: 1.6698331 | J89: 1057.75 | K89: 1058.25 | L89: 1033.25 | M89: 1033.5 | N89: 1061 | O89: 1063 | P89: 1038 | Q89: 1038.5 | R89: 1061.51 | S89: 1063.26 | T89: 1042.19 | U89: 1042.63 | V89: 0.11 | W89: 0.11 | X89: 0.11 | Y89: 0.11 | Z89: NaN | AA89: NaN | AB89: NaN | AC89: NaN | AD89: 82.405651 | AE89: 82.660522 | AF89: 81.008302 | AG89: 81.054873 | AH89: NaN | AI89: NaN
... A98: 1257863400 | B98: 1.902457 | C98: 1.9344965 | D98: 1.8845525 | E98: 1.914034 | F98: 1.902457 | G98: 1.9344965 | H98: 1.8845525 | I98: 1.914034 | J98: 1086.75 | K98: 1089.25 | L98: 1080.25 | M98: 1087 | N98: 1091.5 | O98: 1094.5 | P98: 1085 | Q98: 1092 | R98: 1091.86 | S98: 1096.42 | T98: 1087.4 | U98: 1093.01 | V98: 0.13 | W98: 0.13 | X98: 0.13 | Y98: 0.13 | Z98: NaN | AA98: NaN | AB98: NaN | AC98: NaN | AD98: 84.858808 | AE98: 85.340115 | AF98: 84.594862 | AG98: 85.076176 | AH98: NaN | AI98: NaN
A99: 1257949800 | B99: 1.953882 | C99: 1.9810751 | D99: 1.9183425 | E99: 1.9459398 | F99: 1.953882 | G99: 1.9810751 | H99: 1.9183425 | I99: 1.9459398 | J99: 1088.75 | K99: 1098.25 | L99: 1086.75 | M99: 1091.5 | N99: 1091.75 | O99: 1103.25 | P99: 1091.25 | Q99: 1096.25 | R99: 1096.04 | S99: 1105.37 | T99: 1093.81 | U99: 1098.51 | V99: NaN | W99: NaN | X99: NaN | Y99: NaN | Z99: NaN | AA99: NaN | AB99: NaN | AC99: NaN | AD99: 85.635122 | AE99: 86.031049 | AF99: 85.099465 | AG99: 85.510904 | AH99: NaN | AI99: NaN
A100: 1258036200 | B100: 1.937728 | C100: 1.9685559 | D100: 1.8716291 | E100: 1.8840145 | F100: 1.937728 | G100: 1.9685559 | H100: 1.8716291 | I100: 1.8840145 | J100: 1091.25 | K100: 1096 | L100: 1077.75 | M100: 1082.5 | N100: 1096 | O100: 1101 | P100: 1082.5 | Q100: 1087.25 | R100: 1098.31 | S100: 1101.97 | T100: 1084.9 | U100: 1087.24 | V100: 0.12 | W100: 0.12 | X100: 0.12 | Y100: 0.12 | Z100: NaN | AA100: NaN | AB100: NaN | AC100: NaN | AD100: 85.394465 | AE100: 85.836971 | AF100: 84.424073 | AG100: 84.641441 | AH100: NaN | AI100: NaN
A101: 1258122600 | B101: 1.9015148 | C101: 1.9413464 | D101: 1.8727059 | E101: 1.9183425 | F101: 1.9015148 | G101: 1.9413464 | H101: 1.8727059 | I101: 1.9183425 | J101: 1081.75 | K101: 1091.25 | L101: 1078.25 | M101: 1086.5 | N101: 1087.5 | O101: 1096 | P101: 1082.75 | Q101: 1091.5 | R101: 1087.59 | S101: 1097.79 | T101: 1085.33 | U101: 1093.48 | V101: 0.12 | W101: 0.12 | X101: 0.12 | Y101: 0.12 | Z101: NaN | AA101: NaN | AB101: NaN | AC101: NaN | AD101: 84.858808 | AE101: 85.464333 | AF101: 84.424073 | AG101: 85.099465 | AH101: NaN | AI101: NaN
A102: 1258381800 | B102: 1.9572474 | C102: 2.0256348 | D102: 1.9537473 | E102: 2.000326 | F102: 1.9572474 | G102: 2.0256348 | H102: 1.9537473 | I102: 2.000326 | J102: 1086.75 | K102: 1107 | L102: 1086.5 | M102: 1101.5 | N102: 1092 | O102: 1112.25 | P102: 1091 | Q102: 1106.25 | R102: 1094.13 | S102: 1113.69 | T102: 1094.13 | U102: 1109.3 | V102: 0.12 | W102: 0.12 | X102: 0.12 | Y102: 0.12 | Z102: NaN | AA102: NaN | AB102: NaN | AC102: NaN | AD102: 85.689464 | AE102: 86.706434 | AF102: 85.642893 | AG102: 86.333811 | AH102: NaN | AI102: NaN
A103: 1258468200 | B103: 1.9857868 | C103: 2.0092114 | D103: 1.9630369 | E103: 2.0075956 | F103: 1.9857868 | G103: 2.0092114 | H103: 1.9630369 | I103: 2.0075956 | J103: 1101.5 | K103: 1104 | L103: 1095.25 | M103: 1102.5 | N103: 1106.25 | O103: 1109 | P103: 1100 | Q103: 1107.5 | R103: 1109.22 | S103: 1110.52 | T103: 1102.19 | U103: 1110.32 | V103: 0.12 | W103: 0.12 | X103: 0.12 | Y103: 0.12 | Z103: NaN | AA103: NaN | AB103: NaN | AC103: NaN | AD103: 86.108673 | AE103: 86.47354 | AF103: 85.782621 | AG103: 86.433948 | AH103: NaN | AI103: NaN
A104: 1258554600 | B104: 2.0036913 | C104: 2.0123072 | D104: 1.9666707 | E104: 2.0049029 | F104: 2.0036913 | G104: 2.0123072 | H104: 1.9666707 | I104: 2.0049029 | J104: 1103 | K104: 1105.5 | L104: 1096.25 | M104: 1103.5 | N104: 1107.5 | O104: 1110.75 | P104: 1100.75 | Q104: 1108.5 | R104: 1109.43 | S104: 1111.1 | T104: 1102.7 | U104: 1109.8 | V104: 0.11 | W104: 0.11 | X104: 0.11 | Y104: 0.11 | Z104: NaN | AA104: NaN | AB104: NaN | AC104: NaN | AD104: 86.372612 | AE104: 86.504585 | AF104: 85.836971 | AG104: 86.380382 | AH104: NaN | AI104: NaN
A105: 1258641000 | B105: 1.9630369 | C105: 1.9650559 | D105: 1.8887262 | E105: 1.92615 | F105: 1.9630369 | G105: 1.9650559 | H105: 1.8887262 | I105: 1.92615 | J105: 1104.25 | K105: 1104.75 | L105: 1082 | M105: 1089.25 | N105: 1108.5 | O105: 1109.5 | P105: 1086.5 | Q105: 1094.25 | R105: 1106.43 | S105: 1106.43 | T105: 1088.4 | U105: 1094.9 | V105: 0.11 | W105: 0.11 | X105: 0.11 | Y105: 0.11 | Z105: NaN | AA105: NaN | AB105: NaN | AC105: NaN | AD105: 85.790377 | AE105: 86.408244 | AF105: 84.719072 | AG105: 85.254736 | AH105: NaN | AI105: NaN
A106: 1258727400 | B106: 1.8954568 | C106: 1.9214383 | D106: 1.882264 | E106: 1.9090539 | F106: 1.8954568 | G106: 1.9214383 | H106: 1.882264 | I106: 1.9090539 | J106: 1088.25 | K106: 1090 | L106: 1079 | M106: 1085 | N106: 1094 | O106: 1095 | P106: 1083.5 | Q106: 1090 | R106: 1094.66 | S106: 1094.66 | T106: 1086.81 | U106: 1091.38 | V106: 0.11 | W106: 0.11 | X106: 0.11 | Y106: 0.11 | Z106: NaN | AA106: NaN | AB106: NaN | AC106: NaN | AD106: 84.81223 | AE106: 85.208142 | AF106: 84.625907 | AG106: 84.951958 | AH106: NaN | AI106: NaN
A107: 1258986600 | B107: 1.9729981 | C107: 2.0195758 | D107: 1.9657285 | E107: 1.9798645 | F107: 1.9729981 | G107: 2.0195758 | H107: 1.9657285 | I107: 1.9798645 | J107: 1085 | K107: 1106.5 | L107: 1084.25 | M107: 1099 | N107: 1089.75 | O107: 1111.5 | P107: 1089 | Q107: 1103.75 | R107: 1094.86 | S107: 1112.38 | T107: 1094.86 | U107: 1106.24 | V107: 0.12 | W107: 0.12 | X107: 0.12 | Y107: 0.12 | Z107: NaN | AA107: NaN | AB107: NaN | AC107: NaN | AD107: 85.95341 | AE107: 86.745257 | AF107: 85.86026 | AG107: 86.031049 | AH107: NaN | AI107: NaN
A108: 1259073000 | B108: 1.9853836 | C108: 1.9935953 | D108: 1.9375933 | E108: 1.9849794 | F108: 1.9853836 | G108: 1.9935953 | H108: 1.9375933 | I108: 1.9849794 | J108: 1098 | K108: 1101.75 | L108: 1091.25 | M108: 1098.25 | N108: 1103.5 | O108: 1107 | P108: 1095 | Q108: 1103 | R108: 1105.82 | S108: 1107.56 | T108: 1097.63 | U108: 1105.65 | V108: 0.12 | W108: 0.12 | X108: 0.12 | Y108: 0.12 | Z108: NaN | AA108: NaN | AB108: NaN | AC108: NaN | AD108: 86.170778 | AE108: 86.327741 | AF108: 85.40222 | AG108: 86.163022 | AH108: NaN | AI108: NaN
A109: 1259159400 | B109: 1.9945374 | C109: 2.0132494 | D109: 1.9762287 | E109: 2.0054418 | F109: 1.9945374 | G109: 2.0132494 | H109: 1.9762287 | I109: 2.0054418 | J109: 1098.75 | K109: 1106.25 | L109: 1097.5 | M109: 1104 | N109: 1103.25 | O109: 1111.25 | P109: 1102.25 | Q109: 1109 | R109: 1106.49 | S109: 1111.18 | T109: 1104.75 | U109: 1110.63 | V109: 0.11 | W109: 0.11 | X109: 0.11 | Y109: 0.11 | Z109: NaN | AA109: NaN | AB109: NaN | AC109: NaN | AD109: 86.302751 | AE109: 86.558935 | AF109: 86.031049 | AG109: 86.465777 | AH109: NaN | AI109: NaN
A110: 1259332200 | B110: 1.8433581 | C110: 1.948363 | D110: 1.8385127 | E110: 1.9085217 | F110: 1.8433581 | G110: 1.948363 | H110: 1.8385127 | I110: 1.9085217 | J110: 1103.5 | K110: 1106.5 | L110: 1062.25 | M110: 1084.5 | N110: 1108.75 | O110: 1111.25 | P110: 1067 | Q110: 1089.5 | R110: 1105.47 | S110: 1105.47 | T110: 1083.74 | U110: 1091.49 | V110: 0.12 | W110: 0.12 | X110: 0.12 | Y110: 0.12 | Z110: NaN | AA110: NaN | AB110: NaN | AC110: NaN | AD110: 84.152355 | AE110: 85.642893 | AF110: 84.066961 | AG110: 85.060658 | AH110: NaN | AI110: NaN
A111: 1259591400 | B111: 1.902457 | C111: 1.9378628 | D111: 1.8793028 | E111: 1.9293816 | F111: 1.902457 | G111: 1.9378628 | H111: 1.8793028 | I111: 1.9293816 | J111: 1083 | K111: 1092.75 | L111: 1080 | M111: 1090 | N111: 1091.5 | O111: 1098 | P111: 1084.5 | Q111: 1094.75 | R111: 1091.07 | S111: 1097.24 | T111: 1086.25 | U111: 1095.63 | V111: 0.13 | W111: 0.13 | X111: 0.13 | Y111: 0.13 | Z111: NaN | AA111: NaN | AB111: NaN | AC111: NaN | AD111: 84.990782 | AE111: 85.549727 | AF111: 83.934996 | AG111: 85.347886 | AH111: NaN | AI111: NaN
... A327: 1286544600 | B327: 2.1674629 | C327: 2.211215 | D327: 2.1414012 | E327: 2.1913642 | F327: 2.1674629 | G327: 2.211215 | H327: 2.1414012 | I327: 2.1913642 | J327: 1151 | K327: 1158.5 | L327: 1140.5 | M327: 1155.25 | N327: 1156.5 | O327: 1164 | P327: 1145.5 | Q327: 1160.5 | R327: 1158.36 | S327: 1167.73 | T327: 1155.58 | U327: 1165.15 | V327: 0.18 | W327: 0.18 | X327: 0.18 | Y327: 0.18 | Z327: NaN | AA327: NaN | AB327: NaN | AC327: NaN | AD327: 91.871913 | AE327: 92.513156 | AF327: 91.523583 | AG327: 92.257854 | AH327: NaN | AI327: NaN
A328: 1286803800 | B328: 2.2045977 | C328: 2.2163457 | D328: 2.1761054 | E328: 2.1986562 | F328: 2.2045977 | G328: 2.2163457 | H328: 2.1761054 | I328: 2.1986562 | J328: 1157.5 | K328: 1159.5 | L328: 1152.75 | M328: 1157 | N328: 1161.5 | O328: 1165 | P328: 1157.75 | Q328: 1162.25 | R328: 1165.32 | S328: 1168.68 | T328: 1162.02 | U328: 1165.32 | V328: NaN | W328: NaN | X328: NaN | Y328: NaN | Z328: NaN | AA328: NaN | AB328: NaN | AC328: NaN | AD328: 92.402324 | AE328: 92.600238 | AF328: 92.030245 | AG328: 92.3469 | AH328: NaN | AI328: NaN
A329: 1286890200 | B329: 2.1771856 | C329: 2.2388965 | D329: 2.1415363 | E329: 2.2203971 | F329: 2.1771856 | G329: 2.2388965 | H329: 2.1415363 | I329: 2.2203971 | J329: 1156.75 | K329: 1163.75 | L329: 1146.75 | M329: 1159 | N329: 1162.5 | O329: 1169 | P329: 1151.75 | Q329: 1164.5 | R329: 1164.28 | S329: 1172.58 | T329: 1155.71 | U329: 1169.77 | V329: 0.18 | W329: 0.18 | X329: 0.18 | Y329: 0.18 | Z329: NaN | AA329: NaN | AB329: NaN | AC329: NaN | AD329: 92.046078 | AE329: 92.901076 | AF329: 91.555242 | AG329: 92.631897 | AH329: NaN | AI329: NaN
A330: 1286976600 | B330: 2.2579374 | C330: 2.3066851 | D330: 2.2402489 | E330: 2.2686052 | F330: 2.2579374 | G330: 2.3066851 | H330: 2.2402489 | I330: 2.2686052 | J330: 1160.5 | K330: 1175.25 | L330: 1159.25 | M330: 1169 | N330: 1165.25 | O330: 1181 | P330: 1164.25 | Q330: 1174.25 | R330: 1171.32 | S330: 1184.38 | T330: 1171.32 | U330: 1178.1 | V330: 0.18 | W330: 0.18 | X330: 0.18 | Y330: 0.18 | Z330: NaN | AA330: NaN | AB330: NaN | AC330: NaN | AD330: 93.146482 | AE330: 93.851058 | AF330: 92.924818 | AG330: 93.352313 | AH330: NaN | AI330: NaN
A331: 1287063000 | B331: 2.2646889 | C331: 2.2753566 | D331: 2.2031121 | E331: 2.2536157 | F331: 2.2646889 | G331: 2.2753566 | H331: 2.2031121 | I331: 2.2536157 | J331: 1169.25 | K331: 1175 | L331: 1157.25 | M331: 1168.25 | N331: 1174.75 | O331: 1180.75 | P331: 1162.5 | Q331: 1173.5 | R331: 1177.82 | S331: 1178.89 | T331: 1166.71 | U331: 1173.81 | V331: 0.19 | W331: 0.19 | X331: 0.19 | Y331: 0.19 | Z331: NaN | AA331: NaN | AB331: NaN | AC331: NaN | AD331: 93.26516 | AE331: 93.423555 | AF331: 92.402324 | AG331: 92.988159 | AH331: NaN | AI331: NaN
A332: 1287149400 | B332: 2.2927758 | C332: 2.2949372 | D332: 2.2047329 | E332: 2.2595572 | F332: 2.2927758 | G332: 2.2949372 | H332: 2.2047329 | I332: 2.2595572 | J332: 1169 | K332: 1174.25 | L332: 1158 | M332: 1169.5 | N332: 1174 | O332: 1180 | P332: 1163 | Q332: 1175 | R332: 1177.47 | S332: 1181.2 | T332: 1167.12 | U332: 1176.19 | V332: 0.2 | W332: 0.2 | X332: 0.2 | Y332: 0.2 | Z332: NaN | AA332: NaN | AB332: NaN | AC332: NaN | AD332: 93.63731 | AE332: 93.692734 | AF332: 92.433982 | AG332: 93.178149 | AH332: NaN | AI332: NaN
A333: 1287408600 | B333: 2.2622582 | C333: 2.3134366 | D333: 2.2279594 | E333: 2.2279594 | F333: 2.2622582 | G333: 2.3134366 | H333: 2.2279594 | I333: 2.2279594 | J333: 1168.25 | K333: 1176.75 | L333: 1159.5 | M333: 1173 | N333: 1174.25 | O333: 1182.25 | P333: 1164.75 | Q333: 1178.25 | R333: 1176.83 | S333: 1185.53 | T333: 1174.55 | U333: 1184.71 | V333: 0.19 | W333: 0.19 | X333: 0.19 | Y333: 0.19 | Z333: NaN | AA333: NaN | AB333: NaN | AC333: NaN | AD333: 93.209823 | AE333: 93.946057 | AF333: 92.869402 | AG333: 93.63731 | AH333: NaN | AI333: NaN
A334: 1287495000 | B334: 2.2268783 | C334: 2.2656339 | D334: 2.1596565 | E334: 2.1969003 | F334: 2.2268783 | G334: 2.2656339 | H334: 2.1596565 | I334: 2.1969003 | J334: 1172.5 | K334: 1173.75 | L334: 1150.5 | M334: 1158.5 | N334: 1178.75 | O334: 1179.5 | P334: 1155.5 | Q334: 1163.75 | R334: 1178.64 | S334: 1178.64 | T334: 1159.71 | U334: 1165.9 | V334: 0.19 | W334: 0.19 | X334: 0.19 | Y334: 0.19 | Z334: NaN | AA334: NaN | AB334: NaN | AC334: NaN | AD334: 92.774403 | AE334: 93.296905 | AF334: 91.848163 | AG334: 92.41024 | AH334: NaN | AI334: NaN
A335: 1287581400 | B335: 2.2154006 | C335: 2.2968273 | D335: 2.2094591 | E335: 2.2654988 | F335: 2.2154006 | G335: 2.2968273 | H335: 2.2094591 | I335: 2.2654988 | J335: 1157.25 | K335: 1174.25 | L335: 1155.5 | M335: 1169.5 | N335: 1164 | O335: 1180 | P335: 1160.5 | Q335: 1174.75 | R335: 1166.74 | S335: 1182.94 | T335: 1166.74 | U335: 1178.17 | V335: 0.19 | W335: 0.19 | X335: 0.19 | Y335: 0.19 | Z335: NaN | AA335: NaN | AB335: NaN | AC335: NaN | AD335: 92.576489 | AE335: 93.763976 | AF335: 92.521073 | AG335: 93.312731 | AH335: NaN | AI335: NaN
A336: 1287667800 | B336: 2.2977723 | C336: 2.3342324 | D336: 2.2264612 | E336: 2.2776522 | F336: 2.2977723 | G336: 2.3342324 | H336: 2.2264612 | I336: 2.2776522 | J336: 1170.5 | K336: 1180.75 | L336: 1162.25 | M336: 1170.5 | N336: 1174.75 | O336: 1186.25 | P336: 1167.25 | Q336: 1175.75 | R336: 1179.82 | S336: 1189.43 | T336: 1171.17 | U336: 1180.26 | V336: 0.19 | W336: 0.19 | X336: 0.19 | Y336: 0.19 | Z336: NaN | AA336: NaN | AB336: NaN | AC336: NaN | AD336: 93.732301 | AE336: 94.278553 | AF336: 92.790244 | AG336: 93.518562 | AH336: NaN | AI336: NaN
A337: 1287754200 | B337: 2.2900758 | C337: 2.3019589 | D337: 2.2719809 | E337: 2.2949372 | F337: 2.2900758 | G337: 2.3019589 | H337: 2.2719809 | I337: 2.2949372 | J337: 1170.25 | K337: 1176 | L337: 1168.5 | M337: 1175.5 | N337: 1175.25 | O337: 1181.5 | P337: 1173.25 | Q337: 1180.75 | R337: 1180.52 | S337: 1183.93 | T337: 1178.99 | U337: 1183.08 | V337: 0.19 | W337: 0.19 | X337: 0.19 | Y337: 0.19 | Z337: NaN | AA337: NaN | AB337: NaN | AC337: NaN | AD337: 93.66106 | AE337: 93.835225 | AF337: 93.415646 | AG337: 93.690351 | AH337: NaN | AI337: NaN
A338: 1288013400 | B338: 2.3361225 | C338: 2.3735277 | D338: 2.3073599 | E338: 2.3089806 | F338: 2.3361225 | G338: 2.3735277 | H338: 2.3073599 | I338: 2.3089806 | J338: 1176.75 | K338: 1187.5 | L338: 1175.75 | M338: 1177.5 | N338: 1180.75 | O338: 1193 | P338: 1180.5 | Q338: 1182.75 | R338: 1184.74 | S338: 1196.14 | T338: 1184.74 | U338: 1185.62 | V338: 0.19 | W338: 0.19 | X338: 0.19 | Y338: 0.19 | Z338: NaN | AA338: NaN | AB338: NaN | AC338: NaN | AD338: 94.318136 | AE338: 94.808956 | AF338: 93.898557 | AG338: 93.969807 | AH338: NaN | AI338: NaN
A339: 1288099800 | B339: 2.2758962 | C339: 2.3199187 | D339: 2.263878 | E339: 2.3118168 | F339: 2.2758962 | G339: 2.3199187 | H339: 2.263878 | I339: 2.3118168 | J339: 1177 | K339: 1179 | L339: 1169 | M339: 1177.5 | N339: 1182 | O339: 1184.25 | P339: 1174 | Q339: 1182.75 | R339: 1184.88 | S339: 1187.11 | T339: 1177.72 | U339: 1185.64 | V339: 0.19 | W339: 0.19 | X339: 0.19 | Y339: 0.19 | Z339: NaN | AA339: NaN | AB339: NaN | AC339: NaN | AD339: 93.49482 | AE339: 94.080639 | AF339: 93.312731 | AG339: 93.98564 | AH339: NaN | AI339: NaN
A340: 1288186200 | B340: 2.264824 | C340: 2.301149 | D340: 2.2299847 | E340: 2.2939912 | F340: 2.264824 | G340: 2.301149 | H340: 2.2299847 | I340: 2.2939912 | J340: 1178 | K340: 1180.75 | L340: 1163 | M340: 1173.5 | N340: 1183.25 | O340: 1186.25 | P340: 1167.75 | Q340: 1178.75 | R340: 1183.84 | S340: 1183.84 | T340: 1171.7 | U340: 1182.45 | V340: 0.19 | W340: 0.19 | X340: 0.19 | Y340: 0.19 | Z340: NaN | AA340: NaN | AB340: NaN | AC340: NaN | AD340: 93.328564 | AE340: 93.819384 | AF340: 92.829811 | AG340: 93.716476 | AH340: NaN | AI340: NaN
... A350: 1289399400 | B350: 2.4795314 | C350: 2.513695 | D350: 2.4234907 | E350: 2.5095094 | F350: 2.4795314 | G350: 2.513695 | H350: 2.4234907 | I350: 2.5095094 | J350: 1204.5 | K350: 1211.5 | L350: 1197 | M350: 1209 | N350: 1210.5 | O350: 1217 | P350: 1201.75 | Q350: 1214 | R350: 1213.14 | S350: 1218.75 | T350: 1204.33 | U350: 1218.71 | V350: 0.17 | W350: 0.17 | X350: 0.17 | Y350: 0.17 | Z350: NaN | AA350: NaN | AB350: NaN | AC350: NaN | AD350: 96.249782 | AE350: 96.708943 | AF350: 95.521456 | AG350: 96.661452 | AH350: NaN | AI350: NaN
A351: 1289485800 | B351: 2.4444217 | C351: 2.4928631 | D351: 2.4238961 | E351: 2.4788556 | F351: 2.4444217 | G351: 2.4928631 | H351: 2.4238961 | I351: 2.4788556 | J351: 1207 | K351: 1208 | L351: 1197 | M351: 1206 | N351: 1213.5 | O351: 1213.75 | P351: 1202 | Q351: 1211 | R351: 1213.04 | S351: 1215.45 | T351: 1204.49 | U351: 1213.54 | V351: NaN | W351: NaN | X351: NaN | Y351: NaN | Z351: NaN | AA351: NaN | AB351: NaN | AC351: NaN | AD351: 95.830203 | AE351: 96.439788 | AF351: 95.537282 | AG351: 96.293315 | AH351: NaN | AI351: NaN
A352: 1289572200 | B352: 2.4313233 | C352: 2.4640023 | D352: 2.3621842 | E352: 2.3922974 | F352: 2.4313233 | G352: 2.4640023 | H352: 2.3621842 | I352: 2.3922974 | J352: 1205 | K352: 1206.25 | L352: 1186.75 | M352: 1190.25 | N352: 1210.5 | O352: 1211.75 | P352: 1191.5 | Q352: 1195.5 | R352: 1209.07 | S352: 1210.5 | T352: 1194.08 | U352: 1199.21 | V352: 0.19 | W352: 0.19 | X352: 0.19 | Y352: 0.19 | Z352: NaN | AA352: NaN | AB352: NaN | AC352: NaN | AD352: 95.64813 | AE352: 96.067708 | AF352: 94.721874 | AG352: 95.15571 | AH352: NaN | AI352: NaN
A353: 1289831400 | B353: 2.4172798 | C353: 2.4440163 | D353: 2.3806846 | E353: 2.3836558 | F353: 2.4172798 | G353: 2.4440163 | H353: 2.3806846 | I353: 2.3836558 | J353: 1189.5 | K353: 1200.25 | L353: 1187.75 | M353: 1190.75 | N353: 1195.5 | O353: 1205.75 | P353: 1192.5 | Q353: 1195.75 | R353: 1200.44 | S353: 1207.43 | T353: 1197.15 | U353: 1197.75 | V353: 0.21 | W353: 0.21 | X353: 0.21 | Y353: 0.21 | Z353: NaN | AA353: NaN | AB353: NaN | AC353: NaN | AD353: 95.458124 | AE353: 95.830203 | AF353: 94.983129 | AG353: 95.022712 | AH353: NaN | AI353: NaN
A354: 1289917800 | B354: 2.3399037 | C354: 2.3509769 | D354: 2.2388965 | E354: 2.2715755 | F354: 2.3399037 | G354: 2.3509769 | H354: 2.2388965 | I354: 2.2715755 | J354: 1189.25 | K354: 1189.25 | L354: 1165.75 | M354: 1169.5 | N354: 1195.25 | O354: 1195.25 | P354: 1171 | Q354: 1174.75 | R354: 1194.79 | S354: 1194.79 | T354: 1173 | U354: 1178.34 | V354: 0.21 | W354: 0.21 | X354: 0.21 | Y354: 0.21 | Z354: NaN | AA354: NaN | AB354: NaN | AC354: NaN | AD354: 94.436877 | AE354: 94.595224 | AF354: 93.091066 | AG354: 93.542311 | AH354: NaN | AI354: NaN
A355: 1290004200 | B355: 2.2757621 | C355: 2.3023643 | D355: 2.2546959 | E355: 2.2750863 | F355: 2.2757621 | G355: 2.3023643 | H355: 2.2546959 | I355: 2.2750863 | J355: 1171 | K355: 1176.75 | L355: 1168.5 | M355: 1172.25 | N355: 1175.75 | O355: 1182 | P355: 1173.25 | Q355: 1177.5 | R355: 1178.33 | S355: 1183.56 | T355: 1175.82 | U355: 1178.59 | V355: 0.2 | W355: 0.2 | X355: 0.2 | Y355: 0.2 | Z355: NaN | AA355: NaN | AB355: NaN | AC355: NaN | AD355: 93.581902 | AE355: 93.977731 | AF355: 93.304814 | AG355: 93.588228 | AH355: NaN | AI355: NaN
A356: 1290090600 | B356: 2.341119 | C356: 2.3990498 | D356: 2.3409839 | E356: 2.374743 | F356: 2.341119 | G356: 2.3990498 | H356: 2.3409839 | I356: 2.374743 | J356: 1172 | K356: 1193.75 | L356: 1172 | M356: 1192.5 | N356: 1177.75 | O356: 1199 | P356: 1177 | Q356: 1197.75 | R356: 1183.75 | S356: 1200.29 | T356: 1183.75 | U356: 1196.69 | V356: 0.2 | W356: 0.2 | X356: 0.2 | Y356: 0.2 | Z356: NaN | AA356: NaN | AB356: NaN | AC356: NaN | AD356: 94.492301 | AE356: 95.307709 | AF356: 94.484392 | AG356: 94.965317 | AH356: NaN | AI356: NaN
A357: 1290177000 | B357: 2.3670456 | C357: 2.3968894 | D357: 2.3327468 | E357: 2.3928379 | F357: 2.3670456 | G357: 2.3968894 | H357: 2.3327468 | I357: 2.3928379 | J357: 1191.75 | K357: 1194.5 | L357: 1182.75 | M357: 1193 | N357: 1197.5 | O357: 1200 | P357: 1187.5 | Q357: 1198.25 | R357: 1196.12 | S357: 1199.97 | T357: 1189.44 | U357: 1199.73 | V357: 0.21 | W357: 0.21 | X357: 0.21 | Y357: 0.21 | Z357: NaN | AA357: NaN | AB357: NaN | AC357: NaN | AD357: 94.919788 | AE357: 95.268126 | AF357: 94.405219 | AG357: 95.228535 | AH357: NaN | AI357: NaN
A358: 1290436200 | B358: 2.3600238 | C358: 2.3904073 | D358: 2.3049292 | E358: 2.3891919 | F358: 2.3600238 | G358: 2.3904073 | H358: 2.3049292 | I358: 2.3891919 | J358: 1194.5 | K358: 1201 | L358: 1177.75 | M358: 1192.75 | N358: 1202.75 | O358: 1206 | P358: 1182.5 | Q358: 1198 | R358: 1198.07 | S358: 1198.94 | T358: 1184.58 | U358: 1197.84 | V358: 0.19 | W358: 0.19 | X358: 0.19 | Y358: 0.19 | Z358: NaN | AA358: NaN | AB358: NaN | AC358: NaN | AD358: 94.753548 | AE358: 95.188968 | AF358: 94.025223 | AG358: 95.149377 | AH358: NaN | AI358: NaN
A359: 1290522600 | B359: 2.3057401 | C359: 2.3180276 | D359: 2.2596924 | E359: 2.2821081 | F359: 2.3057401 | G359: 2.3180276 | H359: 2.2596924 | I359: 2.2821081 | J359: 1190.75 | K359: 1192.25 | L359: 1169.75 | M359: 1173 | N359: 1197 | O359: 1197.75 | P359: 1174.75 | Q359: 1178.25 | R359: 1192.51 | S359: 1192.51 | T359: 1176.91 | U359: 1180.73 | V359: 0.2 | W359: 0.2 | X359: 0.2 | Y359: 0.2 | Z359: NaN | AA359: NaN | AB359: NaN | AC359: NaN | AD359: 94.025223 | AE359: 94.219179 | AF359: 93.407737 | AG359: 93.769905 | AH359: NaN | AI359: NaN
A360: 1290609000 | B360: 2.3293711 | C360: 2.386491 | D360: 2.3278855 | E360: 2.3813603 | F360: 2.3293711 | G360: 2.386491 | H360: 2.3278855 | I360: 2.3813603 | J360: 1172.5 | K360: 1192 | L360: 1170.5 | M360: 1191.5 | N360: 1178 | O360: 1197.5 | P360: 1175.5 | Q360: 1196.5 | R360: 1183.7 | S360: 1198.62 | T360: 1183.7 | U360: 1198.35 | V360: 0.2 | W360: 0.2 | X360: 0.2 | Y360: 0.2 | Z360: NaN | AA360: NaN | AB360: NaN | AC360: NaN | AD360: 94.365636 | AE360: 95.181043 | AF360: 94.349795 | AG360: 95.157294 | AH360: NaN | AI360: NaN
A361: 1290781800 | B361: 2.323835 | C361: 2.3617798 | D361: 2.3091158 | E361: 2.3303161 | F361: 2.323835 | G361: 2.3617798 | H361: 2.3091158 | I361: 2.3303161 | J361: 1190 | K361: 1195 | L361: 1178 | M361: 1178 | N361: 1195.75 | O361: 1200.5 | P361: 1182.5 | Q361: 1183.25 | R361: 1194.16 | S361: 1194.16 | T361: 1186.93 | U361: 1189.4 | V361: 0.2 | W361: 0.2 | X361: 0.2 | Y361: 0.2 | Z361: NaN | AA361: NaN | AB361: NaN | AC361: NaN | AD361: 94.333969 | AE361: 94.848547 | AF361: 94.048972 | AG361: 94.048972 | AH361: NaN | AI361: NaN
A362: 1291041000 | B362: 2.2907506 | C362: 2.3420641 | D362: 2.2407876 | E362: 2.3236998 | F362: 2.2907506 | G362: 2.3420641 | H362: 2.2407876 | I362: 2.3236998 | J362: 1184.75 | K362: 1188.25 | L362: 1167.25 | M362: 1181.5 | N362: 1188.5 | O362: 1193.75 | P362: 1172.25 | Q362: 1186.5 | R362: 1194.16 | S362: 1194.16 | T362: 1173.64 | U362: 1187.76 | V362: 0.2 | W362: 0.2 | X362: 0.2 | Y362: 0.2 | Z362: NaN | AA362: NaN | AB362: NaN | AC362: NaN | AD362: 93.811475 | AE362: 94.5873 | AF362: 93.209823 | AG362: 94.335553 | AH362: NaN | AI362: NaN
A363: 1291127400 | B363: 2.2537508 | C363: 2.3241043 | D363: 2.243893 | E363: 2.2799477 | F363: 2.2537508 | G363: 2.3241043 | H363: 2.243893 | I363: 2.2799477 | J363: 1180.75 | K363: 1183 | L363: 1167.75 | M363: 1174.5 | N363: 1186.5 | O363: 1188.25 | P363: 1173 | Q363: 1179.5 | R363: 1182.96 | S363: 1187.4 | T363: 1174.14 | U363: 1180.55 | V363: 0.2 | W363: 0.2 | X363: 0.2 | Y363: 0.2 | Z363: NaN | AA363: NaN | AB363: NaN | AC363: NaN | AD363: 93.399813 | AE363: 94.341886 | AF363: 93.265231 | AG363: 93.80553 | AH363: NaN | AI363: NaN
... A579: 1317994200 | B579: 2.0448725 | C579: 2.0482941 | D579: 1.9356027 | E579: 1.9668163 | F579: 2.0448725 | G579: 2.0482941 | H579: 1.9356027 | I579: 1.9668163 | J579: 1150.75 | K579: 1166.75 | L579: 1138.75 | M579: 1148.75 | N579: 1157.25 | O579: 1173.75 | P579: 1144.75 | Q579: 1155 | R579: 1165.03 | S579: 1171.4 | T579: 1150.26 | U579: 1155.46 | V579: 0.07 | W579: 0.07 | X579: 0.07 | Y579: 0.07 | Z579: NaN | AA579: NaN | AB579: NaN | AC579: NaN | AD579: 94.602419 | AE579: 94.662974 | AF579: 92.898817 | AG579: 93.423631 | AH579: NaN | AI579: NaN
A580: 1318253400 | B580: 2.0685619 | C580: 2.1678753 | D580: 2.0677505 | E580: 2.1678753 | F580: 2.0685619 | G580: 2.1678753 | H580: 2.0677505 | I580: 2.1678753 | J580: 1150.5 | K580: 1186 | L580: 1150.5 | M580: 1184.75 | N580: 1157.75 | O580: 1192.25 | P580: 1156.5 | Q580: 1191 | R580: 1158.15 | S580: 1194.91 | T580: 1158.15 | U580: 1194.89 | V580: NaN | W580: NaN | X580: NaN | Y580: NaN | Z580: NaN | AA580: NaN | AB580: NaN | AC580: NaN | AD580: 95.014183 | AE580: 96.58861 | AF580: 95.006117 | AG580: 96.54824 | AH580: NaN | AI580: NaN
A581: 1318339800 | B581: 2.1293662 | C581: 2.1913867 | D581: 2.1220697 | E581: 2.1694971 | F581: 2.1293662 | G581: 2.1913867 | H581: 2.1220697 | I581: 2.1694971 | J581: 1183.75 | K581: 1188.25 | L581: 1175 | M581: 1183.5 | N581: 1190.5 | O581: 1194.75 | P581: 1180.75 | Q581: 1189.5 | R581: 1194.6 | S581: 1199.24 | T581: 1187.3 | U581: 1195.54 | V581: 0.07 | W581: 0.07 | X581: 0.07 | Y581: 0.07 | Z581: NaN | AA581: NaN | AB581: NaN | AC581: NaN | AD581: 95.97499 | AE581: 96.919634 | AF581: 95.878103 | AG581: 96.645128 | AH581: NaN | AI581: NaN
A582: 1318426200 | B582: 2.2238153 | C582: 2.3048962 | D582: 2.2076015 | E582: 2.2311118 | F582: 2.2238153 | G582: 2.3048962 | H582: 2.2076015 | I582: 2.2311118 | J582: 1181.25 | K582: 1209.5 | L582: 1175 | M582: 1192.25 | N582: 1187.5 | O582: 1216 | P582: 1180.75 | Q582: 1198.25 | R582: 1196.19 | S582: 1220.25 | T582: 1196.19 | U582: 1207.25 | V582: 0.07 | W582: 0.07 | X582: 0.07 | Y582: 0.07 | Z582: NaN | AA582: NaN | AB582: NaN | AC582: NaN | AD582: 97.371791 | AE582: 98.61517 | AF582: 97.153786 | AG582: 97.492892 | AH582: NaN | AI582: NaN
A583: 1318512600 | B583: 2.1889545 | C583: 2.2351658 | D583: 2.140311 | E583: 2.2144923 | F583: 2.1889545 | G583: 2.2351658 | H583: 2.140311 | I583: 2.2144923 | J583: 1193.25 | K583: 1197.75 | L583: 1179.5 | M583: 1191.75 | N583: 1198.5 | O583: 1204.25 | P583: 1185.25 | Q583: 1198 | R583: 1206.96 | S583: 1207.46 | T583: 1190.58 | U583: 1203.66 | V583: 0.07 | W583: 0.07 | X583: 0.07 | Y583: 0.07 | Z583: NaN | AA583: NaN | AB583: NaN | AC583: NaN | AD583: 96.919634 | AE583: 97.589779 | AF583: 96.176839 | AG583: 97.299109 | AH583: NaN | AI583: NaN
A584: 1318599000 | B584: 2.2939427 | C584: 2.3332631 | D584: 2.2574601 | E584: 2.3283988 | F584: 2.2939427 | G584: 2.3332631 | H584: 2.2574601 | I584: 2.3283988 | J584: 1190.75 | K584: 1215 | L584: 1187.25 | M584: 1213 | N584: 1197.5 | O584: 1221.5 | P584: 1193 | Q584: 1219.25 | R584: 1205.65 | S584: 1224.61 | T584: 1205.65 | U584: 1224.58 | V584: 0.07 | W584: 0.07 | X584: 0.07 | Y584: 0.07 | Z584: NaN | AA584: NaN | AB584: NaN | AC584: NaN | AD584: 98.42947 | AE584: 98.98658 | AF584: 97.880441 | AG584: 98.962358 | AH584: NaN | AI584: NaN
A585: 1318858200 | B585: 2.2955645 | C585: 2.3020496 | D585: 2.1804409 | E585: 2.1954396 | F585: 2.2955645 | G585: 2.3020496 | H585: 2.1804409 | I585: 2.1954396 | J585: 1213.75 | K585: 1224.5 | L585: 1187.75 | M585: 1187.75 | N585: 1218.25 | O585: 1230.75 | P585: 1193.5 | Q585: 1194 | R585: 1224.47 | S585: 1224.47 | T585: 1198.55 | U585: 1200.86 | V585: 0.07 | W585: 0.07 | X585: 0.07 | Y585: 0.07 | Z585: NaN | AA585: NaN | AB585: NaN | AC585: NaN | AD585: 98.494069 | AE585: 98.945548 | AF585: 96.83082 | AG585: 97.073047 | AH585: NaN | AI585: NaN
A586: 1318944600 | B586: 2.1921971 | C586: 2.3770423 | D586: 2.1415271 | E586: 2.3249937 | F586: 2.1921971 | G586: 2.3770423 | H586: 2.1415271 | I586: 2.3249937 | J586: 1195.5 | K586: 1223.25 | L586: 1179.75 | M586: 1217 | N586: 1194 | O586: 1229.75 | P586: 1185.5 | Q586: 1223 | R586: 1200.75 | S586: 1233.1 | T586: 1191.48 | U586: 1225.38 | V586: 0.07 | W586: 0.07 | X586: 0.07 | Y586: 0.07 | Z586: NaN | AA586: NaN | AB586: NaN | AC586: NaN | AD586: 97.000381 | AE586: 99.713227 | AF586: 96.24143 | AG586: 98.970424 | AH586: NaN | AI586: NaN
A587: 1319031000 | B587: 2.3150218 | C587: 2.3543005 | D587: 2.2197614 | E587: 2.2432727 | F587: 2.3150218 | G587: 2.3543005 | H587: 2.2197614 | I587: 2.2432727 | J587: 1216 | K587: 1221 | L587: 1195.75 | M587: 1200.5 | N587: 1222.75 | O587: 1227.25 | P587: 1201.5 | Q587: 1206.5 | R587: 1223.46 | S587: 1229.64 | T587: 1206.31 | U587: 1209.88 | V587: 0.07 | W587: 0.07 | X587: 0.07 | Y587: 0.07 | Z587: NaN | AA587: NaN | AB587: NaN | AC587: NaN | AD587: 98.808945 | AE587: 99.374121 | AF587: 97.460604 | AG587: 97.799702 | AH587: NaN | AI587: NaN
A588: 1319117400 | B588: 2.2602979 | C588: 2.2959701 | D588: 2.1707132 | E588: 2.2704313 | F588: 2.2602979 | G588: 2.2959701 | H588: 2.1707132 | I588: 2.2704313 | J588: 1200.25 | K588: 1209.75 | L588: 1186.5 | M588: 1204 | N588: 1206.75 | O588: 1216.25 | P588: 1192.5 | Q588: 1210 | R588: 1209.92 | S588: 1219.53 | T588: 1197.34 | U588: 1215.39 | V588: 0.07 | W588: 0.07 | X588: 0.07 | Y588: 0.07 | Z588: NaN | AA588: NaN | AB588: NaN | AC588: NaN | AD588: 98.041912 | AE588: 98.582883 | AF588: 96.742023 | AG588: 98.227621 | AH588: NaN | AI588: NaN
A589: 1319203800 | B589: 2.3523148 | C589: 2.4086605 | D589: 2.3312649 | E589: 2.3989309 | F589: 2.3523148 | G589: 2.4086605 | H589: 2.3312649 | I589: 2.3989309 | J589: 1202.5 | K589: 1229.75 | L589: 1202.5 | M589: 1229 | N589: 1208.75 | O589: 1235.75 | P589: 1208 | Q589: 1235.25 | R589: 1215.39 | S589: 1239.03 | T589: 1215.39 | U589: 1238.25 | V589: 0.07 | W589: 0.07 | X589: 0.07 | Y589: 0.07 | Z589: NaN | AA589: NaN | AB589: NaN | AC589: NaN | AD589: 99.382195 | AE589: 100.21381 | AF589: 99.083459 | AG589: 100.0927 | AH589: NaN | AI589: NaN
A590: 1319463000 | B590: 2.4123078 | C590: 2.5067579 | D590: 2.4058236 | E590: 2.4929752 | F590: 2.4123078 | G590: 2.5067579 | H590: 2.4058236 | I590: 2.4929752 | J590: 1221 | K590: 1246.5 | L590: 1221 | M590: 1241 | N590: 1229.75 | O590: 1252.5 | P590: 1226.75 | Q590: 1247 | R590: 1238.72 | S590: 1256.55 | T590: 1238.72 | U590: 1254.19 | V590: 0.07 | W590: 0.07 | X590: 0.07 | Y590: 0.07 | Z590: NaN | AA590: NaN | AB590: NaN | AC590: NaN | AD590: 100.25418 | AE590: 101.57023 | AF590: 100.16537 | AG590: 101.31995 | AH590: NaN | AI590: NaN
A591: 1319549400 | B591: 2.4556822 | C591: 2.457304 | D591: 2.3283988 | E591: 2.3450193 | F591: 2.4556822 | G591: 2.457304 | H591: 2.3283988 | I591: 2.3450193 | J591: 1239.5 | K591: 1248 | L591: 1216.25 | M591: 1218.5 | N591: 1247 | O591: 1254.5 | P591: 1222.25 | Q591: 1224.5 | R591: 1253.86 | S591: 1253.86 | T591: 1226.79 | U591: 1229.05 | V591: 0.07 | W591: 0.07 | X591: 0.07 | Y591: 0.07 | Z591: NaN | AA591: NaN | AB591: NaN | AC591: NaN | AD591: 100.83551 | AE591: 100.88395 | AF591: 99.131903 | AG591: 99.349092 | AH591: NaN | AI591: NaN
A592: 1319635800 | B592: 2.4196053 | C592: 2.4414949 | D592: 2.2971862 | E592: 2.4155514 | F592: 2.4196053 | G592: 2.4414949 | H592: 2.2971862 | I592: 2.4155514 | J592: 1219 | K592: 1236 | L592: 1210.75 | M592: 1231.5 | N592: 1225 | O592: 1242.5 | P592: 1216.5 | Q592: 1237.5 | R592: 1229.17 | S592: 1246.28 | T592: 1221.06 | U592: 1242 | V592: 0.08 | W592: 0.08 | X592: 0.08 | Y592: 0.08 | Z592: NaN | AA592: NaN | AB592: NaN | AC592: NaN | AD592: 100.39952 | AE592: 100.73862 | AF592: 98.671696 | AG592: 100.35914 | AH592: NaN | AI592: NaN
... A603: 1320935400 | B603: 2.4074444 | C603: 2.4139306 | D603: 2.3072389 | E603: 2.3782584 | F603: 2.4074444 | G603: 2.4139306 | H603: 2.3072389 | I603: 2.3782584 | J603: 1220 | K603: 1239 | L603: 1212.5 | M603: 1231.5 | N603: 1226.25 | O603: 1245 | P603: 1218.25 | Q603: 1237.5 | R603: 1229.59 | S603: 1246.22 | T603: 1227.7 | U603: 1239.66 | V603: 0.08 | W603: 0.08 | X603: 0.08 | Y603: 0.08 | Z603: NaN | AA603: NaN | AB603: NaN | AC603: NaN | AD603: 100.75476 | AE603: 100.87588 | AF603: 99.325677 | AG603: 100.3753 | AH603: NaN | AI603: NaN
A604: 1321021800 | B604: 2.4646044 | C604: 2.5322957 | D604: 2.4637892 | E604: 2.5160819 | F604: 2.4646044 | G604: 2.5322957 | H604: 2.4637892 | I604: 2.5160819 | J604: 1233 | K604: 1258.5 | L604: 1228 | M604: 1255.5 | N604: 1237.5 | O604: 1264.75 | P604: 1233.75 | Q604: 1261.5 | R604: 1240.12 | S604: 1266.98 | T604: 1240.12 | U604: 1263.85 | V604: NaN | W604: NaN | X604: NaN | Y604: NaN | Z604: NaN | AA604: NaN | AB604: NaN | AC604: NaN | AD604: 101.59446 | AE604: 102.53104 | AF604: 101.56215 | AG604: 102.26459 | AH604: NaN | AI604: NaN
A605: 1321281000 | B605: 2.4868958 | C605: 2.4958141 | D605: 2.410687 | E605: 2.4406845 | F605: 2.4868958 | G605: 2.4958141 | H605: 2.410687 | I605: 2.4406845 | J605: 1257.25 | K605: 1264.75 | L605: 1237.75 | M605: 1246.5 | N605: 1264.25 | O605: 1270.75 | P605: 1243.5 | Q605: 1252.5 | R605: 1263.85 | S605: 1263.85 | T605: 1246.68 | U605: 1251.78 | V605: 0.08 | W605: 0.08 | X605: 0.08 | Y605: 0.08 | Z605: NaN | AA605: NaN | AB605: NaN | AC605: NaN | AD605: 101.88512 | AE605: 102.90244 | AF605: 100.85973 | AG605: 101.29573 | AH605: NaN | AI605: NaN
A606: 1321367400 | B606: 2.4277122 | C606: 2.517691 | D606: 2.3993375 | E606: 2.4808144 | F606: 2.4277122 | G606: 2.517691 | H606: 2.3993375 | I606: 2.4808144 | J606: 1245.5 | K606: 1256 | L606: 1228.5 | M606: 1248 | N606: 1251.5 | O606: 1262.25 | P606: 1234 | Q606: 1254 | R606: 1251.7 | S606: 1264.25 | T606: 1244.34 | U606: 1257.81 | V606: 0.09 | W606: 0.09 | X606: 0.09 | Y606: 0.09 | Z606: NaN | AA606: NaN | AB606: NaN | AC606: NaN | AD606: 101.06158 | AE606: 102.33726 | AF606: 100.69825 | AG606: 101.79872 | AH606: NaN | AI606: NaN
A607: 1321453800 | B607: 2.4050123 | C607: 2.4929752 | D607: 2.350694 | E607: 2.3592066 | F607: 2.4050123 | G607: 2.4929752 | H607: 2.350694 | I607: 2.3592066 | J607: 1248.5 | K607: 1251.75 | L607: 1224.75 | M607: 1225 | N607: 1254.5 | O607: 1258.75 | P607: 1230.5 | Q607: 1231 | R607: 1257.81 | S607: 1259.61 | T607: 1235.67 | U607: 1236.91 | V607: 0.08 | W607: 0.08 | X607: 0.08 | Y607: 0.08 | Z607: NaN | AA607: NaN | AB607: NaN | AC607: NaN | AD607: 100.77091 | AE607: 102.00623 | AF607: 100.03618 | AG607: 100.18152 | AH607: NaN | AI607: NaN
A608: 1321540200 | B608: 2.3474505 | C608: 2.3640301 | D608: 2.19625 | E608: 2.246921 | F608: 2.3474505 | G608: 2.3640301 | H608: 2.19625 | I608: 2.246921 | J608: 1225.75 | K608: 1235.5 | L608: 1201.25 | M608: 1209 | N608: 1231.25 | O608: 1241.75 | P608: 1206.5 | Q608: 1214.75 | R608: 1236.56 | S608: 1237.73 | T608: 1209.43 | U608: 1216.13 | V608: 0.08 | W608: 0.08 | X608: 0.08 | Y608: 0.08 | Z608: NaN | AA608: NaN | AB608: NaN | AC608: NaN | AD608: 99.995823 | AE608: 100.24611 | AF608: 97.880441 | AG608: 98.586911 | AH608: NaN | AI608: NaN
A609: 1321626600 | B609: 2.2659727 | C609: 2.2805657 | D609: 2.2104384 | E609: 2.2367866 | F609: 2.2659727 | G609: 2.2805657 | H609: 2.2104384 | I609: 2.2367866 | J609: 1209.75 | K609: 1224 | L609: 1203 | M609: 1208 | N609: 1215 | O609: 1229.75 | P609: 1208.75 | Q609: 1214 | R609: 1216.19 | S609: 1223.51 | T609: 1211.36 | U609: 1215.65 | V609: 0.08 | W609: 0.08 | X609: 0.08 | Y609: 0.08 | Z609: NaN | AA609: NaN | AB609: NaN | AC609: NaN | AD609: 98.905832 | AE609: 99.107681 | AF609: 98.074216 | AG609: 98.48518 | AH609: NaN | AI609: NaN
A610: 1321885800 | B610: 2.1382836 | C610: 2.1484179 | D610: 2.0559953 | E610: 2.1078824 | F610: 2.1382836 | G610: 2.1484179 | H610: 2.0559953 | I610: 2.1078824 | J610: 1203.5 | K610: 1203.5 | L610: 1175 | M610: 1185 | N610: 1208 | O610: 1209 | P610: 1180.5 | Q610: 1190.75 | R610: 1215.62 | S610: 1215.62 | T610: 1183.16 | U610: 1192.98 | V610: 0.08 | W610: 0.08 | X610: 0.08 | Y610: 0.08 | Z610: NaN | AA610: NaN | AB610: NaN | AC610: NaN | AD610: 97.048825 | AE610: 97.169942 | AF610: 95.797355 | AG610: 96.613639 | AH610: NaN | AI610: NaN
A611: 1321972200 | B611: 2.0981527 | C611: 2.1338249 | D611: 2.0495102 | E611: 2.0851814 | F611: 2.0981527 | G611: 2.1338249 | H611: 2.0495102 | I611: 2.0851814 | J611: 1184 | K611: 1192.75 | L611: 1173.5 | M611: 1177 | N611: 1190.75 | O611: 1199 | P611: 1179.25 | Q611: 1182.75 | R611: 1192.98 | S611: 1196.81 | T611: 1181.65 | U611: 1188.04 | V611: 0.08 | W611: 0.08 | X611: 0.08 | Y611: 0.08 | Z611: NaN | AA611: NaN | AB611: NaN | AC611: NaN | AD611: 96.402901 | AE611: 96.968093 | AF611: 95.692402 | AG611: 96.233356 | AH611: NaN | AI611: NaN
A612: 1322058600 | B612: 2.02843 | C612: 2.0328897 | D612: 1.9473579 | E612: 1.9501958 | F612: 2.02843 | G612: 2.0328897 | H612: 1.9473579 | I612: 1.9501958 | J612: 1177 | K612: 1180 | L612: 1152.5 | M612: 1154 | N612: 1182.75 | O612: 1185 | P612: 1158.5 | Q612: 1160 | R612: 1187.48 | S612: 1187.48 | T612: 1161.79 | U612: 1161.79 | V612: 0.09 | W612: 0.09 | X612: 0.09 | Y612: 0.09 | Z612: NaN | AA612: NaN | AB612: NaN | AC612: NaN | AD612: 95.329083 | AE612: 96.233356 | AF612: 94.109909 | AG612: 94.109909 | AH612: NaN | AI612: NaN
A613: 1322231400 | B613: 1.9364141 | C613: 2.0037036 | D613: 1.929928 | E613: 1.929928 | F613: 1.9364141 | G613: 2.0037036 | H613: 1.929928 | I613: 1.929928 | J613: 1153.5 | K613: 1167.75 | L613: 1141.75 | M613: 1147.5 | N613: 1160.25 | O613: 1173.75 | P613: 1147.5 | Q613: 1153.5 | R613: 1161.41 | S613: 1172.66 | T613: 1158.66 | U613: 1158.67 | V613: 0.07 | W613: 0.07 | X613: 0.07 | Y613: 0.07 | Z613: NaN | AA613: NaN | AB613: NaN | AC613: NaN | AD613: 93.964578 | AE613: 95.030338 | AF613: 93.819247 | AG613: 93.932282 | AH613: NaN | AI613: NaN
A614: 1322490600 | B614: 2.0932767 | C614: 2.1265293 | D614: 2.0596037 | E614: 2.1034636 | F614: 2.0932767 | G614: 2.1265293 | H614: 2.0596037 | I614: 2.1034636 | J614: 1165.5 | K614: 1190 | L614: 1164 | M614: 1185.25 | N614: 1172 | O614: 1196.25 | P614: 1169.25 | Q614: 1191 | R614: 1158.67 | S614: 1197.35 | T614: 1158.67 | U614: 1192.55 | V614: 0.08 | W614: 0.08 | X614: 0.08 | Y614: 0.08 | Z614: NaN | AA614: NaN | AB614: NaN | AC614: NaN | AD614: 96.515936 | AE614: 97.032669 | AF614: 95.934628 | AG614: 96.65321 | AH614: NaN | AI614: NaN
A615: 1322577000 | B615: 2.1208536 | C615: 2.1642271 | D615: 2.0985584 | E615: 2.1200423 | F615: 2.1208536 | G615: 2.1642271 | H615: 2.0985584 | I615: 2.1200423 | J615: 1184.5 | K615: 1200 | L615: 1181 | M615: 1190.5 | N615: 1190.75 | O615: 1206 | P615: 1186.25 | Q615: 1196.5 | R615: 1192.56 | S615: 1203.67 | T615: 1191.8 | U615: 1195.19 | V615: 0.08 | W615: 0.08 | X615: 0.08 | Y615: 0.08 | Z615: NaN | AA615: NaN | AB615: NaN | AC615: NaN | AD615: 96.927716 | AE615: 97.694741 | AF615: 96.572462 | AG615: 96.927716 | AH615: NaN | AI615: NaN
A616: 1322663400 | B616: 2.3020496 | C616: 2.3940675 | D616: 2.2896377 | E616: 2.3835284 | F616: 2.3020496 | G616: 2.3940675 | H616: 2.2896377 | I616: 2.3835284 | J616: 1188 | K616: 1240.75 | L616: 1177.25 | M616: 1240 | N616: 1195 | O616: 1246.75 | P616: 1183 | Q616: 1246 | R616: 1196.72 | S616: 1247.11 | T616: 1196.72 | U616: 1246.96 | V616: 0.1 | W616: 0.1 | X616: 0.1 | Y616: 0.1 | Z616: NaN | AA616: NaN | AB616: NaN | AC616: NaN | AD616: 99.705161 | AE616: 101.10195 | AF616: 96.885005 | AG616: 100.91625 | AH616: NaN | AI616: NaN
... A830: 1349443800 | B830: 3.8968606 | C830: 3.91308 | D830: 3.7995404 | E830: 3.8303588 | F830: 3.8968606 | G830: 3.91308 | H830: 3.7995404 | I830: 3.8303588 | J830: 1449.25 | K830: 1459 | L830: 1444.75 | M830: 1448.75 | N830: 1455.75 | O830: 1466 | P830: 1451.25 | Q830: 1455.5 | R830: 1461.4 | S830: 1470.96 | T830: 1456.89 | U830: 1460.93 | V830: 0.15 | W830: 0.15 | X830: 0.15 | Y830: 0.15 | Z830: NaN | AA830: NaN | AB830: NaN | AC830: NaN | AD830: 121.15483 | AE830: 121.361 | AF830: 120.15696 | AG830: 120.51982 | AH830: NaN | AI830: NaN
A831: 1349703000 | B831: 3.7894025 | C831: 3.8129219 | D831: 3.7683161 | E831: 3.7894025 | F831: 3.7894025 | G831: 3.8129219 | H831: 3.7683161 | I831: 3.7894025 | J831: 1450 | K831: 1450 | L831: 1440.75 | M831: 1443 | N831: 1457.25 | O831: 1457.25 | P831: 1447.5 | Q831: 1449.75 | R831: 1460.93 | S831: 1460.93 | T831: 1453.1 | U831: 1455.88 | V831: NaN | W831: NaN | X831: NaN | Y831: NaN | Z831: NaN | AA831: NaN | AB831: NaN | AC831: NaN | AD831: 120.0745 | AE831: 120.50588 | AF831: 119.83533 | AG831: 120.10913 | AH831: NaN | AI831: NaN
A832: 1349789400 | B832: 3.7812928 | C832: 3.7946744 | D832: 3.6774843 | E832: 3.6803221 | F832: 3.7812928 | G832: 3.7946744 | H832: 3.6774843 | I832: 3.6803221 | J832: 1442.25 | K832: 1447.25 | L832: 1428.75 | M832: 1429 | N832: 1449.75 | O832: 1454.5 | P832: 1435.25 | Q832: 1436 | R832: 1455.9 | S832: 1455.9 | T832: 1441.18 | U832: 1441.48 | V832: 0.16 | W832: 0.16 | X832: 0.16 | Y832: 0.16 | Z832: NaN | AA832: NaN | AB832: NaN | AC832: NaN | AD832: 120.01676 | AE832: 120.11572 | AF832: 118.87869 | AG832: 118.91993 | AH832: NaN | AI832: NaN
...

Sheet QUANDL MULTPL SP500_DIV_YIELD_M
A1: time | B1: open | C1: high | D1: low | E1: close | F1: Volume | G1: Volume MA | J1: QUANDL:MULTPL/SP500_DIV_YIELD_MONTH
A2: -3121545600 | B2: 5.86 | C2: 5.86 | D2: 5.86 | E2: 5.86 | F2: NaN | G2: NaN
A3: -3119126400 | B3: 5.78 | C3: 5.78 | D3: 5.78 | E3: 5.78 | F3: NaN | G3: NaN
A4: -3116448000 | B4: 5.64 | C4: 5.64 | D4: 5.64 | E4: 5.64 | F4: NaN | G4: NaN
A5: -3113856000 | B5: 5.49 | C5: 5.49 | D5: 5.49 | E5: 5.49 | F5: NaN | G5: NaN
A6: -3111177600 | B6: 5.35 | C6: 5.35 | D6: 5.35 | E6: 5.35 | F6: NaN | G6: NaN
A7: -3108585600 | B7: 5.39 | C7: 5.39 | D7: 5.39 | E7: 5.39 | F7: NaN | G7: NaN
A8: -3105907200 | B8: 5.5 | C8: 5.5 | D8: 5.5 | E8: 5.5 | F8: NaN | G8: NaN
A9: -3103228800 | B9: 5.43 | C9: 5.43 | D9: 5.43 | E9: 5.43 | F9: NaN | G9: NaN
A10: -3100636800 | B10: 5.37 | C10: 5.37 | D10: 5.37 | E10: 5.37 | F10: NaN | G10: NaN
A11: -3097958400 | B11: 5.66 | C11: 5.66 | D11: 5.66 | E11: 5.66 | F11: NaN | G11: NaN
A12: -3095366400 | B12: 5.6 | C12: 5.6 | D12: 5.6 | E12: 5.6 | F12: NaN | G12: NaN
A13: -3092688000 | B13: 5.49 | C13: 5.49 | D13: 5.49 | E13: 5.49 | F13: NaN | G13: NaN
... A1853: 1675123200 | B1853: 1.75 | C1853: 1.75 | D1853: 1.75 | E1853: 1.75 | F1853: NaN | G1853: NaN
