Workbook

Sheet Chart
O1: Goal Seek Drag | P1: EFFR | Q1: Year
E2: Start | F2: 44197 | G2: Earliest Date Available is | J2: =Calc!Q7 -> 41444.562 | O2: 0.019039437 | P2: =AVERAGEIF(Calc!$P$7:$P$10000,Chart!$Q2,Calc!$W$7:$W$10000)/100 -> 0.01695498 | Q2: 2022
E3: End | F3: 44927 | G3: Lastest Date Available is | J3: =Calc!Q2426 -> 44953.604 | O3: 0.005628716 | P3: =AVERAGEIF(Calc!$P$7:$P$10000,Chart!$Q3,Calc!$W$7:$W$10000)/100 -> 0.00078809524 | Q3: 2021
E4: Effective Drag Annualized | F4: 0.024603345 | O4: 0.011309068 | P4: =AVERAGEIF(Calc!$P$7:$P$10000,Chart!$Q4,Calc!$W$7:$W$10000)/100 -> 0.0036280632 | Q4: 2020
E5: Return | O5: 0.056203476 | P5: =AVERAGEIF(Calc!$P$7:$P$10000,Chart!$Q5,Calc!$W$7:$W$10000)/100 -> 0.021581746 | Q5: 2019
O6: 0.014898169 | P6: =AVERAGEIF(Calc!$P$7:$P$10000,Chart!$Q6,Calc!$W$7:$W$10000)/100 -> 0.018330279 | Q6: 2018
O7: 0.010328537 | P7: =AVERAGEIF(Calc!$P$7:$P$10000,Chart!$Q7,Calc!$W$7:$W$10000)/100 -> 0.0013428571 | Q7: 2015

Sheet Calc
Y1: Leverage | Z1: 3
A6: time | B6: SPY ADJ close | C6: FEDFUNDS, FRED: Close | D6: SOFR | E6: UPRO, CBOE BZX: Close | F6: ES1!, CME_MINI: Close | G6: ES2!, CME_MINI: Close | H6: S&P 500 Dividend | I6: (1+ES2!/ES1!)^4-1+Dividend | J6: Date | K6: Days | L6: Goal Seek Daily | M6: EFFR Daily | N6: Futures/Dividend Calc Daily Fee | O6: SPY | P6: Year | Q6: Date | R6: UPRO ADJ Close | S6: 3X SPY ADJ Daily No Fee/Cost | T6: ="3X SPY ADJ daily return minus " & ROUND((1+Chart!$F$4)^(1/(365))-1,5)*100&"%" & " per calendar day." -> 3X SPY ADJ daily return minus 0.007% per calendar day. | U6: ="3X SPY ADJ daily return minus EFFR rate X2" -> 3X SPY ADJ daily return minus EFFR rate X2 | V6: ="3X SPY ADJ daily return minus 2*(ES2/ES1^4-1+Dividen) fee calc." -> 3X SPY ADJ daily return minus 2*(ES2/ES1^4-1+Dividen) fee calc. | W6: Fed Funds Most Recent | Y6: Date | Z6: UPRO ADJ Close | AA6: 3X SPY ADJ Daily No Additional Fee/Cost Subtracted | AB6: 3X SPY ADJ daily return with Goal Seek Drag | AC6: 3X SPY ADJ daily return minus daily EFFR rate X2 | AD6: 3X SPY ADJ daily return minus 2*(ES2/ES1^4-1+Dividend) fee calc. | AE6: (1+ES2!/ES1!)^4-1+S&P 500 Dividend | AF6: S&P 500 Dividend | AG6: Fed Funds
A7: 1371648600 | B7: =INDEX('Daily Data ADJ'!$1:$1048576,MATCH(Calc!$A7,'Daily Data ADJ'!$A:$A,0),MATCH("SPY, CBOE BZX: Close",'Daily Data ADJ'!$1:$1,0)) -> 136.35456 | C7: =INDEX('Daily Data ADJ'!$1:$1048576,MATCH(Calc!$A7,'Daily Data ADJ'!$A:$A,0),MATCH("EFFR, FRED: Close",'Daily Data ADJ'!$1:$1,0)) -> 0.1 | D7: =INDEX('Daily Data ADJ'!$1:$1048576,MATCH(Calc!$A7,'Daily Data ADJ'!$A:$A,1),MATCH("SOFR, FRED: Close",'Daily Data ADJ'!$1:$1,0)) -> NaN | E7: =INDEX('Daily Data ADJ'!$1:$1048576,MATCH(Calc!$A7,'Daily Data ADJ'!$A:$A,0),MATCH("UPRO, CBOE BZX: Close",'Daily Data ADJ'!$1:$1,0)) -> 5.3308093 | F7: =INDEX('Daily Data ADJ'!$1:$1048576,MATCH(Calc!$A7,'Daily Data ADJ'!$A:$A,0),MATCH("ES1!, CME_MINI: Close",'Daily Data ADJ'!$1:$1,0)) -> 1623.75 | G7: =INDEX('Daily Data ADJ'!$1:$1048576,MATCH(Calc!$A7,'Daily Data ADJ'!$A:$A,0),MATCH("ES2!, CME_MINI: Close",'Daily Data ADJ'!$1:$1,0)) -> 1617.25 | H7: =INDEX('QUANDL MULTPL SP500_DIV_YIELD_M'!$A:$G,MATCH(Calc!$A7,'QUANDL MULTPL SP500_DIV_YIELD_M'!$A:$A,1),MATCH('QUANDL MULTPL SP500_DIV_YIELD_M'!$E$1,'QUANDL MULTPL SP500_DIV_YIELD_M'!$A$1:$G$1,0)) -> 2.01 | I7: =(G7/F7)^4-1+H7/100 -> 0.0041835744 | J7: =A7/24/60/60+DATE(1970,1,1) -> 41444.562 | O7: =B7 -> 136.35456 | P7: =YEAR(Q7) -> 2013 | Q7: =J7 -> 41444.562 | R7: =IF(B8="",R6,IF(Q7>=Chart!$F$2,E7,0)) -> 0 | S7: =IF(B8="",S6,IFERROR(IF(AND(R7>0,R6=0),R7,(1+(B8/B7-1)*Calc!$Z$1)*S6),0)) -> 0 | T7: =IF(B8="",T6,IFERROR(IF(AND(R7>0,R6=0),R7,(1+(B8/B7-1)*Calc!$Z$1-L8)*T6),0)) -> 0 | U7: =IF(B8="",U6,IFERROR(IF(AND(R7>0,R6=0),R7,(1+(B8/B7-1)*Calc!$Z$1-M8*2)*U6),0)) -> 0 | V7: =IF(B8="",V6,IFERROR(IF(AND(R7>0,R6=0),R7,(1+(B8/B7-1)*Calc!$Z$1-N8*2)*V6),0)) -> 0 | W7: 0.09 | Y7: =IF(AND(Q7>=Chart!$F$2,Q7<=Chart!$F$3),Q7,#N/A) -> #N/A | Z7: =IF(AND(Q7>=Chart!$F$2,Q7<=Chart!$F$3),R7,#N/A) -> #N/A | AA7: =IF(AND(Q7>=Chart!$F$2,Q7<=Chart!$F$3),S7,#N/A) -> #N/A | AB7: =IF(AND(Q7>=Chart!$F$2,Q7<=Chart!$F$3),T7,#N/A) -> #N/A | AC7: =IF(AND(Q7>=Chart!$F$2,Q7<=Chart!$F$3),U7,#N/A) -> #N/A | AD7: =IF(AND(Q7>=Chart!$F$2,Q7<=Chart!$F$3),V7,#N/A) -> #N/A | AE7: =IF(AND(Q7>=Chart!$F$2,Q7<=Chart!$F$3),I7,#N/A) -> #N/A | AF7: =IF(AND(Q7>=Chart!$F$2,Q7<=Chart!$F$3),H7/100,#N/A) -> #N/A | AG7: =IF(AND(Q7>=Chart!$F$2,Q7<=Chart!$F$3),W7/100,#N/A) -> #N/A
A8: 1371735000 | B8: =INDEX('Daily Data ADJ'!$1:$1048576,MATCH(Calc!$A8,'Daily Data ADJ'!$A:$A,0),MATCH("SPY, CBOE BZX: Close",'Daily Data ADJ'!$1:$1,0)) -> 132.97593 | C8: =INDEX('Daily Data ADJ'!$1:$1048576,MATCH(Calc!$A8,'Daily Data ADJ'!$A:$A,0),MATCH("EFFR, FRED: Close",'Daily Data ADJ'!$1:$1,0)) -> 0.1 | D8: =INDEX('Daily Data ADJ'!$1:$1048576,MATCH(Calc!$A8,'Daily Data ADJ'!$A:$A,1),MATCH("SOFR, FRED: Close",'Daily Data ADJ'!$1:$1,0)) -> NaN | E8: =INDEX('Daily Data ADJ'!$1:$1048576,MATCH(Calc!$A8,'Daily Data ADJ'!$A:$A,0),MATCH("UPRO, CBOE BZX: Close",'Daily Data ADJ'!$1:$1,0)) -> 4.9292318 | F8: =INDEX('Daily Data ADJ'!$1:$1048576,MATCH(Calc!$A8,'Daily Data ADJ'!$A:$A,0),MATCH("ES1!, CME_MINI: Close",'Daily Data ADJ'!$1:$1,0)) -> 1584 | G8: =INDEX('Daily Data ADJ'!$1:$1048576,MATCH(Calc!$A8,'Daily Data ADJ'!$A:$A,0),MATCH("ES2!, CME_MINI: Close",'Daily Data ADJ'!$1:$1,0)) -> 1577.5 | H8: =INDEX('QUANDL MULTPL SP500_DIV_YIELD_M'!$A:$G,MATCH(Calc!$A8,'QUANDL MULTPL SP500_DIV_YIELD_M'!$A:$A,1),MATCH('QUANDL MULTPL SP500_DIV_YIELD_M'!$E$1,'QUANDL MULTPL SP500_DIV_YIELD_M'!$A$1:$G$1,0)) -> 2.01 | I8: =(G8/F8)^4-1+H8/100 -> 0.0037866165 | J8: =A8/24/60/60+DATE(1970,1,1) -> 41445.562 | K8: =J8-J7 -> 1 | L8: =(1+Chart!$F$4)^(1/(365/K8))-1 -> 6.6592785e-05 | M8: =IFERROR((1+C8/100)^(1/(365/K8))-1,M7) -> 2.7383608e-06 | N8: =(1+I8)^(1/(365/K8))-1 -> 1.0354753e-05 | O8: =O7*(B8/B7) -> 132.97593 | P8: =YEAR(Q8) -> 2013 | Q8: =J8 -> 41445.562 | R8: =IF(B9="",R7,IF(Q8>=Chart!$F$2,E8,0)) -> 0 | S8: =IF(B9="",S7,IFERROR(IF(AND(R8>0,R7=0),R8,(1+(B9/B8-1)*Calc!$Z$1)*S7),0)) -> 0 | T8: =IF(B9="",T7,IFERROR(IF(AND(R8>0,R7=0),R8,(1+(B9/B8-1)*Calc!$Z$1-L9)*T7),0)) -> 0 | U8: =IF(B9="",U7,IFERROR(IF(AND(R8>0,R7=0),R8,(1+(B9/B8-1)*Calc!$Z$1-M9*2)*U7),0)) -> 0 | V8: =IF(B9="",V7,IFERROR(IF(AND(R8>0,R7=0),R8,(1+(B9/B8-1)*Calc!$Z$1-N9*2)*V7),0)) -> 0 | W8: =IF(ISNUMBER(C8),C8,W7) -> 0.1 | Y8: =IF(AND(Q8>=Chart!$F$2,Q8<=Chart!$F$3),Q8,#N/A) -> #N/A | Z8: =IF(AND(Q8>=Chart!$F$2,Q8<=Chart!$F$3),R8,#N/A) -> #N/A | AA8: =IF(AND(Q8>=Chart!$F$2,Q8<=Chart!$F$3),S8,#N/A) -> #N/A | AB8: =IF(AND(Q8>=Chart!$F$2,Q8<=Chart!$F$3),T8,#N/A) -> #N/A | AC8: =IF(AND(Q8>=Chart!$F$2,Q8<=Chart!$F$3),U8,#N/A) -> #N/A | AD8: =IF(AND(Q8>=Chart!$F$2,Q8<=Chart!$F$3),V8,#N/A) -> #N/A | AE8: =IF(AND(Q8>=Chart!$F$2,Q8<=Chart!$F$3),I8,#N/A) -> #N/A | AF8: =IF(AND(Q8>=Chart!$F$2,Q8<=Chart!$F$3),H8/100,#N/A) -> #N/A | AG8: =IF(AND(Q8>=Chart!$F$2,Q8<=Chart!$F$3),W8/100,#N/A) -> #N/A
A9: 1371821400 | B9: =INDEX('Daily Data ADJ'!$1:$1048576,MATCH(Calc!$A9,'Daily Data ADJ'!$A:$A,0),MATCH("SPY, CBOE BZX: Close",'Daily Data ADJ'!$1:$1,0)) -> 133.40291 | C9: =INDEX('Daily Data ADJ'!$1:$1048576,MATCH(Calc!$A9,'Daily Data ADJ'!$A:$A,0),MATCH("EFFR, FRED: Close",'Daily Data ADJ'!$1:$1,0)) -> 0.1 | D9: =INDEX('Daily Data ADJ'!$1:$1048576,MATCH(Calc!$A9,'Daily Data ADJ'!$A:$A,1),MATCH("SOFR, FRED: Close",'Daily Data ADJ'!$1:$1,0)) -> NaN | E9: =INDEX('Daily Data ADJ'!$1:$1048576,MATCH(Calc!$A9,'Daily Data ADJ'!$A:$A,0),MATCH("UPRO, CBOE BZX: Close",'Daily Data ADJ'!$1:$1,0)) -> 4.9697954 | F9: =INDEX('Daily Data ADJ'!$1:$1048576,MATCH(Calc!$A9,'Daily Data ADJ'!$A:$A,0),MATCH("ES1!, CME_MINI: Close",'Daily Data ADJ'!$1:$1,0)) -> 1584 | G9: =INDEX('Daily Data ADJ'!$1:$1048576,MATCH(Calc!$A9,'Daily Data ADJ'!$A:$A,0),MATCH("ES2!, CME_MINI: Close",'Daily Data ADJ'!$1:$1,0)) -> 1577.5 | H9: =INDEX('QUANDL MULTPL SP500_DIV_YIELD_M'!$A:$G,MATCH(Calc!$A9,'QUANDL MULTPL SP500_DIV_YIELD_M'!$A:$A,1),MATCH('QUANDL MULTPL SP500_DIV_YIELD_M'!$E$1,'QUANDL MULTPL SP500_DIV_YIELD_M'!$A$1:$G$1,0)) -> 2.01 | I9: =(G9/F9)^4-1+H9/100 -> 0.0037866165 | J9: =A9/24/60/60+DATE(1970,1,1) -> 41446.562 | K9: =J9-J8 -> 1 | L9: =(1+Chart!$F$4)^(1/(365/K9))-1 -> 6.6592785e-05 | M9: =IFERROR((1+C9/100)^(1/(365/K9))-1,M8) -> 2.7383608e-06 | N9: =(1+I9)^(1/(365/K9))-1 -> 1.0354753e-05 | O9: =O8*(B9/B8) -> 133.40291 | P9: =YEAR(Q9) -> 2013 | Q9: =J9 -> 41446.562 | R9: =IF(B10="",R8,IF(Q9>=Chart!$F$2,E9,0)) -> 0 | S9: =IF(B10="",S8,IFERROR(IF(AND(R9>0,R8=0),R9,(1+(B10/B9-1)*Calc!$Z$1)*S8),0)) -> 0 | T9: =IF(B10="",T8,IFERROR(IF(AND(R9>0,R8=0),R9,(1+(B10/B9-1)*Calc!$Z$1-L10)*T8),0)) -> 0 | U9: =IF(B10="",U8,IFERROR(IF(AND(R9>0,R8=0),R9,(1+(B10/B9-1)*Calc!$Z$1-M10*2)*U8),0)) -> 0 | V9: =IF(B10="",V8,IFERROR(IF(AND(R9>0,R8=0),R9,(1+(B10/B9-1)*Calc!$Z$1-N10*2)*V8),0)) -> 0 | W9: =IF(ISNUMBER(C9),C9,W8) -> 0.1 | Y9: =IF(AND(Q9>=Chart!$F$2,Q9<=Chart!$F$3),Q9,#N/A) -> #N/A | Z9: =IF(AND(Q9>=Chart!$F$2,Q9<=Chart!$F$3),R9,#N/A) -> #N/A | AA9: =IF(AND(Q9>=Chart!$F$2,Q9<=Chart!$F$3),S9,#N/A) -> #N/A | AB9: =IF(AND(Q9>=Chart!$F$2,Q9<=Chart!$F$3),T9,#N/A) -> #N/A | AC9: =IF(AND(Q9>=Chart!$F$2,Q9<=Chart!$F$3),U9,#N/A) -> #N/A | AD9: =IF(AND(Q9>=Chart!$F$2,Q9<=Chart!$F$3),V9,#N/A) -> #N/A | AE9: =IF(AND(Q9>=Chart!$F$2,Q9<=Chart!$F$3),I9,#N/A) -> #N/A | AF9: =IF(AND(Q9>=Chart!$F$2,Q9<=Chart!$F$3),H9/100,#N/A) -> #N/A | AG9: =IF(AND(Q9>=Chart!$F$2,Q9<=Chart!$F$3),W9/100,#N/A) -> #N/A
A10: 1372080600 | B10: =INDEX('Daily Data ADJ'!$1:$1048576,MATCH(Calc!$A10,'Daily Data ADJ'!$A:$A,0),MATCH("SPY, CBOE BZX: Close",'Daily Data ADJ'!$1:$1,0)) -> 131.71723 | C10: =INDEX('Daily Data ADJ'!$1:$1048576,MATCH(Calc!$A10,'Daily Data ADJ'!$A:$A,0),MATCH("EFFR, FRED: Close",'Daily Data ADJ'!$1:$1,0)) -> 0.1 | D10: =INDEX('Daily Data ADJ'!$1:$1048576,MATCH(Calc!$A10,'Daily Data ADJ'!$A:$A,1),MATCH("SOFR, FRED: Close",'Daily Data ADJ'!$1:$1,0)) -> NaN | E10: =INDEX('Daily Data ADJ'!$1:$1048576,MATCH(Calc!$A10,'Daily Data ADJ'!$A:$A,0),MATCH("UPRO, CBOE BZX: Close",'Daily Data ADJ'!$1:$1,0)) -> 4.7832063 | F10: =INDEX('Daily Data ADJ'!$1:$1048576,MATCH(Calc!$A10,'Daily Data ADJ'!$A:$A,0),MATCH("ES1!, CME_MINI: Close",'Daily Data ADJ'!$1:$1,0)) -> 1566.25 | G10: =INDEX('Daily Data ADJ'!$1:$1048576,MATCH(Calc!$A10,'Daily Data ADJ'!$A:$A,0),MATCH("ES2!, CME_MINI: Close",'Daily Data ADJ'!$1:$1,0)) -> 1559.75 | H10: =INDEX('QUANDL MULTPL SP500_DIV_YIELD_M'!$A:$G,MATCH(Calc!$A10,'QUANDL MULTPL SP500_DIV_YIELD_M'!$A:$A,1),MATCH('QUANDL MULTPL SP500_DIV_YIELD_M'!$E$1,'QUANDL MULTPL SP500_DIV_YIELD_M'!$A$1:$G$1,0)) -> 2.01 | I10: =(G10/F10)^4-1+H10/100 -> 0.0036028918 | J10: =A10/24/60/60+DATE(1970,1,1) -> 41449.562 | K10: =J10-J9 -> 3 | L10: =(1+Chart!$F$4)^(1/(365/K10))-1 -> 0.00019979166 | M10: =IFERROR((1+C10/100)^(1/(365/K10))-1,M9) -> 8.215105e-06 | N10: =(1+I10)^(1/(365/K10))-1 -> 2.9560028e-05 | O10: =O9*(B10/B9) -> 131.71723 | P10: =YEAR(Q10) -> 2013 | Q10: =J10 -> 41449.562 | R10: =IF(B11="",R9,IF(Q10>=Chart!$F$2,E10,0)) -> 0 | S10: =IF(B11="",S9,IFERROR(IF(AND(R10>0,R9=0),R10,(1+(B11/B10-1)*Calc!$Z$1)*S9),0)) -> 0 | T10: =IF(B11="",T9,IFERROR(IF(AND(R10>0,R9=0),R10,(1+(B11/B10-1)*Calc!$Z$1-L11)*T9),0)) -> 0 | U10: =IF(B11="",U9,IFERROR(IF(AND(R10>0,R9=0),R10,(1+(B11/B10-1)*Calc!$Z$1-M11*2)*U9),0)) -> 0 | V10: =IF(B11="",V9,IFERROR(IF(AND(R10>0,R9=0),R10,(1+(B11/B10-1)*Calc!$Z$1-N11*2)*V9),0)) -> 0 | W10: =IF(ISNUMBER(C10),C10,W9) -> 0.1 | Y10: =IF(AND(Q10>=Chart!$F$2,Q10<=Chart!$F$3),Q10,#N/A) -> #N/A | Z10: =IF(AND(Q10>=Chart!$F$2,Q10<=Chart!$F$3),R10,#N/A) -> #N/A | AA10: =IF(AND(Q10>=Chart!$F$2,Q10<=Chart!$F$3),S10,#N/A) -> #N/A | AB10: =IF(AND(Q10>=Chart!$F$2,Q10<=Chart!$F$3),T10,#N/A) -> #N/A | AC10: =IF(AND(Q10>=Chart!$F$2,Q10<=Chart!$F$3),U10,#N/A) -> #N/A | AD10: =IF(AND(Q10>=Chart!$F$2,Q10<=Chart!$F$3),V10,#N/A) -> #N/A | AE10: =IF(AND(Q10>=Chart!$F$2,Q10<=Chart!$F$3),I10,#N/A) -> #N/A | AF10: =IF(AND(Q10>=Chart!$F$2,Q10<=Chart!$F$3),H10/100,#N/A) -> #N/A | AG10: =IF(AND(Q10>=Chart!$F$2,Q10<=Chart!$F$3),W10/100,#N/A) -> #N/A
A11: 1372167000 | B11: =INDEX('Daily Data ADJ'!$1:$1048576,MATCH(Calc!$A11,'Daily Data ADJ'!$A:$A,0),MATCH("SPY, CBOE BZX: Close",'Daily Data ADJ'!$1:$1,0)) -> 132.98778 | C11: =INDEX('Daily Data ADJ'!$1:$1048576,MATCH(Calc!$A11,'Daily Data ADJ'!$A:$A,0),MATCH("EFFR, FRED: Close",'Daily Data ADJ'!$1:$1,0)) -> 0.09 | D11: =INDEX('Daily Data ADJ'!$1:$1048576,MATCH(Calc!$A11,'Daily Data ADJ'!$A:$A,1),MATCH("SOFR, FRED: Close",'Daily Data ADJ'!$1:$1,0)) -> NaN | E11: =INDEX('Daily Data ADJ'!$1:$1048576,MATCH(Calc!$A11,'Daily Data ADJ'!$A:$A,0),MATCH("UPRO, CBOE BZX: Close",'Daily Data ADJ'!$1:$1,0)) -> 4.9266774 | F11: =INDEX('Daily Data ADJ'!$1:$1048576,MATCH(Calc!$A11,'Daily Data ADJ'!$A:$A,0),MATCH("ES1!, CME_MINI: Close",'Daily Data ADJ'!$1:$1,0)) -> 1581.5 | G11: =INDEX('Daily Data ADJ'!$1:$1048576,MATCH(Calc!$A11,'Daily Data ADJ'!$A:$A,0),MATCH("ES2!, CME_MINI: Close",'Daily Data ADJ'!$1:$1,0)) -> 1575 | H11: =INDEX('QUANDL MULTPL SP500_DIV_YIELD_M'!$A:$G,MATCH(Calc!$A11,'QUANDL MULTPL SP500_DIV_YIELD_M'!$A:$A,1),MATCH('QUANDL MULTPL SP500_DIV_YIELD_M'!$E$1,'QUANDL MULTPL SP500_DIV_YIELD_M'!$A$1:$G$1,0)) -> 2.01 | I11: =(G11/F11)^4-1+H11/100 -> 0.0037609877 | J11: =A11/24/60/60+DATE(1970,1,1) -> 41450.562 | K11: =J11-J10 -> 1 | L11: =(1+Chart!$F$4)^(1/(365/K11))-1 -> 6.6592785e-05 | M11: =IFERROR((1+C11/100)^(1/(365/K11))-1,M10) -> 2.4646475e-06 | N11: =(1+I11)^(1/(365/K11))-1 -> 1.0284801e-05 | O11: =O10*(B11/B10) -> 132.98778 | P11: =YEAR(Q11) -> 2013 | Q11: =J11 -> 41450.562 | R11: =IF(B12="",R10,IF(Q11>=Chart!$F$2,E11,0)) -> 0 | S11: =IF(B12="",S10,IFERROR(IF(AND(R11>0,R10=0),R11,(1+(B12/B11-1)*Calc!$Z$1)*S10),0)) -> 0 | T11: =IF(B12="",T10,IFERROR(IF(AND(R11>0,R10=0),R11,(1+(B12/B11-1)*Calc!$Z$1-L12)*T10),0)) -> 0 | U11: =IF(B12="",U10,IFERROR(IF(AND(R11>0,R10=0),R11,(1+(B12/B11-1)*Calc!$Z$1-M12*2)*U10),0)) -> 0 | V11: =IF(B12="",V10,IFERROR(IF(AND(R11>0,R10=0),R11,(1+(B12/B11-1)*Calc!$Z$1-N12*2)*V10),0)) -> 0 | W11: =IF(ISNUMBER(C11),C11,W10) -> 0.09 | Y11: =IF(AND(Q11>=Chart!$F$2,Q11<=Chart!$F$3),Q11,#N/A) -> #N/A | Z11: =IF(AND(Q11>=Chart!$F$2,Q11<=Chart!$F$3),R11,#N/A) -> #N/A | AA11: =IF(AND(Q11>=Chart!$F$2,Q11<=Chart!$F$3),S11,#N/A) -> #N/A | AB11: =IF(AND(Q11>=Chart!$F$2,Q11<=Chart!$F$3),T11,#N/A) -> #N/A | AC11: =IF(AND(Q11>=Chart!$F$2,Q11<=Chart!$F$3),U11,#N/A) -> #N/A | AD11: =IF(AND(Q11>=Chart!$F$2,Q11<=Chart!$F$3),V11,#N/A) -> #N/A | AE11: =IF(AND(Q11>=Chart!$F$2,Q11<=Chart!$F$3),I11,#N/A) -> #N/A | AF11: =IF(AND(Q11>=Chart!$F$2,Q11<=Chart!$F$3),H11/100,#N/A) -> #N/A | AG11: =IF(AND(Q11>=Chart!$F$2,Q11<=Chart!$F$3),W11/100,#N/A) -> #N/A
A12: 1372253400 | B12: =INDEX('Daily Data ADJ'!$1:$1048576,MATCH(Calc!$A12,'Daily Data ADJ'!$A:$A,0),MATCH("SPY, CBOE BZX: Close",'Daily Data ADJ'!$1:$1,0)) -> 134.30025 | C12: =INDEX('Daily Data ADJ'!$1:$1048576,MATCH(Calc!$A12,'Daily Data ADJ'!$A:$A,0),MATCH("EFFR, FRED: Close",'Daily Data ADJ'!$1:$1,0)) -> 0.09 | D12: =INDEX('Daily Data ADJ'!$1:$1048576,MATCH(Calc!$A12,'Daily Data ADJ'!$A:$A,1),MATCH("SOFR, FRED: Close",'Daily Data ADJ'!$1:$1,0)) -> NaN | E12: =INDEX('Daily Data ADJ'!$1:$1048576,MATCH(Calc!$A12,'Daily Data ADJ'!$A:$A,0),MATCH("UPRO, CBOE BZX: Close",'Daily Data ADJ'!$1:$1,0)) -> 5.0659621 | F12: =INDEX('Daily Data ADJ'!$1:$1048576,MATCH(Calc!$A12,'Daily Data ADJ'!$A:$A,0),MATCH("ES1!, CME_MINI: Close",'Daily Data ADJ'!$1:$1,0)) -> 1595.5 | G12: =INDEX('Daily Data ADJ'!$1:$1048576,MATCH(Calc!$A12,'Daily Data ADJ'!$A:$A,0),MATCH("ES2!, CME_MINI: Close",'Daily Data ADJ'!$1:$1,0)) -> 1589.25 | H12: =INDEX('QUANDL MULTPL SP500_DIV_YIELD_M'!$A:$G,MATCH(Calc!$A12,'QUANDL MULTPL SP500_DIV_YIELD_M'!$A:$A,1),MATCH('QUANDL MULTPL SP500_DIV_YIELD_M'!$E$1,'QUANDL MULTPL SP500_DIV_YIELD_M'!$A$1:$G$1,0)) -> 2.01 | I12: =(G12/F12)^4-1+H12/100 -> 0.0045227604 | J12: =A12/24/60/60+DATE(1970,1,1) -> 41451.562 | K12: =J12-J11 -> 1 | L12: =(1+Chart!$F$4)^(1/(365/K12))-1 -> 6.6592785e-05 | M12: =IFERROR((1+C12/100)^(1/(365/K12))-1,M11) -> 2.4646475e-06 | N12: =(1+I12)^(1/(365/K12))-1 -> 1.2363264e-05 | O12: =O11*(B12/B11) -> 134.30025 | P12: =YEAR(Q12) -> 2013 | Q12: =J12 -> 41451.562 | R12: =IF(B13="",R11,IF(Q12>=Chart!$F$2,E12,0)) -> 0 | S12: =IF(B13="",S11,IFERROR(IF(AND(R12>0,R11=0),R12,(1+(B13/B12-1)*Calc!$Z$1)*S11),0)) -> 0 | T12: =IF(B13="",T11,IFERROR(IF(AND(R12>0,R11=0),R12,(1+(B13/B12-1)*Calc!$Z$1-L13)*T11),0)) -> 0 | U12: =IF(B13="",U11,IFERROR(IF(AND(R12>0,R11=0),R12,(1+(B13/B12-1)*Calc!$Z$1-M13*2)*U11),0)) -> 0 | V12: =IF(B13="",V11,IFERROR(IF(AND(R12>0,R11=0),R12,(1+(B13/B12-1)*Calc!$Z$1-N13*2)*V11),0)) -> 0 | W12: =IF(ISNUMBER(C12),C12,W11) -> 0.09 | Y12: =IF(AND(Q12>=Chart!$F$2,Q12<=Chart!$F$3),Q12,#N/A) -> #N/A | Z12: =IF(AND(Q12>=Chart!$F$2,Q12<=Chart!$F$3),R12,#N/A) -> #N/A | AA12: =IF(AND(Q12>=Chart!$F$2,Q12<=Chart!$F$3),S12,#N/A) -> #N/A | AB12: =IF(AND(Q12>=Chart!$F$2,Q12<=Chart!$F$3),T12,#N/A) -> #N/A | AC12: =IF(AND(Q12>=Chart!$F$2,Q12<=Chart!$F$3),U12,#N/A) -> #N/A | AD12: =IF(AND(Q12>=Chart!$F$2,Q12<=Chart!$F$3),V12,#N/A) -> #N/A | AE12: =IF(AND(Q12>=Chart!$F$2,Q12<=Chart!$F$3),I12,#N/A) -> #N/A | AF12: =IF(AND(Q12>=Chart!$F$2,Q12<=Chart!$F$3),H12/100,#N/A) -> #N/A | AG12: =IF(AND(Q12>=Chart!$F$2,Q12<=Chart!$F$3),W12/100,#N/A) -> #N/A
A13: 1372339800 | B13: =INDEX('Daily Data ADJ'!$1:$1048576,MATCH(Calc!$A13,'Daily Data ADJ'!$A:$A,0),MATCH("SPY, CBOE BZX: Close",'Daily Data ADJ'!$1:$1,0)) -> 135.08858 | C13: =INDEX('Daily Data ADJ'!$1:$1048576,MATCH(Calc!$A13,'Daily Data ADJ'!$A:$A,0),MATCH("EFFR, FRED: Close",'Daily Data ADJ'!$1:$1,0)) -> 0.09 | D13: =INDEX('Daily Data ADJ'!$1:$1048576,MATCH(Calc!$A13,'Daily Data ADJ'!$A:$A,1),MATCH("SOFR, FRED: Close",'Daily Data ADJ'!$1:$1,0)) -> NaN | E13: =INDEX('Daily Data ADJ'!$1:$1048576,MATCH(Calc!$A13,'Daily Data ADJ'!$A:$A,0),MATCH("UPRO, CBOE BZX: Close",'Daily Data ADJ'!$1:$1,0)) -> 5.162542 | F13: =INDEX('Daily Data ADJ'!$1:$1048576,MATCH(Calc!$A13,'Daily Data ADJ'!$A:$A,0),MATCH("ES1!, CME_MINI: Close",'Daily Data ADJ'!$1:$1,0)) -> 1606.5 | G13: =INDEX('Daily Data ADJ'!$1:$1048576,MATCH(Calc!$A13,'Daily Data ADJ'!$A:$A,0),MATCH("ES2!, CME_MINI: Close",'Daily Data ADJ'!$1:$1,0)) -> 1600.25 | H13: =INDEX('QUANDL MULTPL SP500_DIV_YIELD_M'!$A:$G,MATCH(Calc!$A13,'QUANDL MULTPL SP500_DIV_YIELD_M'!$A:$A,1),MATCH('QUANDL MULTPL SP500_DIV_YIELD_M'!$E$1,'QUANDL MULTPL SP500_DIV_YIELD_M'!$A$1:$G$1,0)) -> 2.01 | I13: =(G13/F13)^4-1+H13/100 -> 0.0046287978 | J13: =A13/24/60/60+DATE(1970,1,1) -> 41452.562 | K13: =J13-J12 -> 1 | L13: =(1+Chart!$F$4)^(1/(365/K13))-1 -> 6.6592785e-05 | M13: =IFERROR((1+C13/100)^(1/(365/K13))-1,M12) -> 2.4646475e-06 | N13: =(1+I13)^(1/(365/K13))-1 -> 1.2652458e-05 | O13: =O12*(B13/B12) -> 135.08858 | P13: =YEAR(Q13) -> 2013 | Q13: =J13 -> 41452.562 | R13: =IF(B14="",R12,IF(Q13>=Chart!$F$2,E13,0)) -> 0 | S13: =IF(B14="",S12,IFERROR(IF(AND(R13>0,R12=0),R13,(1+(B14/B13-1)*Calc!$Z$1)*S12),0)) -> 0 | T13: =IF(B14="",T12,IFERROR(IF(AND(R13>0,R12=0),R13,(1+(B14/B13-1)*Calc!$Z$1-L14)*T12),0)) -> 0 | U13: =IF(B14="",U12,IFERROR(IF(AND(R13>0,R12=0),R13,(1+(B14/B13-1)*Calc!$Z$1-M14*2)*U12),0)) -> 0 | V13: =IF(B14="",V12,IFERROR(IF(AND(R13>0,R12=0),R13,(1+(B14/B13-1)*Calc!$Z$1-N14*2)*V12),0)) -> 0 | W13: =IF(ISNUMBER(C13),C13,W12) -> 0.09 | Y13: =IF(AND(Q13>=Chart!$F$2,Q13<=Chart!$F$3),Q13,#N/A) -> #N/A | Z13: =IF(AND(Q13>=Chart!$F$2,Q13<=Chart!$F$3),R13,#N/A) -> #N/A | AA13: =IF(AND(Q13>=Chart!$F$2,Q13<=Chart!$F$3),S13,#N/A) -> #N/A | AB13: =IF(AND(Q13>=Chart!$F$2,Q13<=Chart!$F$3),T13,#N/A) -> #N/A | AC13: =IF(AND(Q13>=Chart!$F$2,Q13<=Chart!$F$3),U13,#N/A) -> #N/A | AD13: =IF(AND(Q13>=Chart!$F$2,Q13<=Chart!$F$3),V13,#N/A) -> #N/A | AE13: =IF(AND(Q13>=Chart!$F$2,Q13<=Chart!$F$3),I13,#N/A) -> #N/A | AF13: =IF(AND(Q13>=Chart!$F$2,Q13<=Chart!$F$3),H13/100,#N/A) -> #N/A | AG13: =IF(AND(Q13>=Chart!$F$2,Q13<=Chart!$F$3),W13/100,#N/A) -> #N/A
A14: 1372426200 | B14: =INDEX('Daily Data ADJ'!$1:$1048576,MATCH(Calc!$A14,'Daily Data ADJ'!$A:$A,0),MATCH("SPY, CBOE BZX: Close",'Daily Data ADJ'!$1:$1,0)) -> 134.53507 | C14: =INDEX('Daily Data ADJ'!$1:$1048576,MATCH(Calc!$A14,'Daily Data ADJ'!$A:$A,0),MATCH("EFFR, FRED: Close",'Daily Data ADJ'!$1:$1,0)) -> 0.07 | D14: =INDEX('Daily Data ADJ'!$1:$1048576,MATCH(Calc!$A14,'Daily Data ADJ'!$A:$A,1),MATCH("SOFR, FRED: Close",'Daily Data ADJ'!$1:$1,0)) -> NaN | E14: =INDEX('Daily Data ADJ'!$1:$1048576,MATCH(Calc!$A14,'Daily Data ADJ'!$A:$A,0),MATCH("UPRO, CBOE BZX: Close",'Daily Data ADJ'!$1:$1,0)) -> 5.0692101 | F14: =INDEX('Daily Data ADJ'!$1:$1048576,MATCH(Calc!$A14,'Daily Data ADJ'!$A:$A,0),MATCH("ES1!, CME_MINI: Close",'Daily Data ADJ'!$1:$1,0)) -> 1599.25 | G14: =INDEX('Daily Data ADJ'!$1:$1048576,MATCH(Calc!$A14,'Daily Data ADJ'!$A:$A,0),MATCH("ES2!, CME_MINI: Close",'Daily Data ADJ'!$1:$1,0)) -> 1593 | H14: =INDEX('QUANDL MULTPL SP500_DIV_YIELD_M'!$A:$G,MATCH(Calc!$A14,'QUANDL MULTPL SP500_DIV_YIELD_M'!$A:$A,1),MATCH('QUANDL MULTPL SP500_DIV_YIELD_M'!$E$1,'QUANDL MULTPL SP500_DIV_YIELD_M'!$A$1:$G$1,0)) -> 2.01 | I14: =(G14/F14)^4-1+H14/100 -> 0.0045590725 | J14: =A14/24/60/60+DATE(1970,1,1) -> 41453.562 | K14: =J14-J13 -> 1 | L14: =(1+Chart!$F$4)^(1/(365/K14))-1 -> 6.6592785e-05 | M14: =IFERROR((1+C14/100)^(1/(365/K14))-1,M13) -> 1.9171391e-06 | N14: =(1+I14)^(1/(365/K14))-1 -> 1.2462301e-05 | O14: =O13*(B14/B13) -> 134.53507 | P14: =YEAR(Q14) -> 2013 | Q14: =J14 -> 41453.562 | R14: =IF(B15="",R13,IF(Q14>=Chart!$F$2,E14,0)) -> 0 | S14: =IF(B15="",S13,IFERROR(IF(AND(R14>0,R13=0),R14,(1+(B15/B14-1)*Calc!$Z$1)*S13),0)) -> 0 | T14: =IF(B15="",T13,IFERROR(IF(AND(R14>0,R13=0),R14,(1+(B15/B14-1)*Calc!$Z$1-L15)*T13),0)) -> 0 | U14: =IF(B15="",U13,IFERROR(IF(AND(R14>0,R13=0),R14,(1+(B15/B14-1)*Calc!$Z$1-M15*2)*U13),0)) -> 0 | V14: =IF(B15="",V13,IFERROR(IF(AND(R14>0,R13=0),R14,(1+(B15/B14-1)*Calc!$Z$1-N15*2)*V13),0)) -> 0 | W14: =IF(ISNUMBER(C14),C14,W13) -> 0.07 | Y14: =IF(AND(Q14>=Chart!$F$2,Q14<=Chart!$F$3),Q14,#N/A) -> #N/A | Z14: =IF(AND(Q14>=Chart!$F$2,Q14<=Chart!$F$3),R14,#N/A) -> #N/A | AA14: =IF(AND(Q14>=Chart!$F$2,Q14<=Chart!$F$3),S14,#N/A) -> #N/A | AB14: =IF(AND(Q14>=Chart!$F$2,Q14<=Chart!$F$3),T14,#N/A) -> #N/A | AC14: =IF(AND(Q14>=Chart!$F$2,Q14<=Chart!$F$3),U14,#N/A) -> #N/A | AD14: =IF(AND(Q14>=Chart!$F$2,Q14<=Chart!$F$3),V14,#N/A) -> #N/A | AE14: =IF(AND(Q14>=Chart!$F$2,Q14<=Chart!$F$3),I14,#N/A) -> #N/A | AF14: =IF(AND(Q14>=Chart!$F$2,Q14<=Chart!$F$3),H14/100,#N/A) -> #N/A | AG14: =IF(AND(Q14>=Chart!$F$2,Q14<=Chart!$F$3),W14/100,#N/A) -> #N/A
A15: 1372685400 | B15: =INDEX('Daily Data ADJ'!$1:$1048576,MATCH(Calc!$A15,'Daily Data ADJ'!$A:$A,0),MATCH("SPY, CBOE BZX: Close",'Daily Data ADJ'!$1:$1,0)) -> 135.3234 | C15: =INDEX('Daily Data ADJ'!$1:$1048576,MATCH(Calc!$A15,'Daily Data ADJ'!$A:$A,0),MATCH("EFFR, FRED: Close",'Daily Data ADJ'!$1:$1,0)) -> 0.1 | D15: =INDEX('Daily Data ADJ'!$1:$1048576,MATCH(Calc!$A15,'Daily Data ADJ'!$A:$A,1),MATCH("SOFR, FRED: Close",'Daily Data ADJ'!$1:$1,0)) -> NaN | E15: =INDEX('Daily Data ADJ'!$1:$1048576,MATCH(Calc!$A15,'Daily Data ADJ'!$A:$A,0),MATCH("UPRO, CBOE BZX: Close",'Daily Data ADJ'!$1:$1,0)) -> 5.1844551 | F15: =INDEX('Daily Data ADJ'!$1:$1048576,MATCH(Calc!$A15,'Daily Data ADJ'!$A:$A,0),MATCH("ES1!, CME_MINI: Close",'Daily Data ADJ'!$1:$1,0)) -> 1606.75 | G15: =INDEX('Daily Data ADJ'!$1:$1048576,MATCH(Calc!$A15,'Daily Data ADJ'!$A:$A,0),MATCH("ES2!, CME_MINI: Close",'Daily Data ADJ'!$1:$1,0)) -> 1600.5 | H15: =INDEX('QUANDL MULTPL SP500_DIV_YIELD_M'!$A:$G,MATCH(Calc!$A15,'QUANDL MULTPL SP500_DIV_YIELD_M'!$A:$A,1),MATCH('QUANDL MULTPL SP500_DIV_YIELD_M'!$E$1,'QUANDL MULTPL SP500_DIV_YIELD_M'!$A$1:$G$1,0)) -> 2.06 | I15: =(G15/F15)^4-1+H15/100 -> 0.005131191 | J15: =A15/24/60/60+DATE(1970,1,1) -> 41456.562 | K15: =J15-J14 -> 3 | L15: =(1+Chart!$F$4)^(1/(365/K15))-1 -> 0.00019979166 | M15: =IFERROR((1+C15/100)^(1/(365/K15))-1,M14) -> 8.215105e-06 | N15: =(1+I15)^(1/(365/K15))-1 -> 4.2067224e-05 | O15: =O14*(B15/B14) -> 135.3234 | P15: =YEAR(Q15) -> 2013 | Q15: =J15 -> 41456.562 | R15: =IF(B16="",R14,IF(Q15>=Chart!$F$2,E15,0)) -> 0 | S15: =IF(B16="",S14,IFERROR(IF(AND(R15>0,R14=0),R15,(1+(B16/B15-1)*Calc!$Z$1)*S14),0)) -> 0 | T15: =IF(B16="",T14,IFERROR(IF(AND(R15>0,R14=0),R15,(1+(B16/B15-1)*Calc!$Z$1-L16)*T14),0)) -> 0 | U15: =IF(B16="",U14,IFERROR(IF(AND(R15>0,R14=0),R15,(1+(B16/B15-1)*Calc!$Z$1-M16*2)*U14),0)) -> 0 | V15: =IF(B16="",V14,IFERROR(IF(AND(R15>0,R14=0),R15,(1+(B16/B15-1)*Calc!$Z$1-N16*2)*V14),0)) -> 0 | W15: =IF(ISNUMBER(C15),C15,W14) -> 0.1 | Y15: =IF(AND(Q15>=Chart!$F$2,Q15<=Chart!$F$3),Q15,#N/A) -> #N/A | Z15: =IF(AND(Q15>=Chart!$F$2,Q15<=Chart!$F$3),R15,#N/A) -> #N/A | AA15: =IF(AND(Q15>=Chart!$F$2,Q15<=Chart!$F$3),S15,#N/A) -> #N/A | AB15: =IF(AND(Q15>=Chart!$F$2,Q15<=Chart!$F$3),T15,#N/A) -> #N/A | AC15: =IF(AND(Q15>=Chart!$F$2,Q15<=Chart!$F$3),U15,#N/A) -> #N/A | AD15: =IF(AND(Q15>=Chart!$F$2,Q15<=Chart!$F$3),V15,#N/A) -> #N/A | AE15: =IF(AND(Q15>=Chart!$F$2,Q15<=Chart!$F$3),I15,#N/A) -> #N/A | AF15: =IF(AND(Q15>=Chart!$F$2,Q15<=Chart!$F$3),H15/100,#N/A) -> #N/A | AG15: =IF(AND(Q15>=Chart!$F$2,Q15<=Chart!$F$3),W15/100,#N/A) -> #N/A
A16: 1372771800 | B16: =INDEX('Daily Data ADJ'!$1:$1048576,MATCH(Calc!$A16,'Daily Data ADJ'!$A:$A,0),MATCH("SPY, CBOE BZX: Close",'Daily Data ADJ'!$1:$1,0)) -> 135.19761 | C16: =INDEX('Daily Data ADJ'!$1:$1048576,MATCH(Calc!$A16,'Daily Data ADJ'!$A:$A,0),MATCH("EFFR, FRED: Close",'Daily Data ADJ'!$1:$1,0)) -> 0.1 | D16: =INDEX('Daily Data ADJ'!$1:$1048576,MATCH(Calc!$A16,'Daily Data ADJ'!$A:$A,1),MATCH("SOFR, FRED: Close",'Daily Data ADJ'!$1:$1,0)) -> NaN | E16: =INDEX('Daily Data ADJ'!$1:$1048576,MATCH(Calc!$A16,'Daily Data ADJ'!$A:$A,0),MATCH("UPRO, CBOE BZX: Close",'Daily Data ADJ'!$1:$1,0)) -> 5.1641655 | F16: =INDEX('Daily Data ADJ'!$1:$1048576,MATCH(Calc!$A16,'Daily Data ADJ'!$A:$A,0),MATCH("ES1!, CME_MINI: Close",'Daily Data ADJ'!$1:$1,0)) -> 1607.25 | G16: =INDEX('Daily Data ADJ'!$1:$1048576,MATCH(Calc!$A16,'Daily Data ADJ'!$A:$A,0),MATCH("ES2!, CME_MINI: Close",'Daily Data ADJ'!$1:$1,0)) -> 1601 | H16: =INDEX('QUANDL MULTPL SP500_DIV_YIELD_M'!$A:$G,MATCH(Calc!$A16,'QUANDL MULTPL SP500_DIV_YIELD_M'!$A:$A,1),MATCH('QUANDL MULTPL SP500_DIV_YIELD_M'!$E$1,'QUANDL MULTPL SP500_DIV_YIELD_M'!$A$1:$G$1,0)) -> 2.06 | I16: =(G16/F16)^4-1+H16/100 -> 0.0051359751 | J16: =A16/24/60/60+DATE(1970,1,1) -> 41457.562 | K16: =J16-J15 -> 1 | L16: =(1+Chart!$F$4)^(1/(365/K16))-1 -> 6.6592785e-05 | M16: =IFERROR((1+C16/100)^(1/(365/K16))-1,M15) -> 2.7383608e-06 | N16: =(1+I16)^(1/(365/K16))-1 -> 1.4035252e-05 | O16: =O15*(B16/B15) -> 135.19761 | P16: =YEAR(Q16) -> 2013 | Q16: =J16 -> 41457.562 | R16: =IF(B17="",R15,IF(Q16>=Chart!$F$2,E16,0)) -> 0 | S16: =IF(B17="",S15,IFERROR(IF(AND(R16>0,R15=0),R16,(1+(B17/B16-1)*Calc!$Z$1)*S15),0)) -> 0 | T16: =IF(B17="",T15,IFERROR(IF(AND(R16>0,R15=0),R16,(1+(B17/B16-1)*Calc!$Z$1-L17)*T15),0)) -> 0 | U16: =IF(B17="",U15,IFERROR(IF(AND(R16>0,R15=0),R16,(1+(B17/B16-1)*Calc!$Z$1-M17*2)*U15),0)) -> 0 | V16: =IF(B17="",V15,IFERROR(IF(AND(R16>0,R15=0),R16,(1+(B17/B16-1)*Calc!$Z$1-N17*2)*V15),0)) -> 0 | W16: =IF(ISNUMBER(C16),C16,W15) -> 0.1 | Y16: =IF(AND(Q16>=Chart!$F$2,Q16<=Chart!$F$3),Q16,#N/A) -> #N/A | Z16: =IF(AND(Q16>=Chart!$F$2,Q16<=Chart!$F$3),R16,#N/A) -> #N/A | AA16: =IF(AND(Q16>=Chart!$F$2,Q16<=Chart!$F$3),S16,#N/A) -> #N/A | AB16: =IF(AND(Q16>=Chart!$F$2,Q16<=Chart!$F$3),T16,#N/A) -> #N/A | AC16: =IF(AND(Q16>=Chart!$F$2,Q16<=Chart!$F$3),U16,#N/A) -> #N/A | AD16: =IF(AND(Q16>=Chart!$F$2,Q16<=Chart!$F$3),V16,#N/A) -> #N/A | AE16: =IF(AND(Q16>=Chart!$F$2,Q16<=Chart!$F$3),I16,#N/A) -> #N/A | AF16: =IF(AND(Q16>=Chart!$F$2,Q16<=Chart!$F$3),H16/100,#N/A) -> #N/A | AG16: =IF(AND(Q16>=Chart!$F$2,Q16<=Chart!$F$3),W16/100,#N/A) -> #N/A
A17: 1372858200 | B17: =INDEX('Daily Data ADJ'!$1:$1048576,MATCH(Calc!$A17,'Daily Data ADJ'!$A:$A,0),MATCH("SPY, CBOE BZX: Close",'Daily Data ADJ'!$1:$1,0)) -> 135.2563 | C17: =INDEX('Daily Data ADJ'!$1:$1048576,MATCH(Calc!$A17,'Daily Data ADJ'!$A:$A,0),MATCH("EFFR, FRED: Close",'Daily Data ADJ'!$1:$1,0)) -> 0.1 | D17: =INDEX('Daily Data ADJ'!$1:$1048576,MATCH(Calc!$A17,'Daily Data ADJ'!$A:$A,1),MATCH("SOFR, FRED: Close",'Daily Data ADJ'!$1:$1,0)) -> NaN | E17: =INDEX('Daily Data ADJ'!$1:$1048576,MATCH(Calc!$A17,'Daily Data ADJ'!$A:$A,0),MATCH("UPRO, CBOE BZX: Close",'Daily Data ADJ'!$1:$1,0)) -> 5.1803968 | F17: =INDEX('Daily Data ADJ'!$1:$1048576,MATCH(Calc!$A17,'Daily Data ADJ'!$A:$A,0),MATCH("ES1!, CME_MINI: Close",'Daily Data ADJ'!$1:$1,0)) -> 1609 | G17: =INDEX('Daily Data ADJ'!$1:$1048576,MATCH(Calc!$A17,'Daily Data ADJ'!$A:$A,0),MATCH("ES2!, CME_MINI: Close",'Daily Data ADJ'!$1:$1,0)) -> 1602.75 | H17: =INDEX('QUANDL MULTPL SP500_DIV_YIELD_M'!$A:$G,MATCH(Calc!$A17,'QUANDL MULTPL SP500_DIV_YIELD_M'!$A:$A,1),MATCH('QUANDL MULTPL SP500_DIV_YIELD_M'!$E$1,'QUANDL MULTPL SP500_DIV_YIELD_M'!$A$1:$G$1,0)) -> 2.06 | I17: =(G17/F17)^4-1+H17/100 -> 0.0051526962 | J17: =A17/24/60/60+DATE(1970,1,1) -> 41458.562 | K17: =J17-J16 -> 1 | L17: =(1+Chart!$F$4)^(1/(365/K17))-1 -> 6.6592785e-05 | M17: =IFERROR((1+C17/100)^(1/(365/K17))-1,M16) -> 2.7383608e-06 | N17: =(1+I17)^(1/(365/K17))-1 -> 1.4080829e-05 | O17: =O16*(B17/B16) -> 135.2563 | P17: =YEAR(Q17) -> 2013 | Q17: =J17 -> 41458.562 | R17: =IF(B18="",R16,IF(Q17>=Chart!$F$2,E17,0)) -> 0 | S17: =IF(B18="",S16,IFERROR(IF(AND(R17>0,R16=0),R17,(1+(B18/B17-1)*Calc!$Z$1)*S16),0)) -> 0 | T17: =IF(B18="",T16,IFERROR(IF(AND(R17>0,R16=0),R17,(1+(B18/B17-1)*Calc!$Z$1-L18)*T16),0)) -> 0 | U17: =IF(B18="",U16,IFERROR(IF(AND(R17>0,R16=0),R17,(1+(B18/B17-1)*Calc!$Z$1-M18*2)*U16),0)) -> 0 | V17: =IF(B18="",V16,IFERROR(IF(AND(R17>0,R16=0),R17,(1+(B18/B17-1)*Calc!$Z$1-N18*2)*V16),0)) -> 0 | W17: =IF(ISNUMBER(C17),C17,W16) -> 0.1 | Y17: =IF(AND(Q17>=Chart!$F$2,Q17<=Chart!$F$3),Q17,#N/A) -> #N/A | Z17: =IF(AND(Q17>=Chart!$F$2,Q17<=Chart!$F$3),R17,#N/A) -> #N/A | AA17: =IF(AND(Q17>=Chart!$F$2,Q17<=Chart!$F$3),S17,#N/A) -> #N/A | AB17: =IF(AND(Q17>=Chart!$F$2,Q17<=Chart!$F$3),T17,#N/A) -> #N/A | AC17: =IF(AND(Q17>=Chart!$F$2,Q17<=Chart!$F$3),U17,#N/A) -> #N/A | AD17: =IF(AND(Q17>=Chart!$F$2,Q17<=Chart!$F$3),V17,#N/A) -> #N/A | AE17: =IF(AND(Q17>=Chart!$F$2,Q17<=Chart!$F$3),I17,#N/A) -> #N/A | AF17: =IF(AND(Q17>=Chart!$F$2,Q17<=Chart!$F$3),H17/100,#N/A) -> #N/A | AG17: =IF(AND(Q17>=Chart!$F$2,Q17<=Chart!$F$3),W17/100,#N/A) -> #N/A
A18: 1373031000 | B18: =INDEX('Daily Data ADJ'!$1:$1048576,MATCH(Calc!$A18,'Daily Data ADJ'!$A:$A,0),MATCH("SPY, CBOE BZX: Close",'Daily Data ADJ'!$1:$1,0)) -> 136.71554 | C18: =INDEX('Daily Data ADJ'!$1:$1048576,MATCH(Calc!$A18,'Daily Data ADJ'!$A:$A,0),MATCH("EFFR, FRED: Close",'Daily Data ADJ'!$1:$1,0)) -> 0.1 | D18: =INDEX('Daily Data ADJ'!$1:$1048576,MATCH(Calc!$A18,'Daily Data ADJ'!$A:$A,1),MATCH("SOFR, FRED: Close",'Daily Data ADJ'!$1:$1,0)) -> NaN | E18: =INDEX('Daily Data ADJ'!$1:$1048576,MATCH(Calc!$A18,'Daily Data ADJ'!$A:$A,0),MATCH("UPRO, CBOE BZX: Close",'Daily Data ADJ'!$1:$1,0)) -> 5.3419046 | F18: =INDEX('Daily Data ADJ'!$1:$1048576,MATCH(Calc!$A18,'Daily Data ADJ'!$A:$A,0),MATCH("ES1!, CME_MINI: Close",'Daily Data ADJ'!$1:$1,0)) -> 1627.25 | G18: =INDEX('Daily Data ADJ'!$1:$1048576,MATCH(Calc!$A18,'Daily Data ADJ'!$A:$A,0),MATCH("ES2!, CME_MINI: Close",'Daily Data ADJ'!$1:$1,0)) -> 1621 | H18: =INDEX('QUANDL MULTPL SP500_DIV_YIELD_M'!$A:$G,MATCH(Calc!$A18,'QUANDL MULTPL SP500_DIV_YIELD_M'!$A:$A,1),MATCH('QUANDL MULTPL SP500_DIV_YIELD_M'!$E$1,'QUANDL MULTPL SP500_DIV_YIELD_M'!$A$1:$G$1,0)) -> 2.06 | I18: =(G18/F18)^4-1+H18/100 -> 0.0053249426 | J18: =A18/24/60/60+DATE(1970,1,1) -> 41460.562 | K18: =J18-J17 -> 2 | L18: =(1+Chart!$F$4)^(1/(365/K18))-1 -> 0.00013319 | M18: =IFERROR((1+C18/100)^(1/(365/K18))-1,M17) -> 5.4767292e-06 | N18: =(1+I18)^(1/(365/K18))-1 -> 2.9100781e-05 | O18: =O17*(B18/B17) -> 136.71554 | P18: =YEAR(Q18) -> 2013 | Q18: =J18 -> 41460.562 | R18: =IF(B19="",R17,IF(Q18>=Chart!$F$2,E18,0)) -> 0 | S18: =IF(B19="",S17,IFERROR(IF(AND(R18>0,R17=0),R18,(1+(B19/B18-1)*Calc!$Z$1)*S17),0)) -> 0 | T18: =IF(B19="",T17,IFERROR(IF(AND(R18>0,R17=0),R18,(1+(B19/B18-1)*Calc!$Z$1-L19)*T17),0)) -> 0 | U18: =IF(B19="",U17,IFERROR(IF(AND(R18>0,R17=0),R18,(1+(B19/B18-1)*Calc!$Z$1-M19*2)*U17),0)) -> 0 | V18: =IF(B19="",V17,IFERROR(IF(AND(R18>0,R17=0),R18,(1+(B19/B18-1)*Calc!$Z$1-N19*2)*V17),0)) -> 0 | W18: =IF(ISNUMBER(C18),C18,W17) -> 0.1 | Y18: =IF(AND(Q18>=Chart!$F$2,Q18<=Chart!$F$3),Q18,#N/A) -> #N/A | Z18: =IF(AND(Q18>=Chart!$F$2,Q18<=Chart!$F$3),R18,#N/A) -> #N/A | AA18: =IF(AND(Q18>=Chart!$F$2,Q18<=Chart!$F$3),S18,#N/A) -> #N/A | AB18: =IF(AND(Q18>=Chart!$F$2,Q18<=Chart!$F$3),T18,#N/A) -> #N/A | AC18: =IF(AND(Q18>=Chart!$F$2,Q18<=Chart!$F$3),U18,#N/A) -> #N/A | AD18: =IF(AND(Q18>=Chart!$F$2,Q18<=Chart!$F$3),V18,#N/A) -> #N/A | AE18: =IF(AND(Q18>=Chart!$F$2,Q18<=Chart!$F$3),I18,#N/A) -> #N/A | AF18: =IF(AND(Q18>=Chart!$F$2,Q18<=Chart!$F$3),H18/100,#N/A) -> #N/A | AG18: =IF(AND(Q18>=Chart!$F$2,Q18<=Chart!$F$3),W18/100,#N/A) -> #N/A
A19: 1373290200 | B19: =INDEX('Daily Data ADJ'!$1:$1048576,MATCH(Calc!$A19,'Daily Data ADJ'!$A:$A,0),MATCH("SPY, CBOE BZX: Close",'Daily Data ADJ'!$1:$1,0)) -> 137.4913 | C19: =INDEX('Daily Data ADJ'!$1:$1048576,MATCH(Calc!$A19,'Daily Data ADJ'!$A:$A,0),MATCH("EFFR, FRED: Close",'Daily Data ADJ'!$1:$1,0)) -> 0.1 | D19: =INDEX('Daily Data ADJ'!$1:$1048576,MATCH(Calc!$A19,'Daily Data ADJ'!$A:$A,1),MATCH("SOFR, FRED: Close",'Daily Data ADJ'!$1:$1,0)) -> NaN | E19: =INDEX('Daily Data ADJ'!$1:$1048576,MATCH(Calc!$A19,'Daily Data ADJ'!$A:$A,0),MATCH("UPRO, CBOE BZX: Close",'Daily Data ADJ'!$1:$1,0)) -> 5.4319905 | F19: =INDEX('Daily Data ADJ'!$1:$1048576,MATCH(Calc!$A19,'Daily Data ADJ'!$A:$A,0),MATCH("ES1!, CME_MINI: Close",'Daily Data ADJ'!$1:$1,0)) -> 1635.5 | G19: =INDEX('Daily Data ADJ'!$1:$1048576,MATCH(Calc!$A19,'Daily Data ADJ'!$A:$A,0),MATCH("ES2!, CME_MINI: Close",'Daily Data ADJ'!$1:$1,0)) -> 1629 | H19: =INDEX('QUANDL MULTPL SP500_DIV_YIELD_M'!$A:$G,MATCH(Calc!$A19,'QUANDL MULTPL SP500_DIV_YIELD_M'!$A:$A,1),MATCH('QUANDL MULTPL SP500_DIV_YIELD_M'!$E$1,'QUANDL MULTPL SP500_DIV_YIELD_M'!$A$1:$G$1,0)) -> 2.06 | I19: =(G19/F19)^4-1+H19/100 -> 0.0047972413 | J19: =A19/24/60/60+DATE(1970,1,1) -> 41463.562 | K19: =J19-J18 -> 3 | L19: =(1+Chart!$F$4)^(1/(365/K19))-1 -> 0.00019979166 | M19: =IFERROR((1+C19/100)^(1/(365/K19))-1,M18) -> 8.215105e-06 | N19: =(1+I19)^(1/(365/K19))-1 -> 3.933588e-05 | O19: =O18*(B19/B18) -> 137.4913 | P19: =YEAR(Q19) -> 2013 | Q19: =J19 -> 41463.562 | R19: =IF(B20="",R18,IF(Q19>=Chart!$F$2,E19,0)) -> 0 | S19: =IF(B20="",S18,IFERROR(IF(AND(R19>0,R18=0),R19,(1+(B20/B19-1)*Calc!$Z$1)*S18),0)) -> 0 | T19: =IF(B20="",T18,IFERROR(IF(AND(R19>0,R18=0),R19,(1+(B20/B19-1)*Calc!$Z$1-L20)*T18),0)) -> 0 | U19: =IF(B20="",U18,IFERROR(IF(AND(R19>0,R18=0),R19,(1+(B20/B19-1)*Calc!$Z$1-M20*2)*U18),0)) -> 0 | V19: =IF(B20="",V18,IFERROR(IF(AND(R19>0,R18=0),R19,(1+(B20/B19-1)*Calc!$Z$1-N20*2)*V18),0)) -> 0 | W19: =IF(ISNUMBER(C19),C19,W18) -> 0.1 | Y19: =IF(AND(Q19>=Chart!$F$2,Q19<=Chart!$F$3),Q19,#N/A) -> #N/A | Z19: =IF(AND(Q19>=Chart!$F$2,Q19<=Chart!$F$3),R19,#N/A) -> #N/A | AA19: =IF(AND(Q19>=Chart!$F$2,Q19<=Chart!$F$3),S19,#N/A) -> #N/A | AB19: =IF(AND(Q19>=Chart!$F$2,Q19<=Chart!$F$3),T19,#N/A) -> #N/A | AC19: =IF(AND(Q19>=Chart!$F$2,Q19<=Chart!$F$3),U19,#N/A) -> #N/A | AD19: =IF(AND(Q19>=Chart!$F$2,Q19<=Chart!$F$3),V19,#N/A) -> #N/A | AE19: =IF(AND(Q19>=Chart!$F$2,Q19<=Chart!$F$3),I19,#N/A) -> #N/A | AF19: =IF(AND(Q19>=Chart!$F$2,Q19<=Chart!$F$3),H19/100,#N/A) -> #N/A | AG19: =IF(AND(Q19>=Chart!$F$2,Q19<=Chart!$F$3),W19/100,#N/A) -> #N/A
... A2426: 1674829800 | B2426: =INDEX('Daily Data ADJ'!$1:$1048576,MATCH(Calc!$A2426,'Daily Data ADJ'!$A:$A,0),MATCH("SPY, CBOE BZX: Close",'Daily Data ADJ'!$1:$1,0)) -> 405.68 | C2426: =INDEX('Daily Data ADJ'!$1:$1048576,MATCH(Calc!$A2426,'Daily Data ADJ'!$A:$A,0),MATCH("EFFR, FRED: Close",'Daily Data ADJ'!$1:$1,0)) -> NaN | D2426: =INDEX('Daily Data ADJ'!$1:$1048576,MATCH(Calc!$A2426,'Daily Data ADJ'!$A:$A,1),MATCH("SOFR, FRED: Close",'Daily Data ADJ'!$1:$1,0)) -> NaN | E2426: =INDEX('Daily Data ADJ'!$1:$1048576,MATCH(Calc!$A2426,'Daily Data ADJ'!$A:$A,0),MATCH("UPRO, CBOE BZX: Close",'Daily Data ADJ'!$1:$1,0)) -> 38.55 | F2426: =INDEX('Daily Data ADJ'!$1:$1048576,MATCH(Calc!$A2426,'Daily Data ADJ'!$A:$A,0),MATCH("ES1!, CME_MINI: Close",'Daily Data ADJ'!$1:$1,0)) -> 4084.25 | G2426: =INDEX('Daily Data ADJ'!$1:$1048576,MATCH(Calc!$A2426,'Daily Data ADJ'!$A:$A,0),MATCH("ES2!, CME_MINI: Close",'Daily Data ADJ'!$1:$1,0)) -> 4120 | H2426: =INDEX('QUANDL MULTPL SP500_DIV_YIELD_M'!$A:$G,MATCH(Calc!$A2426,'QUANDL MULTPL SP500_DIV_YIELD_M'!$A:$A,1),MATCH('QUANDL MULTPL SP500_DIV_YIELD_M'!$E$1,'QUANDL MULTPL SP500_DIV_YIELD_M'!$A$1:$G$1,0)) -> 1.71 | I2426: =(G2426/F2426)^4-1+H2426/100 -> 0.052574941 | J2426: =A2426/24/60/60+DATE(1970,1,1) -> 44953.604 | K2426: =J2426-J2425 -> 1 | L2426: =(1+Chart!$F$4)^(1/(365/K2426))-1 -> 6.6592785e-05 | M2426: =IFERROR((1+C2426/100)^(1/(365/K2426))-1,M2425) -> 0.00011614035 | N2426: =(1+I2426)^(1/(365/K2426))-1 -> 0.00014039201 | O2426: =O2425*(B2426/B2425) -> 405.68 | P2426: =YEAR(Q2426) -> 2023 | Q2426: =J2426 -> 44953.604 | R2426: =IF(B2427="",R2425,IF(Q2426>=Chart!$F$2,E2426,0)) -> 38.27 | S2426: =IF(B2427="",S2425,IFERROR(IF(AND(R2426>0,R2425=0),R2426,(1+(B2427/B2426-1)*Calc!$Z$1)*S2425),0)) -> 41.35818 | T2426: =IF(B2427="",T2425,IFERROR(IF(AND(R2426>0,R2425=0),R2426,(1+(B2427/B2426-1)*Calc!$Z$1-L2427)*T2425),0)) -> 39.336128 | U2426: =IF(B2427="",U2425,IFERROR(IF(AND(R2426>0,R2425=0),R2426,(1+(B2427/B2426-1)*Calc!$Z$1-M2427*2)*U2425),0)) -> 39.700066 | V2426: =IF(B2427="",V2425,IFERROR(IF(AND(R2426>0,R2425=0),R2426,(1+(B2427/B2426-1)*Calc!$Z$1-N2427*2)*V2425),0)) -> 38.327773 | W2426: =IF(ISNUMBER(C2426),C2426,W2425) -> 4.33 | Y2426: =IF(AND(Q2426>=Chart!$F$2,Q2426<=Chart!$F$3),Q2426,#N/A) -> #N/A | Z2426: =IF(AND(Q2426>=Chart!$F$2,Q2426<=Chart!$F$3),R2426,#N/A) -> #N/A | AA2426: =IF(AND(Q2426>=Chart!$F$2,Q2426<=Chart!$F$3),S2426,#N/A) -> #N/A | AB2426: =IF(AND(Q2426>=Chart!$F$2,Q2426<=Chart!$F$3),T2426,#N/A) -> #N/A | AC2426: =IF(AND(Q2426>=Chart!$F$2,Q2426<=Chart!$F$3),U2426,#N/A) -> #N/A | AD2426: =IF(AND(Q2426>=Chart!$F$2,Q2426<=Chart!$F$3),V2426,#N/A) -> #N/A | AE2426: =IF(AND(Q2426>=Chart!$F$2,Q2426<=Chart!$F$3),I2426,#N/A) -> #N/A | AF2426: =IF(AND(Q2426>=Chart!$F$2,Q2426<=Chart!$F$3),H2426/100,#N/A) -> #N/A | AG2426: =IF(AND(Q2426>=Chart!$F$2,Q2426<=Chart!$F$3),W2426/100,#N/A) -> #N/A

Sheet Daily Data ADJ
A1: time | B1: open | C1: high | D1: low | E1: close | F1: UPRO, CBOE BZX: Open | G1: UPRO, CBOE BZX: High | H1: UPRO, CBOE BZX: Low | I1: UPRO, CBOE BZX: Close | J1: ES2!, CME_MINI: Open | K1: ES2!, CME_MINI: High | L1: ES2!, CME_MINI: Low | M1: ES2!, CME_MINI: Close | N1: ES1!, CME_MINI: Open | O1: ES1!, CME_MINI: High | P1: ES1!, CME_MINI: Low | Q1: ES1!, CME_MINI: Close | R1: SPX, SP: Open | S1: SPX, SP: High | T1: SPX, SP: Low | U1: SPX, SP: Close | V1: EFFR, FRED: Open | W1: EFFR, FRED: High | X1: EFFR, FRED: Low | Y1: EFFR, FRED: Close | Z1: SOFR, FRED: Open | AA1: SOFR, FRED: High | AB1: SOFR, FRED: Low | AC1: SOFR, FRED: Close | AD1: SPY, CBOE BZX: Open | AE1: SPY, CBOE BZX: High | AF1: SPY, CBOE BZX: Low | AG1: SPY, CBOE BZX: Close | AH1: Volume | AI1: Volume MA
A2: 1245936600 | B2: 1.0911143 | C2: 1.1726545 | D2: 1.0911143 | E2: 1.167945 | F2: 1.0911143 | G2: 1.1726545 | H2: 1.0911143 | I2: 1.167945 | J2: 893.25 | K2: 913.25 | L2: 886.5 | M2: 912.5 | N2: 898 | O2: 917.75 | P2: 891 | Q2: 916.5 | R2: 899.45 | S2: 921.42 | T2: 896.27 | U2: 920.26 | V2: 0.19 | W2: 0.19 | X2: 0.19 | Y2: 0.19 | Z2: NaN | AA2: NaN | AB2: NaN | AC2: NaN | AD2: 69.2818 | AE2: 71.213376 | AF2: 69.204544 | AG2: 71.14384 | AH2: NaN | AI2: NaN
A3: 1246023000 | B3: 1.1579886 | C3: 1.1752111 | D3: 1.1406303 | E3: 1.1618909 | F3: 1.1579886 | G3: 1.1752111 | H3: 1.1406303 | I3: 1.1618909 | J3: 912 | K3: 914.5 | L3: 904.5 | M3: 909.75 | N3: 917 | O3: 919 | P3: 908.5 | Q3: 914 | R3: 918.84 | S3: 922 | T3: 913.03 | U3: 918.9 | V3: 0.18 | W3: 0.18 | X3: 0.18 | Y3: 0.18 | Z3: NaN | AA3: NaN | AB3: NaN | AC3: NaN | AD3: 70.904324 | AE3: 71.267468 | AF3: 70.518009 | AG3: 70.958408 | AH3: NaN | AI3: NaN
A4: 1246282200 | B4: 1.1706364 | C4: 1.1975481 | D4: 1.1542208 | E4: 1.1948568 | F4: 1.1706364 | G4: 1.1975481 | H4: 1.1542208 | I4: 1.1948568 | J4: 908.5 | K4: 920 | L4: 903 | M4: 917 | N4: 913 | O4: 924 | P4: 907.25 | Q4: 921.25 | R4: 919.86 | S4: 927.99 | T4: 916.18 | U4: 927.23 | V4: 0.17 | W4: 0.17 | X4: 0.17 | Y4: 0.17 | Z4: NaN | AA4: NaN | AB4: NaN | AC4: NaN | AD4: 71.167019 | AE4: 71.715594 | AF4: 70.772985 | AG4: 71.622871 | AH4: NaN | AI4: NaN
A5: 1246368600 | B5: 1.1948568 | C5: 1.2045449 | D5: 1.1396886 | E5: 1.166331 | F5: 1.1948568 | G5: 1.2045449 | H5: 1.1396886 | I5: 1.166331 | J5: 917.25 | K5: 921.75 | L5: 904.5 | M5: 911.25 | N5: 921.5 | O5: 926.25 | P5: 908.25 | Q5: 915.5 | R5: 927.15 | S5: 930.01 | T5: 912.86 | U5: 919.32 | V5: 0.22 | W5: 0.22 | X5: 0.22 | Y5: 0.22 | Z5: NaN | AA5: NaN | AB5: NaN | AC5: NaN | AD5: 71.638323 | AE5: 71.901018 | AF5: 70.518009 | AG5: 71.043398 | AH5: NaN | AI5: NaN
A6: 1246455000 | B6: 1.1804592 | C6: 1.213829 | D6: 1.1757498 | E6: 1.1788442 | F6: 1.1804592 | G6: 1.213829 | H6: 1.1757498 | I6: 1.1788442 | J6: 911 | K6: 924 | L6: 909.75 | M6: 915 | N6: 915.5 | O6: 928.25 | P6: 913.5 | Q6: 919.25 | R6: 920.82 | S6: 931.92 | T6: 920.82 | U6: 923.33 | V6: 0.2 | W6: 0.2 | X6: 0.2 | Y6: 0.2 | Z6: NaN | AA6: NaN | AB6: NaN | AC6: NaN | AD6: 71.344724 | AE6: 72.032365 | AF6: 71.244289 | AG6: 71.336997 | AH6: NaN | AI6: NaN
A7: 1246541400 | B7: 1.1328265 | C7: 1.1333642 | D7: 1.0811568 | E7: 1.0815608 | F7: 1.1328265 | G7: 1.1333642 | H7: 1.0811568 | I7: 1.0815608 | J7: 914.5 | K7: 915.25 | L7: 889 | M7: 889 | N7: 919.25 | O7: 919.75 | P7: 892.75 | Q7: 893.25 | R7: 921.24 | S7: 921.24 | T7: 896.42 | U7: 896.42 | V7: 0.17 | W7: 0.17 | X7: 0.17 | Y7: 0.17 | Z7: NaN | AA7: NaN | AB7: NaN | AC7: NaN | AD7: 70.40984 | AE7: 71.362031 | AF7: 69.351329 | AG7: 69.389968 | AH7: NaN | AI7: NaN
A8: 1246887000 | B8: 1.0516894 | C8: 1.0857316 | D8: 1.0408435 | E8: 1.0845205 | F8: 1.0516894 | G8: 1.0857316 | H8: 1.0408435 | I8: 1.0845205 | J8: 886.25 | K8: 892 | L8: 877.75 | M8: 891 | N8: 892 | O8: 896.25 | P8: 882 | Q8: 895.5 | R8: 894.27 | S8: 898.72 | T8: 886.36 | U8: 898.72 | V8: 0.18 | W8: 0.18 | X8: 0.18 | Y8: 0.18 | Z8: NaN | AA8: NaN | AB8: NaN | AC8: NaN | AD8: 68.717779 | AE8: 69.482676 | AF8: 68.501442 | AG8: 69.382242 | AH8: NaN | AI8: NaN
A9: 1246973400 | B9: 1.0792735 | C9: 1.0819638 | D9: 1.0169739 | E9: 1.0169739 | F9: 1.0792735 | G9: 1.0819638 | H9: 1.0169739 | I9: 1.0169739 | J9: 891.25 | K9: 893.75 | L9: 871 | M9: 875 | N9: 895.75 | O9: 898.25 | P9: 875.25 | Q9: 879.25 | R9: 898.6 | S9: 898.6 | T9: 879.93 | U9: 881.03 | V9: 0.18 | W9: 0.18 | X9: 0.18 | Y9: 0.18 | Z9: NaN | AA9: NaN | AB9: NaN | AC9: NaN | AD9: 69.312713 | AE9: 69.397702 | AF9: 67.991506 | AG9: 68.037864 | AH9: NaN | AI9: NaN
A10: 1247059800 | B10: 1.0367532 | C10: 1.042943 | D10: 0.98225843 | E10: 1.0181849 | F10: 1.0367532 | G10: 1.042943 | H10: 0.98225843 | I10: 1.0181849 | J10: 874.75 | K10: 878.75 | L10: 861.25 | M10: 869.25 | N10: 879.5 | O10: 883.5 | P10: 865.25 | Q10: 873.75 | R10: 881.9 | S10: 886.8 | T10: 869.32 | U10: 879.56 | V10: 0.16 | W10: 0.16 | X10: 0.16 | Y10: 0.16 | Z10: NaN | AA10: NaN | AB10: NaN | AC10: NaN | AD10: 68.447358 | AE10: 68.609611 | AF10: 67.218875 | AG10: 67.991506 | AH10: NaN | AI10: NaN
A11: 1247146200 | B11: 1.0360809 | C11: 1.0479217 | D11: 1.0136092 | E11: 1.0245084 | F11: 1.0360809 | G11: 1.0479217 | H11: 1.0136092 | I11: 1.0245084 | J11: 869.25 | K11: 879.75 | L11: 869.25 | M11: 874.5 | N11: 874 | O11: 884.5 | P11: 873.75 | Q11: 879 | R11: 881.28 | S11: 887.86 | T11: 878.45 | U11: 882.68 | V11: 0.15 | W11: 0.15 | X11: 0.15 | Y11: 0.15 | Z11: NaN | AA11: NaN | AB11: NaN | AC11: NaN | AD11: 68.462811 | AE11: 68.686866 | AF11: 67.921969 | AG11: 68.122853 | AH11: NaN | AI11: NaN
A12: 1247232600 | B12: 1.0062094 | C12: 1.0324478 | D12: 0.99436763 | E12: 1.0146865 | F12: 1.0062094 | G12: 1.0324478 | H12: 0.99436763 | I12: 1.0146865 | J12: 874 | K12: 875.5 | L12: 864.75 | M12: 869.75 | N12: 878.75 | O12: 880.25 | P12: 868.75 | Q12: 874.25 | R12: 880.03 | S12: 883.57 | T12: 872.81 | U12: 879.13 | V12: 0.15 | W12: 0.15 | X12: 0.15 | Y12: 0.15 | Z12: NaN | AA12: NaN | AB12: NaN | AC12: NaN | AD12: 67.759717 | AE12: 68.370103 | AF12: 67.489304 | AG12: 67.960609 | AH12: NaN | AI12: NaN
A13: 1247491800 | B13: 1.0269304 | C13: 1.0905756 | D13: 1.0027372 | E13: 1.0888269 | F13: 1.0269304 | G13: 1.0905756 | H13: 1.0027372 | I13: 1.0888269 | J13: 871.5 | K13: 893 | L13: 861.5 | M13: 891.25 | N13: 874.75 | O13: 897.75 | P13: 865.5 | Q13: 895.5 | R13: 879.57 | S13: 901.05 | T13: 875.32 | U13: 901.05 | V13: 0.13 | W13: 0.13 | X13: 0.13 | Y13: 0.13 | Z13: NaN | AA13: NaN | AB13: NaN | AC13: NaN | AD13: 68.231022 | AE13: 69.668115 | AF13: 67.674728 | AG13: 69.615584 | AH13: NaN | AI13: NaN
... A76: 1255095000 | B76: 1.7892414 | C76: 1.8191271 | D76: 1.7756443 | E76: 1.8187229 | F76: 1.7892414 | G76: 1.8191271 | H76: 1.7756443 | I76: 1.8187229 | J76: 1059.5 | K76: 1064 | L76: 1054.25 | M76: 1063.5 | N76: 1063.25 | O76: 1068.5 | P76: 1058.5 | Q76: 1068 | R76: 1065.28 | S76: 1071.51 | T76: 1063 | U76: 1071.49 | V76: 0.12 | W76: 0.12 | X76: 0.12 | Y76: 0.12 | Z76: NaN | AA76: NaN | AB76: NaN | AC76: NaN | AD76: 82.786052 | AE76: 83.267358 | AF76: 82.568684 | AG76: 83.267358 | AH76: NaN | AI76: NaN
A77: 1255354200 | B77: 1.8465897 | C77: 1.8611289 | D77: 1.8206082 | E77: 1.8421475 | F77: 1.8465897 | G77: 1.8611289 | H77: 1.8206082 | I77: 1.8421475 | J77: 1064 | K77: 1071.75 | L77: 1063.25 | M77: 1067 | N77: 1067.75 | O77: 1076.75 | P77: 1067 | Q77: 1071.5 | R77: 1071.63 | S77: 1079.46 | T77: 1071.63 | U77: 1076.19 | V77: NaN | W77: NaN | X77: NaN | Y77: NaN | Z77: NaN | AA77: NaN | AB77: NaN | AC77: NaN | AD77: 83.655515 | AE77: 83.911706 | AF77: 83.282892 | AG77: 83.59341 | AH77: NaN | AI77: NaN
A78: 1255440600 | B78: 1.8255893 | C78: 1.8390506 | D78: 1.7935489 | E78: 1.83232 | F78: 1.8255893 | G78: 1.8390506 | H78: 1.7935489 | I78: 1.83232 | J78: 1064.75 | K78: 1069.5 | L78: 1058.75 | M78: 1064.25 | N78: 1071 | O78: 1074.25 | P78: 1063 | Q78: 1068.75 | R78: 1074.96 | S78: 1075.3 | T78: 1066.71 | U78: 1073.19 | V78: 0.12 | W78: 0.12 | X78: 0.12 | Y78: 0.12 | Z78: NaN | AA78: NaN | AB78: NaN | AC78: NaN | AD78: 83.368287 | AE78: 83.619191 | AF78: 82.879202 | AG78: 83.422636 | AH78: NaN | AI78: NaN
A79: 1255527000 | B79: 1.8935726 | C79: 1.9297848 | D79: 1.870148 | E79: 1.9254773 | F79: 1.8935726 | G79: 1.9297848 | H79: 1.870148 | I79: 1.9254773 | J79: 1069 | K79: 1085 | L79: 1068.75 | M79: 1083 | N79: 1072.75 | O79: 1089.75 | P79: 1072.75 | Q79: 1087.75 | R79: 1078.68 | S79: 1093.17 | T79: 1078.68 | U79: 1092.02 | V79: 0.12 | W79: 0.12 | X79: 0.12 | Y79: 0.12 | Z79: NaN | AA79: NaN | AB79: NaN | AC79: NaN | AD79: 84.400784 | AE79: 84.944203 | AF79: 83.389558 | AG79: 84.858808 | AH79: NaN | AI79: NaN
A80: 1255613400 | B80: 1.8970726 | C80: 1.9440545 | D80: 1.8933031 | E80: 1.9428439 | F80: 1.8970726 | G80: 1.9440545 | H80: 1.8933031 | I80: 1.9428439 | J80: 1083.25 | K80: 1088.25 | L80: 1076.25 | M80: 1085 | N80: 1087.5 | O80: 1093.25 | P80: 1080.5 | Q80: 1089.75 | R80: 1090.36 | S80: 1096.56 | T80: 1086.41 | U80: 1096.56 | V80: 0.13 | W80: 0.13 | X80: 0.13 | Y80: 0.13 | Z80: NaN | AA80: NaN | AB80: NaN | AC80: NaN | AD80: 84.447362 | AE80: 85.169341 | AF80: 84.408547 | AG80: 85.169341 | AH80: NaN | AI80: NaN
A81: 1255699800 | B81: 1.8972064 | C81: 1.9204962 | D81: 1.8657058 | E81: 1.9012454 | F81: 1.8972064 | G81: 1.9204962 | H81: 1.8657058 | I81: 1.9012454 | J81: 1085.25 | K81: 1090.25 | L81: 1073 | M81: 1077.25 | N81: 1090.25 | O81: 1095.5 | P81: 1077.5 | Q81: 1082 | R81: 1094.67 | S81: 1094.67 | T81: 1081.53 | U81: 1087.68 | V81: 0.12 | W81: 0.12 | X81: 0.12 | Y81: 0.12 | Z81: NaN | AA81: NaN | AB81: NaN | AC81: NaN | AD81: 84.462889 | AE81: 84.827756 | AF81: 84.02039 | AG81: 84.532757 | AH81: NaN | AI81: NaN
A82: 1255959000 | B82: 1.9102655 | C82: 1.9654591 | D82: 1.8937073 | E82: 1.9482282 | F82: 1.9102655 | G82: 1.9654591 | H82: 1.8937073 | I82: 1.9482282 | J82: 1075.25 | K82: 1092 | L82: 1072 | M82: 1086.5 | N82: 1080.25 | O82: 1096.75 | P82: 1076.25 | Q82: 1091 | R82: 1088.22 | S82: 1100.17 | T82: 1086.48 | U82: 1097.91 | V82: 0.12 | W82: 0.12 | X82: 0.12 | Y82: 0.12 | Z82: NaN | AA82: NaN | AB82: NaN | AC82: NaN | AD82: 84.672501 | AE82: 85.495385 | AF82: 84.408547 | AG82: 85.231431 | AH82: NaN | AI82: NaN
A83: 1256045400 | B83: 1.9576516 | C83: 1.9576516 | D83: 1.8888609 | E83: 1.9192846 | F83: 1.9576516 | G83: 1.9576516 | H83: 1.8888609 | I83: 1.9192846 | J83: 1089.5 | K83: 1093.75 | L83: 1077.75 | M83: 1084.75 | N83: 1089.75 | O83: 1099 | P83: 1082 | Q83: 1089.5 | R83: 1098.64 | S83: 1098.64 | T83: 1086.16 | U83: 1091.06 | V83: 0.12 | W83: 0.12 | X83: 0.12 | Y83: 0.12 | Z83: NaN | AA83: NaN | AB83: NaN | AC83: NaN | AD83: 85.355649 | AE83: 85.38282 | AF83: 84.369723 | AG83: 84.781953 | AH83: NaN | AI83: NaN
A84: 1256131800 | B84: 1.9056876 | C84: 1.9738056 | D84: 1.8613983 | E84: 1.8667827 | F84: 1.9056876 | G84: 1.9738056 | H84: 1.8613983 | I84: 1.8667827 | J84: 1083 | K84: 1093.5 | L84: 1068.25 | M84: 1073.25 | N84: 1089 | O84: 1098.5 | P84: 1072.5 | Q84: 1078 | R84: 1090.36 | S84: 1101.36 | T84: 1080.77 | U84: 1081.4 | V84: 0.11 | W84: 0.11 | X84: 0.11 | Y84: 0.11 | Z84: NaN | AA84: NaN | AB84: NaN | AC84: NaN | AD84: 84.649196 | AE84: 85.635122 | AF84: 83.958277 | AG84: 84.02039 | AH84: NaN | AI84: NaN
A85: 1256218200 | B85: 1.8631479 | C85: 1.9385355 | D85: 1.8267999 | E85: 1.920092 | F85: 1.8631479 | G85: 1.9385355 | H85: 1.8267999 | I85: 1.920092 | J85: 1072.5 | K85: 1087.25 | L85: 1066 | M85: 1086 | N85: 1076.5 | O85: 1092.25 | P85: 1070.25 | Q85: 1090.75 | R85: 1080.96 | S85: 1095.21 | T85: 1074.31 | U85: 1092.91 | V85: 0.11 | W85: 0.11 | X85: 0.11 | Y85: 0.11 | Z85: NaN | AA85: NaN | AB85: NaN | AC85: NaN | AD85: 83.989337 | AE85: 85.146037 | AF85: 83.453681 | AG85: 84.874335 | AH85: NaN | AI85: NaN
A86: 1256304600 | B86: 1.9413628 | C86: 1.9427092 | D86: 1.8319158 | E86: 1.8562825 | F86: 1.9413628 | G86: 1.9427092 | H86: 1.8319158 | I86: 1.8562825 | J86: 1086 | K86: 1090.25 | L86: 1067 | M86: 1072 | N86: 1090.5 | O86: 1095.25 | P86: 1071.5 | Q86: 1077 | R86: 1095.62 | S86: 1095.83 | T86: 1075.49 | U86: 1079.6 | V86: 0.11 | W86: 0.11 | X86: 0.11 | Y86: 0.11 | Z86: NaN | AA86: NaN | AB86: NaN | AC86: NaN | AD86: 85.153807 | AE86: 85.208142 | AF86: 83.554602 | AG86: 83.903943 | AH86: NaN | AI86: NaN
A87: 1256563800 | B87: 1.8608594 | C87: 1.9179296 | D87: 1.7792791 | E87: 1.7908572 | F87: 1.8608594 | G87: 1.9179296 | H87: 1.7792791 | I87: 1.7908572 | J87: 1070.75 | K87: 1083.5 | L87: 1056.75 | M87: 1061.5 | N87: 1076.5 | O87: 1088.5 | P87: 1061.25 | Q87: 1066.5 | R87: 1080.36 | S87: 1091.75 | T87: 1065.23 | U87: 1066.95 | V87: 0.11 | W87: 0.11 | X87: 0.11 | Y87: 0.11 | Z87: NaN | AA87: NaN | AB87: NaN | AC87: NaN | AD87: 83.997101 | AE87: 84.858808 | AF87: 82.762762 | AG87: 82.995656 | AH87: NaN | AI87: NaN
A88: 1256650200 | B88: 1.8018953 | C88: 1.8185882 | D88: 1.7577398 | E88: 1.7690484 | F88: 1.8018953 | G88: 1.8185882 | H88: 1.7577398 | I88: 1.7690484 | J88: 1060.75 | K88: 1064.5 | L88: 1052.5 | M88: 1055.5 | N88: 1066.25 | O88: 1069.75 | P88: 1057 | Q88: 1060.5 | R88: 1067.54 | S88: 1072.48 | T88: 1060.62 | U88: 1063.41 | V88: 0.11 | W88: 0.11 | X88: 0.11 | Y88: 0.11 | Z88: NaN | AA88: NaN | AB88: NaN | AC88: NaN | AD88: 83.088814 | AE88: 83.368287 | AF88: 82.413421 | AG88: 82.615263 | AH88: NaN | AI88: NaN
A89: 1256736600 | B89: 1.7562597 | C89: 1.7706632 | D89: 1.6659288 | E89: 1.6698331 | F89: 1.7562597 | G89: 1.7706632 | H89: 1.6659288 | I89: 1.6698331 | J89: 1057.75 | K89: 1058.25 | L89: 1033.25 | M89: 1033.5 | N89: 1061 | O89: 1063 | P89: 1038 | Q89: 1038.5 | R89: 1061.51 | S89: 1063.26 | T89: 1042.19 | U89: 1042.63 | V89: 0.11 | W89: 0.11 | X89: 0.11 | Y89: 0.11 | Z89: NaN | AA89: NaN | AB89: NaN | AC89: NaN | AD89: 82.405651 | AE89: 82.660522 | AF89: 81.008302 | AG89: 81.054873 | AH89: NaN | AI89: NaN
... A98: 1257863400 | B98: 1.902457 | C98: 1.9344965 | D98: 1.8845525 | E98: 1.914034 | F98: 1.902457 | G98: 1.9344965 | H98: 1.8845525 | I98: 1.914034 | J98: 1086.75 | K98: 1089.25 | L98: 1080.25 | M98: 1087 | N98: 1091.5 | O98: 1094.5 | P98: 1085 | Q98: 1092 | R98: 1091.86 | S98: 1096.42 | T98: 1087.4 | U98: 1093.01 | V98: 0.13 | W98: 0.13 | X98: 0.13 | Y98: 0.13 | Z98: NaN | AA98: NaN | AB98: NaN | AC98: NaN | AD98: 84.858808 | AE98: 85.340115 | AF98: 84.594862 | AG98: 85.076176 | AH98: NaN | AI98: NaN
A99: 1257949800 | B99: 1.953882 | C99: 1.9810751 | D99: 1.9183425 | E99: 1.9459398 | F99: 1.953882 | G99: 1.9810751 | H99: 1.9183425 | I99: 1.9459398 | J99: 1088.75 | K99: 1098.25 | L99: 1086.75 | M99: 1091.5 | N99: 1091.75 | O99: 1103.25 | P99: 1091.25 | Q99: 1096.25 | R99: 1096.04 | S99: 1105.37 | T99: 1093.81 | U99: 1098.51 | V99: NaN | W99: NaN | X99: NaN | Y99: NaN | Z99: NaN | AA99: NaN | AB99: NaN | AC99: NaN | AD99: 85.635122 | AE99: 86.031049 | AF99: 85.099465 | AG99: 85.510904 | AH99: NaN | AI99: NaN
A100: 1258036200 | B100: 1.937728 | C100: 1.9685559 | D100: 1.8716291 | E100: 1.8840145 | F100: 1.937728 | G100: 1.9685559 | H100: 1.8716291 | I100: 1.8840145 | J100: 1091.25 | K100: 1096 | L100: 1077.75 | M100: 1082.5 | N100: 1096 | O100: 1101 | P100: 1082.5 | Q100: 1087.25 | R100: 1098.31 | S100: 1101.97 | T100: 1084.9 | U100: 1087.24 | V100: 0.12 | W100: 0.12 | X100: 0.12 | Y100: 0.12 | Z100: NaN | AA100: NaN | AB100: NaN | AC100: NaN | AD100: 85.394465 | AE100: 85.836971 | AF100: 84.424073 | AG100: 84.641441 | AH100: NaN | AI100: NaN
A101: 1258122600 | B101: 1.9015148 | C101: 1.9413464 | D101: 1.8727059 | E101: 1.9183425 | F101: 1.9015148 | G101: 1.9413464 | H101: 1.8727059 | I101: 1.9183425 | J101: 1081.75 | K101: 1091.25 | L101: 1078.25 | M101: 1086.5 | N101: 1087.5 | O101: 1096 | P101: 1082.75 | Q101: 1091.5 | R101: 1087.59 | S101: 1097.79 | T101: 1085.33 | U101: 1093.48 | V101: 0.12 | W101: 0.12 | X101: 0.12 | Y101: 0.12 | Z101: NaN | AA101: NaN | AB101: NaN | AC101: NaN | AD101: 84.858808 | AE101: 85.464333 | AF101: 84.424073 | AG101: 85.099465 | AH101: NaN | AI101: NaN
A102: 1258381800 | B102: 1.9572474 | C102: 2.0256348 | D102: 1.9537473 | E102: 2.000326 | F102: 1.9572474 | G102: 2.0256348 | H102: 1.9537473 | I102: 2.000326 | J102: 1086.75 | K102: 1107 | L102: 1086.5 | M102: 1101.5 | N102: 1092 | O102: 1112.25 | P102: 1091 | Q102: 1106.25 | R102: 1094.13 | S102: 1113.69 | T102: 1094.13 | U102: 1109.3 | V102: 0.12 | W102: 0.12 | X102: 0.12 | Y102: 0.12 | Z102: NaN | AA102: NaN | AB102: NaN | AC102: NaN | AD102: 85.689464 | AE102: 86.706434 | AF102: 85.642893 | AG102: 86.333811 | AH102: NaN | AI102: NaN
A103: 1258468200 | B103: 1.9857868 | C103: 2.0092114 | D103: 1.9630369 | E103: 2.0075956 | F103: 1.9857868 | G103: 2.0092114 | H103: 1.9630369 | I103: 2.0075956 | J103: 1101.5 | K103: 1104 | L103: 1095.25 | M103: 1102.5 | N103: 1106.25 | O103: 1109 | P103: 1100 | Q103: 1107.5 | R103: 1109.22 | S103: 1110.52 | T103: 1102.19 | U103: 1110.32 | V103: 0.12 | W103: 0.12 | X103: 0.12 | Y103: 0.12 | Z103: NaN | AA103: NaN | AB103: NaN | AC103: NaN | AD103: 86.108673 | AE103: 86.47354 | AF103: 85.782621 | AG103: 86.433948 | AH103: NaN | AI103: NaN
A104: 1258554600 | B104: 2.0036913 | C104: 2.0123072 | D104: 1.9666707 | E104: 2.0049029 | F104: 2.0036913 | G104: 2.0123072 | H104: 1.9666707 | I104: 2.0049029 | J104: 1103 | K104: 1105.5 | L104: 1096.25 | M104: 1103.5 | N104: 1107.5 | O104: 1110.75 | P104: 1100.75 | Q104: 1108.5 | R104: 1109.43 | S104: 1111.1 | T104: 1102.7 | U104: 1109.8 | V104: 0.11 | W104: 0.11 | X104: 0.11 | Y104: 0.11 | Z104: NaN | AA104: NaN | AB104: NaN | AC104: NaN | AD104: 86.372612 | AE104: 86.504585 | AF104: 85.836971 | AG104: 86.380382 | AH104: NaN | AI104: NaN
A105: 1258641000 | B105: 1.9630369 | C105: 1.9650559 | D105: 1.8887262 | E105: 1.92615 | F105: 1.9630369 | G105: 1.9650559 | H105: 1.8887262 | I105: 1.92615 | J105: 1104.25 | K105: 1104.75 | L105: 1082 | M105: 1089.25 | N105: 1108.5 | O105: 1109.5 | P105: 1086.5 | Q105: 1094.25 | R105: 1106.43 | S105: 1106.43 | T105: 1088.4 | U105: 1094.9 | V105: 0.11 | W105: 0.11 | X105: 0.11 | Y105: 0.11 | Z105: NaN | AA105: NaN | AB105: NaN | AC105: NaN | AD105: 85.790377 | AE105: 86.408244 | AF105: 84.719072 | AG105: 85.254736 | AH105: NaN | AI105: NaN
A106: 1258727400 | B106: 1.8954568 | C106: 1.9214383 | D106: 1.882264 | E106: 1.9090539 | F106: 1.8954568 | G106: 1.9214383 | H106: 1.882264 | I106: 1.9090539 | J106: 1088.25 | K106: 1090 | L106: 1079 | M106: 1085 | N106: 1094 | O106: 1095 | P106: 1083.5 | Q106: 1090 | R106: 1094.66 | S106: 1094.66 | T106: 1086.81 | U106: 1091.38 | V106: 0.11 | W106: 0.11 | X106: 0.11 | Y106: 0.11 | Z106: NaN | AA106: NaN | AB106: NaN | AC106: NaN | AD106: 84.81223 | AE106: 85.208142 | AF106: 84.625907 | AG106: 84.951958 | AH106: NaN | AI106: NaN
A107: 1258986600 | B107: 1.9729981 | C107: 2.0195758 | D107: 1.9657285 | E107: 1.9798645 | F107: 1.9729981 | G107: 2.0195758 | H107: 1.9657285 | I107: 1.9798645 | J107: 1085 | K107: 1106.5 | L107: 1084.25 | M107: 1099 | N107: 1089.75 | O107: 1111.5 | P107: 1089 | Q107: 1103.75 | R107: 1094.86 | S107: 1112.38 | T107: 1094.86 | U107: 1106.24 | V107: 0.12 | W107: 0.12 | X107: 0.12 | Y107: 0.12 | Z107: NaN | AA107: NaN | AB107: NaN | AC107: NaN | AD107: 85.95341 | AE107: 86.745257 | AF107: 85.86026 | AG107: 86.031049 | AH107: NaN | AI107: NaN
A108: 1259073000 | B108: 1.9853836 | C108: 1.9935953 | D108: 1.9375933 | E108: 1.9849794 | F108: 1.9853836 | G108: 1.9935953 | H108: 1.9375933 | I108: 1.9849794 | J108: 1098 | K108: 1101.75 | L108: 1091.25 | M108: 1098.25 | N108: 1103.5 | O108: 1107 | P108: 1095 | Q108: 1103 | R108: 1105.82 | S108: 1107.56 | T108: 1097.63 | U108: 1105.65 | V108: 0.12 | W108: 0.12 | X108: 0.12 | Y108: 0.12 | Z108: NaN | AA108: NaN | AB108: NaN | AC108: NaN | AD108: 86.170778 | AE108: 86.327741 | AF108: 85.40222 | AG108: 86.163022 | AH108: NaN | AI108: NaN
A109: 1259159400 | B109: 1.9945374 | C109: 2.0132494 | D109: 1.9762287 | E109: 2.0054418 | F109: 1.9945374 | G109: 2.0132494 | H109: 1.9762287 | I109: 2.0054418 | J109: 1098.75 | K109: 1106.25 | L109: 1097.5 | M109: 1104 | N109: 1103.25 | O109: 1111.25 | P109: 1102.25 | Q109: 1109 | R109: 1106.49 | S109: 1111.18 | T109: 1104.75 | U109: 1110.63 | V109: 0.11 | W109: 0.11 | X109: 0.11 | Y109: 0.11 | Z109: NaN | AA109: NaN | AB109: NaN | AC109: NaN | AD109: 86.302751 | AE109: 86.558935 | AF109: 86.031049 | AG109: 86.465777 | AH109: NaN | AI109: NaN
A110: 1259332200 | B110: 1.8433581 | C110: 1.948363 | D110: 1.8385127 | E110: 1.9085217 | F110: 1.8433581 | G110: 1.948363 | H110: 1.8385127 | I110: 1.9085217 | J110: 1103.5 | K110: 1106.5 | L110: 1062.25 | M110: 1084.5 | N110: 1108.75 | O110: 1111.25 | P110: 1067 | Q110: 1089.5 | R110: 1105.47 | S110: 1105.47 | T110: 1083.74 | U110: 1091.49 | V110: 0.12 | W110: 0.12 | X110: 0.12 | Y110: 0.12 | Z110: NaN | AA110: NaN | AB110: NaN | AC110: NaN | AD110: 84.152355 | AE110: 85.642893 | AF110: 84.066961 | AG110: 85.060658 | AH110: NaN | AI110: NaN
...

Sheet QUANDL MULTPL SP500_DIV_YIELD_M
A1: time | B1: open | C1: high | D1: low | E1: close | F1: Volume | G1: Volume MA | J1: QUANDL:MULTPL/SP500_DIV_YIELD_MONTH
A2: -3121545600 | B2: 5.86 | C2: 5.86 | D2: 5.86 | E2: 5.86 | F2: NaN | G2: NaN
A3: -3119126400 | B3: 5.78 | C3: 5.78 | D3: 5.78 | E3: 5.78 | F3: NaN | G3: NaN
A4: -3116448000 | B4: 5.64 | C4: 5.64 | D4: 5.64 | E4: 5.64 | F4: NaN | G4: NaN
A5: -3113856000 | B5: 5.49 | C5: 5.49 | D5: 5.49 | E5: 5.49 | F5: NaN | G5: NaN
A6: -3111177600 | B6: 5.35 | C6: 5.35 | D6: 5.35 | E6: 5.35 | F6: NaN | G6: NaN
A7: -3108585600 | B7: 5.39 | C7: 5.39 | D7: 5.39 | E7: 5.39 | F7: NaN | G7: NaN
A8: -3105907200 | B8: 5.5 | C8: 5.5 | D8: 5.5 | E8: 5.5 | F8: NaN | G8: NaN
A9: -3103228800 | B9: 5.43 | C9: 5.43 | D9: 5.43 | E9: 5.43 | F9: NaN | G9: NaN
A10: -3100636800 | B10: 5.37 | C10: 5.37 | D10: 5.37 | E10: 5.37 | F10: NaN | G10: NaN
